BEGIN:VCALENDAR
VERSION:2.0
PRODID:-//KC Parent - ECPv6.15.18//NONSGML v1.0//EN
CALSCALE:GREGORIAN
METHOD:PUBLISH
X-ORIGINAL-URL:https://kcparent.com
X-WR-CALDESC:Events for KC Parent
REFRESH-INTERVAL;VALUE=DURATION:PT1H
X-Robots-Tag:noindex
X-PUBLISHED-TTL:PT1H
BEGIN:VTIMEZONE
TZID:America/Denver
BEGIN:DAYLIGHT
TZOFFSETFROM:-0700
TZOFFSETTO:-0600
TZNAME:MDT
DTSTART:20240310T090000
END:DAYLIGHT
BEGIN:STANDARD
TZOFFSETFROM:-0600
TZOFFSETTO:-0700
TZNAME:MST
DTSTART:20241103T080000
END:STANDARD
BEGIN:DAYLIGHT
TZOFFSETFROM:-0700
TZOFFSETTO:-0600
TZNAME:MDT
DTSTART:20250309T090000
END:DAYLIGHT
BEGIN:STANDARD
TZOFFSETFROM:-0600
TZOFFSETTO:-0700
TZNAME:MST
DTSTART:20251102T080000
END:STANDARD
BEGIN:DAYLIGHT
TZOFFSETFROM:-0700
TZOFFSETTO:-0600
TZNAME:MDT
DTSTART:20260308T090000
END:DAYLIGHT
BEGIN:STANDARD
TZOFFSETFROM:-0600
TZOFFSETTO:-0700
TZNAME:MST
DTSTART:20261101T080000
END:STANDARD
END:VTIMEZONE
BEGIN:VEVENT
DTSTART;TZID=America/Denver:20250607T090000
DTEND;TZID=America/Denver:20250607T143000
DTSTAMP:20260423T012146
CREATED:20250728T154612Z
LAST-MODIFIED:20250728T154612Z
UID:10002225-1749286800-1749306600@kcparent.com
SUMMARY:Reel in the fun: a guided fishing tour
DESCRIPTION:Join us for a relaxing day by the water! Led by a fishing enthusiast\, this expedition is for individuals of all experience levels\, no license needed! We will visit three locations and learn about catching baitfish\, reel fishing\, and different kinds of bait. We will provide poles and bait but you’re welcome to bring your own. The shuttle departs from Prairie Park Nature Center at 9 am and returns by 2:30 pm. Please note that a registered adult must accompany children under 16. Pack a sack lunch and grab your sunscreen for this fishing adventure!
URL:https://kcparent.com/event/reel-in-the-fun-a-guided-fishing-tour-2/
LOCATION:Missouri
CATEGORIES:Accessible,Outdoor
END:VEVENT
END:VCALENDAR