BEGIN:VCALENDAR
VERSION:2.0
PRODID:-//KC Parent - ECPv6.15.18//NONSGML v1.0//EN
CALSCALE:GREGORIAN
METHOD:PUBLISH
X-ORIGINAL-URL:https://kcparent.com
X-WR-CALDESC:Events for KC Parent
REFRESH-INTERVAL;VALUE=DURATION:PT1H
X-Robots-Tag:noindex
X-PUBLISHED-TTL:PT1H
BEGIN:VTIMEZONE
TZID:America/Denver
BEGIN:DAYLIGHT
TZOFFSETFROM:-0700
TZOFFSETTO:-0600
TZNAME:MDT
DTSTART:20250309T090000
END:DAYLIGHT
BEGIN:STANDARD
TZOFFSETFROM:-0600
TZOFFSETTO:-0700
TZNAME:MST
DTSTART:20251102T080000
END:STANDARD
BEGIN:DAYLIGHT
TZOFFSETFROM:-0700
TZOFFSETTO:-0600
TZNAME:MDT
DTSTART:20260308T090000
END:DAYLIGHT
BEGIN:STANDARD
TZOFFSETFROM:-0600
TZOFFSETTO:-0700
TZNAME:MST
DTSTART:20261101T080000
END:STANDARD
BEGIN:DAYLIGHT
TZOFFSETFROM:-0700
TZOFFSETTO:-0600
TZNAME:MDT
DTSTART:20270314T090000
END:DAYLIGHT
BEGIN:STANDARD
TZOFFSETFROM:-0600
TZOFFSETTO:-0700
TZNAME:MST
DTSTART:20271107T080000
END:STANDARD
END:VTIMEZONE
BEGIN:VEVENT
DTSTART;TZID=America/Denver:20260328T080000
DTEND;TZID=America/Denver:20260328T120000
DTSTAMP:20260425T183436
CREATED:20260317T213653Z
LAST-MODIFIED:20260322T110900Z
UID:10024962-1774684800-1774699200@kcparent.com
SUMMARY:Underwater Easter Egg Hunt
DESCRIPTION:Join the Gladstone Community Center in our 15th Annual Underwater Easter Egg Hunt. For the safety and enjoyment of our participants\, we organize our hunts into two age groups. Your age group will enjoy 45 minutes of play time in the pool with like-age participants. All participants must be accompanied by an adult dressed to be in the water with them.
URL:https://kcparent.com/event/underwater-easter-egg-hunt-4/
LOCATION:Gladstone Community Center\, 6901 N. Holmes St.\, Gladstone\, Missouri\, 64118\, United States
CATEGORIES:Easter Egg Hunt
ATTACH;FMTTYPE=image/png:https://kcparent.com/wp-content/uploads/2026/03/26-Underwater-Easter-Egg-Hunt-FB.png
END:VEVENT
BEGIN:VEVENT
DTSTART;TZID=America/Denver:20260328T140000
DTEND;TZID=America/Denver:20260329T160000
DTSTAMP:20260425T183436
CREATED:20260114T220940Z
LAST-MODIFIED:20260116T194320Z
UID:10019439-1774706400-1774800000@kcparent.com
SUMMARY:Westside Family Church Easter Egg Hunt – March 29
DESCRIPTION:Westside Family Church invites families throughout the community to a joy-filled Easter Egg Hunt on Sunday\, March 29\, from 2-4 PM. This event is a wonderful opportunity for families to gather\, enjoy fun activities\, and celebrate the true meaning of Easter together. The hunt will take place at both the Lenexa and Speedway campuses. Bring your baskets and join us for an afternoon of hope and community fun! For more information\, visit www.westsidefamily.church/events.
URL:https://kcparent.com/event/westside-family-church-easter-egg-hunt-march-29/
LOCATION:Westside Family Church\,  Woodsonia Drive\, 66227
CATEGORIES:Easter Egg Hunt
ATTACH;FMTTYPE=image/png:https://kcparent.com/wp-content/uploads/2026/01/EggHunt-Event_Graphic_optimized_250.png
END:VEVENT
BEGIN:VEVENT
DTSTART;TZID=America/Denver:20260328T180000
DTEND;TZID=America/Denver:20260328T193000
DTSTAMP:20260425T183436
CREATED:20260224T225543Z
LAST-MODIFIED:20260302T212507Z
UID:10023445-1774720800-1774726200@kcparent.com
SUMMARY:Underwater Easter Egg Hunt
DESCRIPTION:Search Blue Surf Bay indoor Waterpark for eggs and exchange them for prizes at Blue Springs Parks & Recreation’s second-annual Underwater Easter Egg Hunt! The fun begins at 6 p.m. for children ages 5 and under and continues from 6:30-7:30 p.m. for all ages.
URL:https://kcparent.com/event/underwater-easter-egg-hunt-3/
CATEGORIES:Easter Egg Hunt
ATTACH;FMTTYPE=image/jpeg:https://kcparent.com/wp-content/uploads/2026/02/DSC_8116-1-scaled.jpg
END:VEVENT
END:VCALENDAR