BEGIN:VCALENDAR
VERSION:2.0
PRODID:-//KC Parent - ECPv6.15.18//NONSGML v1.0//EN
CALSCALE:GREGORIAN
METHOD:PUBLISH
X-WR-CALNAME:KC Parent
X-ORIGINAL-URL:https://kcparent.com
X-WR-CALDESC:Events for KC Parent
REFRESH-INTERVAL;VALUE=DURATION:PT1H
X-Robots-Tag:noindex
X-PUBLISHED-TTL:PT1H
BEGIN:VTIMEZONE
TZID:America/Denver
BEGIN:DAYLIGHT
TZOFFSETFROM:-0700
TZOFFSETTO:-0600
TZNAME:MDT
DTSTART:20250309T090000
END:DAYLIGHT
BEGIN:STANDARD
TZOFFSETFROM:-0600
TZOFFSETTO:-0700
TZNAME:MST
DTSTART:20251102T080000
END:STANDARD
BEGIN:DAYLIGHT
TZOFFSETFROM:-0700
TZOFFSETTO:-0600
TZNAME:MDT
DTSTART:20260308T090000
END:DAYLIGHT
BEGIN:STANDARD
TZOFFSETFROM:-0600
TZOFFSETTO:-0700
TZNAME:MST
DTSTART:20261101T080000
END:STANDARD
BEGIN:DAYLIGHT
TZOFFSETFROM:-0700
TZOFFSETTO:-0600
TZNAME:MDT
DTSTART:20270314T090000
END:DAYLIGHT
BEGIN:STANDARD
TZOFFSETFROM:-0600
TZOFFSETTO:-0700
TZNAME:MST
DTSTART:20271107T080000
END:STANDARD
END:VTIMEZONE
BEGIN:VEVENT
DTSTART;TZID=America/Denver:20260405T160000
DTEND;TZID=America/Denver:20260405T180000
DTSTAMP:20260425T165201
CREATED:20260327T173439Z
LAST-MODIFIED:20260403T144033Z
UID:10025027-1775404800-1775412000@kcparent.com
SUMMARY:EASTER EGG HUNT WITH THE EASTER BUNNY
DESCRIPTION:Time for our annual Easter Egg Hunt with the Easter Bunny!! \nSunday\, April 5th!\nWe have two sessions with limited space both at 1:30 and 4pm! This year we changed it to two hours because 90 minutes was not enough! \nIncluded:\n2 hours of play\n🥨 Snacks & a fun Easter craft\n📸 A professional photo by @nomadcollective\n🥚 An exciting Easter Egg Hunt with a special golden egg hiding a FREE play pass & snack pass! (The hunt will be time-lapsed so little ones get a head start!) \n🎟 Admission:\n$18/child and 20% off for Members\n✅ FREE for adults\, siblings under 1 & kids over 7\n🎒 Don’t forget to bring your own basket! \nWe are a shoes-free facility. Socks are required for everyone. Drinks and food available for purchase. No outside drinks or peanut products allowed. \n📢 Reservations required. Tickets non-refundable. \nHappy Easter and Happy Hunting! \nDisclaimer: Last year we sold out!
URL:https://kcparent.com/event/easter-egg-hunt-with-the-easter-bunny/
LOCATION:MY Play Cafe-Northland KC\, 6529 N Cosby Ave\, Kansas City\, 64151
CATEGORIES:Easter Egg Hunt
ATTACH;FMTTYPE=image/jpeg:https://kcparent.com/wp-content/uploads/2026/03/MPC-Easter-11-of-41-scaled.jpg
END:VEVENT
END:VCALENDAR