BEGIN:VCALENDAR
VERSION:2.0
PRODID:-//KC Parent - ECPv6.15.18//NONSGML v1.0//EN
CALSCALE:GREGORIAN
METHOD:PUBLISH
X-ORIGINAL-URL:https://kcparent.com
X-WR-CALDESC:Events for KC Parent
REFRESH-INTERVAL;VALUE=DURATION:PT1H
X-Robots-Tag:noindex
X-PUBLISHED-TTL:PT1H
BEGIN:VTIMEZONE
TZID:America/Denver
BEGIN:DAYLIGHT
TZOFFSETFROM:-0700
TZOFFSETTO:-0600
TZNAME:MDT
DTSTART:20250309T090000
END:DAYLIGHT
BEGIN:STANDARD
TZOFFSETFROM:-0600
TZOFFSETTO:-0700
TZNAME:MST
DTSTART:20251102T080000
END:STANDARD
BEGIN:DAYLIGHT
TZOFFSETFROM:-0700
TZOFFSETTO:-0600
TZNAME:MDT
DTSTART:20260308T090000
END:DAYLIGHT
BEGIN:STANDARD
TZOFFSETFROM:-0600
TZOFFSETTO:-0700
TZNAME:MST
DTSTART:20261101T080000
END:STANDARD
BEGIN:DAYLIGHT
TZOFFSETFROM:-0700
TZOFFSETTO:-0600
TZNAME:MDT
DTSTART:20270314T090000
END:DAYLIGHT
BEGIN:STANDARD
TZOFFSETFROM:-0600
TZOFFSETTO:-0700
TZNAME:MST
DTSTART:20271107T080000
END:STANDARD
END:VTIMEZONE
BEGIN:VEVENT
DTSTART;TZID=America/Denver:20260502T081500
DTEND;TZID=America/Denver:20260502T103000
DTSTAMP:20260420T083903
CREATED:20260407T211315Z
LAST-MODIFIED:20260413T135805Z
UID:10025187-1777709700-1777717800@kcparent.com
SUMMARY:43rd Annual Kids' Fishing Derby
DESCRIPTION:Reel in the fun at the 43rd annual Kids’ Fishing Derby! Aspiring anglers ages 2 to 15 are invited to “seas the day” and show off their fishing skills in this FREE fin-tastic family event. Enjoy casting contests\, raffles\, and off-the-scales excitement as you compete for prizes awarded to the top three heaviest fish in each age group — 6 & under\, 7–10\, and 11–15. The first 200 participants will receive a free fishing pole thanks to our partners at Pure Fishing! Bring your own rod\, reel\, bait\, and a bucket for weighing your catch – no pre-registration required!
URL:https://kcparent.com/event/43rd-annual-kids-fishing-derby-3/
LOCATION:Lake Jacomo South Boat Dock\, 9201 Beach\, Kansas City\, Missouri\, 64064\, United States
CATEGORIES:Family
ATTACH;FMTTYPE=image/jpeg:https://kcparent.com/wp-content/uploads/2026/04/DSC_4643-scaled.jpg
END:VEVENT
BEGIN:VEVENT
DTSTART;TZID=America/Denver:20260502T103000
DTEND;TZID=America/Denver:20260502T113000
DTSTAMP:20260420T083903
CREATED:20251223T194834Z
LAST-MODIFIED:20251228T045948Z
UID:10017318-1777717800-1777721400@kcparent.com
SUMMARY:Turtle Yoga
DESCRIPTION:Enjoy a basic yoga practice with turtles! Breathe\, stretch\, and move the spine through a gentle standing and floor series designed to increase circulation\, relax the mind\, and boost endorphins with happy turtle encounters. The class will end with one-on-one turtle time! Please bring a yoga mat and water.
URL:https://kcparent.com/event/turtle-yoga-2/
LOCATION:Prairie Park Nature Center\, 2730 Harper St.\, Lawrence\, Kansas\, 66046\, United States
CATEGORIES:Family
ATTACH;FMTTYPE=image/png:https://kcparent.com/wp-content/uploads/2025/12/Turtle-Yoga2.png
END:VEVENT
BEGIN:VEVENT
DTSTART;TZID=America/Denver:20260516T100000
DTEND;TZID=America/Denver:20260516T113000
DTSTAMP:20260420T083903
CREATED:20251223T200006Z
LAST-MODIFIED:20251228T050059Z
UID:10017324-1778925600-1778931000@kcparent.com
SUMMARY:Enchanted Tea Party
DESCRIPTION:Join our woodland animals for an enchanted tea party at the nature center! Wear your favorite princess dress\, fairy outfit\, or whatever makes you feel magical! We will provide the enchanted animals\, cookies\, tea\, and other yummy snacks.
URL:https://kcparent.com/event/enchanted-tea-party/
LOCATION:Prairie Park Nature Center\, 2730 Harper St.\, Lawrence\, Kansas\, 66046\, United States
CATEGORIES:Family
ATTACH;FMTTYPE=image/png:https://kcparent.com/wp-content/uploads/2025/12/Enchanted-Tea-Party.png
END:VEVENT
END:VCALENDAR