BEGIN:VCALENDAR
VERSION:2.0
PRODID:-//KC Parent - ECPv6.15.18//NONSGML v1.0//EN
CALSCALE:GREGORIAN
METHOD:PUBLISH
X-WR-CALNAME:KC Parent
X-ORIGINAL-URL:https://kcparent.com
X-WR-CALDESC:Events for KC Parent
REFRESH-INTERVAL;VALUE=DURATION:PT1H
X-Robots-Tag:noindex
X-PUBLISHED-TTL:PT1H
BEGIN:VTIMEZONE
TZID:America/Denver
BEGIN:DAYLIGHT
TZOFFSETFROM:-0700
TZOFFSETTO:-0600
TZNAME:MDT
DTSTART:20250309T090000
END:DAYLIGHT
BEGIN:STANDARD
TZOFFSETFROM:-0600
TZOFFSETTO:-0700
TZNAME:MST
DTSTART:20251102T080000
END:STANDARD
BEGIN:DAYLIGHT
TZOFFSETFROM:-0700
TZOFFSETTO:-0600
TZNAME:MDT
DTSTART:20260308T090000
END:DAYLIGHT
BEGIN:STANDARD
TZOFFSETFROM:-0600
TZOFFSETTO:-0700
TZNAME:MST
DTSTART:20261101T080000
END:STANDARD
BEGIN:DAYLIGHT
TZOFFSETFROM:-0700
TZOFFSETTO:-0600
TZNAME:MDT
DTSTART:20270314T090000
END:DAYLIGHT
BEGIN:STANDARD
TZOFFSETFROM:-0600
TZOFFSETTO:-0700
TZNAME:MST
DTSTART:20271107T080000
END:STANDARD
END:VTIMEZONE
BEGIN:VEVENT
DTSTART;TZID=America/Denver:20260502T100000
DTEND;TZID=America/Denver:20260502T160000
DTSTAMP:20260420T161249
CREATED:20260326T185453Z
LAST-MODIFIED:20260327T141354Z
UID:10024995-1777716000-1777737600@kcparent.com
SUMMARY:JCCC's Remake Learning Days Festival
DESCRIPTION:Join us for a range of FREE hands-on educational activities as well as theatrical and musical performances\, led by JCCC faculty and community organizations for Remake Learning Days 2026. The program is geared towards children aged 4-12 but includes a variety of exciting activities for children of any age. This Science\, Technology\, Engineering\, Art and Math (STEAM) learning festival is completely FREE to the public!\nAll are welcome to attend!
URL:https://kcparent.com/event/jcccs-remake-learning-days-festival/
LOCATION:Midwest Trust Center\, 12345 College Blvd\, Overland Park\, Kansas\, United States
CATEGORIES:Festival
ATTACH;FMTTYPE=image/png:https://kcparent.com/wp-content/uploads/2026/03/637586_gr_1281_Remake-Learning-Days-Social-Media-Graphics_1_022426_1.png
END:VEVENT
BEGIN:VEVENT
DTSTART;TZID=America/Denver:20260509T090000
DTEND;TZID=America/Denver:20260509T140000
DTSTAMP:20260420T161249
CREATED:20260210T211849Z
LAST-MODIFIED:20260211T041746Z
UID:10021942-1778317200-1778335200@kcparent.com
SUMMARY:Downtown Abilene Cruise for Food Car Show
DESCRIPTION:Downtown Abilene Cruise for Food Car Show \nSaturday\, May 9\, 2026 – 9:00am \nDowntown Abilene Cruise for Food Car Show Returns May 9\, 2026! \nRev up your engines and join us for the Downtown Abilene Cruise for Food Car Show! \nSaturday\, May 9\, 2026 \nLittle Ike Park (3rd & Spruce\, Abilene\, KS) \n10 AM – 2 PM (Registration: 9 AM – 11 AM) \n$10 entry fee + non-perishable food item (benefiting Neighbor to Neighbor & the Abilene Area Food Pantry)\nGet ready for a day of classic cars\, cool rides\, and community giving! Whether you’re showing off your wheels or admiring the lineup\, this fan-favorite event is a must for car enthusiasts of all ages. Enjoy drawings\, cash prizes\, and a great atmosphere in the heart of historic Abilene. \nRegistration & Check-in:\nAmanda’s Bakery & Bistro (302 N Broadway)\n9 AM – 11 AM \nDon’t miss out on this exciting event that celebrates both classic cars and community support! \nLearn more: www.abilenekansas.org/antiquefest \nEvent Coordinator: Rod Riffel (785) 200-4133 \n3rd & Spruce\, Abilene\, Kansas
URL:https://kcparent.com/event/downtown-abilene-cruise-for-food-car-show/
LOCATION:Kansas
CATEGORIES:Festival
ATTACH;FMTTYPE=image/jpeg:https://kcparent.com/wp-content/uploads/2026/02/5-9-26-Car-Show.jpg
END:VEVENT
BEGIN:VEVENT
DTSTART;TZID=America/Denver:20260523T093000
DTEND;TZID=America/Denver:20260523T220000
DTSTAMP:20260420T161249
CREATED:20260403T174549Z
LAST-MODIFIED:20260407T195958Z
UID:10025170-1779528600-1779573600@kcparent.com
SUMMARY:School's Out Fest
DESCRIPTION:School’s Out Fest \nSaturday\, May 23\, 2026 \n9:30 am to 10 pm \nSchool’s out\, and the fun is in full swing! Kick off summer in Abilene\, Kansas\, with School’s Out Fest—a full day of family-friendly activities\, live music\, sidewalk chalk art\, and fantastic food and drinks in the heart of historic downtown. \nFood Trucks Noon – 10 pm\, Live Music 2 pm – 11 pm\, Family Activities 9:30 am – 7 pm. \nRacket’s Tap House\, 303 North Broadway Street\, Abilene\, Kansas. \nhttps://www.racketstaphouse.com\nracketstaphouse@gmail.com\n(785) 470-6315\nFacebook: Rackets Tap House
URL:https://kcparent.com/event/schools-out-fest/
LOCATION:Kansas
CATEGORIES:Festival
ATTACH;FMTTYPE=image/jpeg:https://kcparent.com/wp-content/uploads/2026/04/5-23-26-Schools-Out-Fest.jpg
END:VEVENT
END:VCALENDAR