BEGIN:VCALENDAR
VERSION:2.0
PRODID:-//KC Parent - ECPv6.15.18//NONSGML v1.0//EN
CALSCALE:GREGORIAN
METHOD:PUBLISH
X-WR-CALNAME:KC Parent
X-ORIGINAL-URL:https://kcparent.com
X-WR-CALDESC:Events for KC Parent
REFRESH-INTERVAL;VALUE=DURATION:PT1H
X-Robots-Tag:noindex
X-PUBLISHED-TTL:PT1H
BEGIN:VTIMEZONE
TZID:America/Denver
BEGIN:DAYLIGHT
TZOFFSETFROM:-0700
TZOFFSETTO:-0600
TZNAME:MDT
DTSTART:20250309T090000
END:DAYLIGHT
BEGIN:STANDARD
TZOFFSETFROM:-0600
TZOFFSETTO:-0700
TZNAME:MST
DTSTART:20251102T080000
END:STANDARD
BEGIN:DAYLIGHT
TZOFFSETFROM:-0700
TZOFFSETTO:-0600
TZNAME:MDT
DTSTART:20260308T090000
END:DAYLIGHT
BEGIN:STANDARD
TZOFFSETFROM:-0600
TZOFFSETTO:-0700
TZNAME:MST
DTSTART:20261101T080000
END:STANDARD
BEGIN:DAYLIGHT
TZOFFSETFROM:-0700
TZOFFSETTO:-0600
TZNAME:MDT
DTSTART:20270314T090000
END:DAYLIGHT
BEGIN:STANDARD
TZOFFSETFROM:-0600
TZOFFSETTO:-0700
TZNAME:MST
DTSTART:20271107T080000
END:STANDARD
END:VTIMEZONE
BEGIN:VEVENT
DTSTART;TZID=America/Denver:20260606T100000
DTEND;TZID=America/Denver:20260606T130000
DTSTAMP:20260420T181435
CREATED:20260413T144602Z
LAST-MODIFIED:20260420T161230Z
UID:10025474-1780740000-1780750800@kcparent.com
SUMMARY:Global Neighbors & Flavors Fest
DESCRIPTION:Saturday\, June 6 from 10 a.m. to 1 p.m. at the Lenexa Public Market\nFeast on cuisines\, performances and experiences from around the world at the Lenexa Public Market. Bring the kids to celebrate the rich cultures that make our community diverse and vibrant. Free.
URL:https://kcparent.com/event/global-neighbors-flavors-fest-3/
LOCATION:Lenexa Public Market\, 8750 Penrose Ln.\, Lenexa\, Kansas\, 66219\, United States
CATEGORIES:Festival
ATTACH;FMTTYPE=image/png:https://kcparent.com/wp-content/uploads/2026/04/global-neighbors-and-flavors-fest-main-1.png
END:VEVENT
BEGIN:VEVENT
DTSTART;TZID=America/Denver:20260613T090000
DTEND;TZID=America/Denver:20260613T160000
DTSTAMP:20260420T181435
CREATED:20260116T190844Z
LAST-MODIFIED:20260116T194000Z
UID:10019436-1781341200-1781366400@kcparent.com
SUMMARY:Fun on the Bluff
DESCRIPTION:Ready to make unforgettable memories with the whole family? Join us for a day of fun and discovery with food\, music\, storytelling\, games\, and crafts inspired by the past. Experience life on the wild frontier in the early 1800s. Whether you’re exploring history or enjoying the festivities\, there is something for everyone.
URL:https://kcparent.com/event/fun-on-the-bluff-3/
LOCATION:Fort Osage National Historic Landmark\, 105 Osage\, Sibley\, Missouri\, 64088\, United States
CATEGORIES:Festival
ATTACH;FMTTYPE=image/jpeg:https://kcparent.com/wp-content/uploads/2026/01/fb-event-cover-fun-on-the-bluff-1.jpg
END:VEVENT
BEGIN:VEVENT
DTSTART;TZID=America/Denver:20260614T120000
DTEND;TZID=America/Denver:20260614T170000
DTSTAMP:20260420T181435
CREATED:20260409T194509Z
LAST-MODIFIED:20260420T161302Z
UID:10025469-1781438400-1781456400@kcparent.com
SUMMARY:Future Stages Festival
DESCRIPTION:Join us at the Kauffman Center on Sunday\, June 14 from Noon – 5 p.m. for Future Stages Festival! Since 2014\, the Kauffman Center’s Future Stages Festival has provided a platform for local youth performers to showcase their talents and for everyone within the community to be connected to exceptional arts experiences. The festival highlights all forms of performing arts and represents everyone in the community. \nTickets are not required\, but patrons are encouraged to RSVP to receive event updates. \nFuture Stages Festival is presented by our Premier Partner\, Saint Luke’s.
URL:https://kcparent.com/event/future-stages-festival-3/
LOCATION:Kauffman Center for the Performing Arts\, 1601 Broadway\, Kansas City\, Missouri\, United States
CATEGORIES:Festival
ATTACH;FMTTYPE=image/png:https://kcparent.com/wp-content/uploads/2026/04/Screenshot-2026-04-09-130614.png
END:VEVENT
END:VCALENDAR