BEGIN:VCALENDAR
VERSION:2.0
PRODID:-//KC Parent - ECPv6.15.18//NONSGML v1.0//EN
CALSCALE:GREGORIAN
METHOD:PUBLISH
X-WR-CALNAME:KC Parent
X-ORIGINAL-URL:https://kcparent.com
X-WR-CALDESC:Events for KC Parent
REFRESH-INTERVAL;VALUE=DURATION:PT1H
X-Robots-Tag:noindex
X-PUBLISHED-TTL:PT1H
BEGIN:VTIMEZONE
TZID:America/Denver
BEGIN:DAYLIGHT
TZOFFSETFROM:-0700
TZOFFSETTO:-0600
TZNAME:MDT
DTSTART:20250309T090000
END:DAYLIGHT
BEGIN:STANDARD
TZOFFSETFROM:-0600
TZOFFSETTO:-0700
TZNAME:MST
DTSTART:20251102T080000
END:STANDARD
BEGIN:DAYLIGHT
TZOFFSETFROM:-0700
TZOFFSETTO:-0600
TZNAME:MDT
DTSTART:20260308T090000
END:DAYLIGHT
BEGIN:STANDARD
TZOFFSETFROM:-0600
TZOFFSETTO:-0700
TZNAME:MST
DTSTART:20261101T080000
END:STANDARD
BEGIN:DAYLIGHT
TZOFFSETFROM:-0700
TZOFFSETTO:-0600
TZNAME:MDT
DTSTART:20270314T090000
END:DAYLIGHT
BEGIN:STANDARD
TZOFFSETFROM:-0600
TZOFFSETTO:-0700
TZNAME:MST
DTSTART:20271107T080000
END:STANDARD
END:VTIMEZONE
BEGIN:VEVENT
DTSTART;TZID=America/Denver:20260301T100000
DTEND;TZID=America/Denver:20260301T160000
DTSTAMP:20260420T181521
CREATED:20260224T172330Z
LAST-MODIFIED:20260224T172330Z
UID:10023408-1772359200-1772380800@kcparent.com
SUMMARY:Native American Cultural Festival
DESCRIPTION:Join us in celebration of dynamic Indigenous cultures\, at a free festival featuring live performances\, demonstrations\, artmaking activities\, and gallery experiences. \nGeneral admission to the museum and festival is free. Although you may register for admission upon arrival\, we encourage advance registration for a more convenient check-in experience.
URL:https://kcparent.com/event/native-american-cultural-festival-2/
LOCATION:Nelson-Atkins Museum of Art\, 4525 Oak St.\, Kansas City\, Missouri\, United States
CATEGORIES:Family,Festival,FREE
ATTACH;FMTTYPE=image/png:https://kcparent.com/wp-content/uploads/2026/02/MAR-26-0653-DG-Suite_NACF_email-03.png
END:VEVENT
END:VCALENDAR