BEGIN:VCALENDAR
VERSION:2.0
PRODID:-//KC Parent - ECPv6.15.18//NONSGML v1.0//EN
CALSCALE:GREGORIAN
METHOD:PUBLISH
X-WR-CALNAME:KC Parent
X-ORIGINAL-URL:https://kcparent.com
X-WR-CALDESC:Events for KC Parent
REFRESH-INTERVAL;VALUE=DURATION:PT1H
X-Robots-Tag:noindex
X-PUBLISHED-TTL:PT1H
BEGIN:VTIMEZONE
TZID:America/Denver
BEGIN:DAYLIGHT
TZOFFSETFROM:-0700
TZOFFSETTO:-0600
TZNAME:MDT
DTSTART:20250309T090000
END:DAYLIGHT
BEGIN:STANDARD
TZOFFSETFROM:-0600
TZOFFSETTO:-0700
TZNAME:MST
DTSTART:20251102T080000
END:STANDARD
BEGIN:DAYLIGHT
TZOFFSETFROM:-0700
TZOFFSETTO:-0600
TZNAME:MDT
DTSTART:20260308T090000
END:DAYLIGHT
BEGIN:STANDARD
TZOFFSETFROM:-0600
TZOFFSETTO:-0700
TZNAME:MST
DTSTART:20261101T080000
END:STANDARD
BEGIN:DAYLIGHT
TZOFFSETFROM:-0700
TZOFFSETTO:-0600
TZNAME:MDT
DTSTART:20270314T090000
END:DAYLIGHT
BEGIN:STANDARD
TZOFFSETFROM:-0600
TZOFFSETTO:-0700
TZNAME:MST
DTSTART:20271107T080000
END:STANDARD
END:VTIMEZONE
BEGIN:VEVENT
DTSTART;TZID=America/Denver:20260315T130000
DTEND;TZID=America/Denver:20260315T170000
DTSTAMP:20260420T181551
CREATED:20260309T204041Z
LAST-MODIFIED:20260309T204041Z
UID:10023743-1773579600-1773594000@kcparent.com
SUMMARY:Shawnee St. Patrick's Day Parade
DESCRIPTION:Celebrate the luck of the Irish with floats\, marching groups\, and local participants! The Irish American Club of Johnson County presents the 42nd Annual Shawnee St. Patrick’s Day Parade on Sunday\, March 15th at 1 p.m. \nIf you would like to participate in the parade\, please fill out the parade entry form on the Irish American Club of Johnson County’s Facebook page. Bring the completed form and $10 cash to the parade line-up on Sunday\, March 15th. Parade line-up begins at 11:30 a.m. If you have questions\, please email the Irish American Club. \nThe Parade starts on Johnson Drive & Monrovia & heads East on Johnson Drive to Nieman Road. \n 
URL:https://kcparent.com/event/shawnee-st-patricks-day-parade/
LOCATION:Downtown Shawnee\, 11110 Johnson Drive\, Shawnee\, Kansas\, 66203\, United States
CATEGORIES:Festival
ATTACH;FMTTYPE=image/jpeg:https://kcparent.com/wp-content/uploads/2026/03/shawnee.jpg
END:VEVENT
END:VCALENDAR