BEGIN:VCALENDAR
VERSION:2.0
PRODID:-//KC Parent - ECPv6.15.18//NONSGML v1.0//EN
CALSCALE:GREGORIAN
METHOD:PUBLISH
X-WR-CALNAME:KC Parent
X-ORIGINAL-URL:https://kcparent.com
X-WR-CALDESC:Events for KC Parent
REFRESH-INTERVAL;VALUE=DURATION:PT1H
X-Robots-Tag:noindex
X-PUBLISHED-TTL:PT1H
BEGIN:VTIMEZONE
TZID:America/Denver
BEGIN:DAYLIGHT
TZOFFSETFROM:-0700
TZOFFSETTO:-0600
TZNAME:MDT
DTSTART:20250309T090000
END:DAYLIGHT
BEGIN:STANDARD
TZOFFSETFROM:-0600
TZOFFSETTO:-0700
TZNAME:MST
DTSTART:20251102T080000
END:STANDARD
BEGIN:DAYLIGHT
TZOFFSETFROM:-0700
TZOFFSETTO:-0600
TZNAME:MDT
DTSTART:20260308T090000
END:DAYLIGHT
BEGIN:STANDARD
TZOFFSETFROM:-0600
TZOFFSETTO:-0700
TZNAME:MST
DTSTART:20261101T080000
END:STANDARD
BEGIN:DAYLIGHT
TZOFFSETFROM:-0700
TZOFFSETTO:-0600
TZNAME:MDT
DTSTART:20270314T090000
END:DAYLIGHT
BEGIN:STANDARD
TZOFFSETFROM:-0600
TZOFFSETTO:-0700
TZNAME:MST
DTSTART:20271107T080000
END:STANDARD
END:VTIMEZONE
BEGIN:VEVENT
DTSTART;TZID=America/Denver:20261003T100000
DTEND;TZID=America/Denver:20261004T170000
DTSTAMP:20260420T213504
CREATED:20260116T191540Z
LAST-MODIFIED:20260116T193949Z
UID:10019433-1791021600-1791133200@kcparent.com
SUMMARY:50th Annual Fall Festival of Arts\, Crafts and Music
DESCRIPTION:Celebrating 50 years of Fall Fun! Join us at Fleming Park for the ultimate fall experience. Step inside our historic buildings\, where living history interpreters share what autumn looked like in the mid-1800s. Wander through the Lost Arts area to watch skilled artisans practice traditional crafts. With delicious food\, lively music\, fun games\, and family-friendly vendors\, it’s a celebration everyone will enjoy.
URL:https://kcparent.com/event/50th-annual-fall-festival-of-arts-crafts-and-music/
LOCATION:Missouri Town Living History Museum\, 8010 E Park Rd\, Lee's Summit\, Missouri\, United States
CATEGORIES:Festival
ATTACH;FMTTYPE=image/jpeg:https://kcparent.com/wp-content/uploads/2026/01/2024-ff-musical-bales-2.jpg
END:VEVENT
END:VCALENDAR