BEGIN:VCALENDAR
VERSION:2.0
PRODID:-//KC Parent - ECPv6.15.18//NONSGML v1.0//EN
CALSCALE:GREGORIAN
METHOD:PUBLISH
X-WR-CALNAME:KC Parent
X-ORIGINAL-URL:https://kcparent.com
X-WR-CALDESC:Events for KC Parent
REFRESH-INTERVAL;VALUE=DURATION:PT1H
X-Robots-Tag:noindex
X-PUBLISHED-TTL:PT1H
BEGIN:VTIMEZONE
TZID:America/Denver
BEGIN:DAYLIGHT
TZOFFSETFROM:-0700
TZOFFSETTO:-0600
TZNAME:MDT
DTSTART:20270314T090000
END:DAYLIGHT
BEGIN:STANDARD
TZOFFSETFROM:-0600
TZOFFSETTO:-0700
TZNAME:MST
DTSTART:20271107T080000
END:STANDARD
BEGIN:DAYLIGHT
TZOFFSETFROM:-0700
TZOFFSETTO:-0600
TZNAME:MDT
DTSTART:20280312T090000
END:DAYLIGHT
BEGIN:STANDARD
TZOFFSETFROM:-0600
TZOFFSETTO:-0700
TZNAME:MST
DTSTART:20281105T080000
END:STANDARD
BEGIN:DAYLIGHT
TZOFFSETFROM:-0700
TZOFFSETTO:-0600
TZNAME:MDT
DTSTART:20290311T090000
END:DAYLIGHT
BEGIN:STANDARD
TZOFFSETFROM:-0600
TZOFFSETTO:-0700
TZNAME:MST
DTSTART:20291104T080000
END:STANDARD
END:VTIMEZONE
BEGIN:VEVENT
DTSTART;TZID=America/Denver:20280130T130000
DTEND;TZID=America/Denver:20280130T160000
DTSTAMP:20260420T014832
CREATED:20260311T032407Z
LAST-MODIFIED:20260311T032634Z
UID:10024087-1832850000-1832860800@kcparent.com
SUMMARY:Free Weekend Fun: Nouveau Notes 
DESCRIPTION:Free | Drop-in event (no registration required)   \nFun Spot: Lobby Level\, Bloch Building | 1–4 pm \nDesign your own postcard inspired by the work of Alfonse Mucha. \nGallery Activity: Gallery 128 | 1–4 pm  \nExplore how artists combined colors\, shapes and lines to create stunning creations with the help of Museum Guide volunteers.
URL:https://kcparent.com/event/free-weekend-fun-at-the-nelson-2/2028-01-30/
LOCATION:Nelson-Atkins Museum of Art\, 4525 Oak St.\, Kansas City\, Missouri\, United States
CATEGORIES:FREE,Indoor
ATTACH;FMTTYPE=image/jpeg:https://kcparent.com/wp-content/uploads/2025/07/Time-for-Art.jpg
END:VEVENT
BEGIN:VEVENT
DTSTART;TZID=America/Denver:20280201T090000
DTEND;TZID=America/Denver:20280201T120000
DTSTAMP:20260420T014832
CREATED:20260113T222538Z
LAST-MODIFIED:20260403T152648Z
UID:10025059-1833008400-1833019200@kcparent.com
SUMMARY:Discovery Day at the Arboretum
DESCRIPTION:Craft time awaits on the first Tuesday of the month at the Overland Park Arboretum & Botanical Gardens. Little explorers are in for a treat as they immerse themselves in the enchanting world of nature and creativity. Each month\, a new make-and-take project unfolds on Discovery Day. Crafting supplies are included\, and the projects are available on a first-come\, first-served basis to the first 100 participants. \nThe first Tuesday of the month also happens to be Free Admission Day at the Arboretum\, so entry into the gardens and this project are all free! \n2026 projects:\nJanuary 6 – Bird binoculars\nFebruary 3 – Paint and art show\nMarch 3 – Ladybug rock painting\nApril 7- Flower press\nMay 5 – Paper bag kites\nJune 2- Paper spinner and/or Pinwheel\nJuly 7 – Grass hair planters\nAugust 4 – Nature journals\nSeptember 1 – Build a bug and/or Bug hotel\nOctober 6 – Bat rockets\nNovember 3 – Leaf suncatchers\nDecember 1 – Bean mosaic art
URL:https://kcparent.com/event/discovery-day-at-the-arboretum-11/2028-02-01/
LOCATION:Overland Park Arboretum and Botanical Gardens\, 8909 W. 179th St.\, Overland Park\, Kansas\, 66013\, United States
CATEGORIES:FREE
ATTACH;FMTTYPE=image/png:https://kcparent.com/wp-content/uploads/2026/01/Discovery-Day-12.png
END:VEVENT
BEGIN:VEVENT
DTSTART;TZID=America/Denver:20280201T140000
DTEND;TZID=America/Denver:20280201T180000
DTSTAMP:20260420T014832
CREATED:20251221T171503Z
LAST-MODIFIED:20251222T171836Z
UID:10017158-1833026400-1833040800@kcparent.com
SUMMARY:I AM Frozen Dessert Cafe Tuesday Happy Hour
DESCRIPTION:Buy any 2 Drinks at regular menu price and your 3rd is FREE every Tuesday 2PM-6PM @ I AM Frozen Dessert Cafe.
URL:https://kcparent.com/event/i-am-frozen-dessert-cafe-tuesday-happy-hour/2028-02-01/
LOCATION:Missouri
CATEGORIES:FREE
ATTACH;FMTTYPE=image/jpeg:https://kcparent.com/wp-content/uploads/2025/12/Screenshot_20251221_104733_Instagram.jpg
END:VEVENT
BEGIN:VEVENT
DTSTART;TZID=America/Denver:20280205T130000
DTEND;TZID=America/Denver:20280205T160000
DTSTAMP:20260420T014832
CREATED:20260311T032407Z
LAST-MODIFIED:20260311T032634Z
UID:10024088-1833368400-1833379200@kcparent.com
SUMMARY:Free Weekend Fun: Nouveau Notes 
DESCRIPTION:Free | Drop-in event (no registration required)   \nFun Spot: Lobby Level\, Bloch Building | 1–4 pm \nDesign your own postcard inspired by the work of Alfonse Mucha. \nGallery Activity: Gallery 128 | 1–4 pm  \nExplore how artists combined colors\, shapes and lines to create stunning creations with the help of Museum Guide volunteers.
URL:https://kcparent.com/event/free-weekend-fun-at-the-nelson-2/2028-02-05/
LOCATION:Nelson-Atkins Museum of Art\, 4525 Oak St.\, Kansas City\, Missouri\, United States
CATEGORIES:FREE,Indoor
ATTACH;FMTTYPE=image/jpeg:https://kcparent.com/wp-content/uploads/2025/07/Time-for-Art.jpg
END:VEVENT
BEGIN:VEVENT
DTSTART;TZID=America/Denver:20280206T130000
DTEND;TZID=America/Denver:20280206T160000
DTSTAMP:20260420T014832
CREATED:20260311T032407Z
LAST-MODIFIED:20260311T032634Z
UID:10024089-1833454800-1833465600@kcparent.com
SUMMARY:Free Weekend Fun: Nouveau Notes 
DESCRIPTION:Free | Drop-in event (no registration required)   \nFun Spot: Lobby Level\, Bloch Building | 1–4 pm \nDesign your own postcard inspired by the work of Alfonse Mucha. \nGallery Activity: Gallery 128 | 1–4 pm  \nExplore how artists combined colors\, shapes and lines to create stunning creations with the help of Museum Guide volunteers.
URL:https://kcparent.com/event/free-weekend-fun-at-the-nelson-2/2028-02-06/
LOCATION:Nelson-Atkins Museum of Art\, 4525 Oak St.\, Kansas City\, Missouri\, United States
CATEGORIES:FREE,Indoor
ATTACH;FMTTYPE=image/jpeg:https://kcparent.com/wp-content/uploads/2025/07/Time-for-Art.jpg
END:VEVENT
BEGIN:VEVENT
DTSTART;TZID=America/Denver:20280208T140000
DTEND;TZID=America/Denver:20280208T180000
DTSTAMP:20260420T014832
CREATED:20251221T171503Z
LAST-MODIFIED:20251222T171836Z
UID:10017159-1833631200-1833645600@kcparent.com
SUMMARY:I AM Frozen Dessert Cafe Tuesday Happy Hour
DESCRIPTION:Buy any 2 Drinks at regular menu price and your 3rd is FREE every Tuesday 2PM-6PM @ I AM Frozen Dessert Cafe.
URL:https://kcparent.com/event/i-am-frozen-dessert-cafe-tuesday-happy-hour/2028-02-08/
LOCATION:Missouri
CATEGORIES:FREE
ATTACH;FMTTYPE=image/jpeg:https://kcparent.com/wp-content/uploads/2025/12/Screenshot_20251221_104733_Instagram.jpg
END:VEVENT
BEGIN:VEVENT
DTSTART;TZID=America/Denver:20280212T130000
DTEND;TZID=America/Denver:20280212T160000
DTSTAMP:20260420T014832
CREATED:20260311T032407Z
LAST-MODIFIED:20260311T032634Z
UID:10024090-1833973200-1833984000@kcparent.com
SUMMARY:Free Weekend Fun: Nouveau Notes 
DESCRIPTION:Free | Drop-in event (no registration required)   \nFun Spot: Lobby Level\, Bloch Building | 1–4 pm \nDesign your own postcard inspired by the work of Alfonse Mucha. \nGallery Activity: Gallery 128 | 1–4 pm  \nExplore how artists combined colors\, shapes and lines to create stunning creations with the help of Museum Guide volunteers.
URL:https://kcparent.com/event/free-weekend-fun-at-the-nelson-2/2028-02-12/
LOCATION:Nelson-Atkins Museum of Art\, 4525 Oak St.\, Kansas City\, Missouri\, United States
CATEGORIES:FREE,Indoor
ATTACH;FMTTYPE=image/jpeg:https://kcparent.com/wp-content/uploads/2025/07/Time-for-Art.jpg
END:VEVENT
BEGIN:VEVENT
DTSTART;TZID=America/Denver:20280213T130000
DTEND;TZID=America/Denver:20280213T160000
DTSTAMP:20260420T014832
CREATED:20260311T032407Z
LAST-MODIFIED:20260311T032634Z
UID:10024091-1834059600-1834070400@kcparent.com
SUMMARY:Free Weekend Fun: Nouveau Notes 
DESCRIPTION:Free | Drop-in event (no registration required)   \nFun Spot: Lobby Level\, Bloch Building | 1–4 pm \nDesign your own postcard inspired by the work of Alfonse Mucha. \nGallery Activity: Gallery 128 | 1–4 pm  \nExplore how artists combined colors\, shapes and lines to create stunning creations with the help of Museum Guide volunteers.
URL:https://kcparent.com/event/free-weekend-fun-at-the-nelson-2/2028-02-13/
LOCATION:Nelson-Atkins Museum of Art\, 4525 Oak St.\, Kansas City\, Missouri\, United States
CATEGORIES:FREE,Indoor
ATTACH;FMTTYPE=image/jpeg:https://kcparent.com/wp-content/uploads/2025/07/Time-for-Art.jpg
END:VEVENT
BEGIN:VEVENT
DTSTART;TZID=America/Denver:20280215T140000
DTEND;TZID=America/Denver:20280215T180000
DTSTAMP:20260420T014832
CREATED:20251221T171503Z
LAST-MODIFIED:20251222T171836Z
UID:10017160-1834236000-1834250400@kcparent.com
SUMMARY:I AM Frozen Dessert Cafe Tuesday Happy Hour
DESCRIPTION:Buy any 2 Drinks at regular menu price and your 3rd is FREE every Tuesday 2PM-6PM @ I AM Frozen Dessert Cafe.
URL:https://kcparent.com/event/i-am-frozen-dessert-cafe-tuesday-happy-hour/2028-02-15/
LOCATION:Missouri
CATEGORIES:FREE
ATTACH;FMTTYPE=image/jpeg:https://kcparent.com/wp-content/uploads/2025/12/Screenshot_20251221_104733_Instagram.jpg
END:VEVENT
BEGIN:VEVENT
DTSTART;TZID=America/Denver:20280219T130000
DTEND;TZID=America/Denver:20280219T160000
DTSTAMP:20260420T014832
CREATED:20260311T032407Z
LAST-MODIFIED:20260311T032634Z
UID:10024092-1834578000-1834588800@kcparent.com
SUMMARY:Free Weekend Fun: Nouveau Notes 
DESCRIPTION:Free | Drop-in event (no registration required)   \nFun Spot: Lobby Level\, Bloch Building | 1–4 pm \nDesign your own postcard inspired by the work of Alfonse Mucha. \nGallery Activity: Gallery 128 | 1–4 pm  \nExplore how artists combined colors\, shapes and lines to create stunning creations with the help of Museum Guide volunteers.
URL:https://kcparent.com/event/free-weekend-fun-at-the-nelson-2/2028-02-19/
LOCATION:Nelson-Atkins Museum of Art\, 4525 Oak St.\, Kansas City\, Missouri\, United States
CATEGORIES:FREE,Indoor
ATTACH;FMTTYPE=image/jpeg:https://kcparent.com/wp-content/uploads/2025/07/Time-for-Art.jpg
END:VEVENT
BEGIN:VEVENT
DTSTART;TZID=America/Denver:20280220T130000
DTEND;TZID=America/Denver:20280220T160000
DTSTAMP:20260420T014832
CREATED:20260311T032407Z
LAST-MODIFIED:20260311T032634Z
UID:10024093-1834664400-1834675200@kcparent.com
SUMMARY:Free Weekend Fun: Nouveau Notes 
DESCRIPTION:Free | Drop-in event (no registration required)   \nFun Spot: Lobby Level\, Bloch Building | 1–4 pm \nDesign your own postcard inspired by the work of Alfonse Mucha. \nGallery Activity: Gallery 128 | 1–4 pm  \nExplore how artists combined colors\, shapes and lines to create stunning creations with the help of Museum Guide volunteers.
URL:https://kcparent.com/event/free-weekend-fun-at-the-nelson-2/2028-02-20/
LOCATION:Nelson-Atkins Museum of Art\, 4525 Oak St.\, Kansas City\, Missouri\, United States
CATEGORIES:FREE,Indoor
ATTACH;FMTTYPE=image/jpeg:https://kcparent.com/wp-content/uploads/2025/07/Time-for-Art.jpg
END:VEVENT
BEGIN:VEVENT
DTSTART;TZID=America/Denver:20280222T140000
DTEND;TZID=America/Denver:20280222T180000
DTSTAMP:20260420T014832
CREATED:20251221T171503Z
LAST-MODIFIED:20251222T171836Z
UID:10017161-1834840800-1834855200@kcparent.com
SUMMARY:I AM Frozen Dessert Cafe Tuesday Happy Hour
DESCRIPTION:Buy any 2 Drinks at regular menu price and your 3rd is FREE every Tuesday 2PM-6PM @ I AM Frozen Dessert Cafe.
URL:https://kcparent.com/event/i-am-frozen-dessert-cafe-tuesday-happy-hour/2028-02-22/
LOCATION:Missouri
CATEGORIES:FREE
ATTACH;FMTTYPE=image/jpeg:https://kcparent.com/wp-content/uploads/2025/12/Screenshot_20251221_104733_Instagram.jpg
END:VEVENT
BEGIN:VEVENT
DTSTART;TZID=America/Denver:20280226T130000
DTEND;TZID=America/Denver:20280226T160000
DTSTAMP:20260420T014832
CREATED:20260311T032407Z
LAST-MODIFIED:20260311T032634Z
UID:10024094-1835182800-1835193600@kcparent.com
SUMMARY:Free Weekend Fun: Nouveau Notes 
DESCRIPTION:Free | Drop-in event (no registration required)   \nFun Spot: Lobby Level\, Bloch Building | 1–4 pm \nDesign your own postcard inspired by the work of Alfonse Mucha. \nGallery Activity: Gallery 128 | 1–4 pm  \nExplore how artists combined colors\, shapes and lines to create stunning creations with the help of Museum Guide volunteers.
URL:https://kcparent.com/event/free-weekend-fun-at-the-nelson-2/2028-02-26/
LOCATION:Nelson-Atkins Museum of Art\, 4525 Oak St.\, Kansas City\, Missouri\, United States
CATEGORIES:FREE,Indoor
ATTACH;FMTTYPE=image/jpeg:https://kcparent.com/wp-content/uploads/2025/07/Time-for-Art.jpg
END:VEVENT
BEGIN:VEVENT
DTSTART;TZID=America/Denver:20280227T130000
DTEND;TZID=America/Denver:20280227T160000
DTSTAMP:20260420T014832
CREATED:20260311T032407Z
LAST-MODIFIED:20260311T032634Z
UID:10024095-1835269200-1835280000@kcparent.com
SUMMARY:Free Weekend Fun: Nouveau Notes 
DESCRIPTION:Free | Drop-in event (no registration required)   \nFun Spot: Lobby Level\, Bloch Building | 1–4 pm \nDesign your own postcard inspired by the work of Alfonse Mucha. \nGallery Activity: Gallery 128 | 1–4 pm  \nExplore how artists combined colors\, shapes and lines to create stunning creations with the help of Museum Guide volunteers.
URL:https://kcparent.com/event/free-weekend-fun-at-the-nelson-2/2028-02-27/
LOCATION:Nelson-Atkins Museum of Art\, 4525 Oak St.\, Kansas City\, Missouri\, United States
CATEGORIES:FREE,Indoor
ATTACH;FMTTYPE=image/jpeg:https://kcparent.com/wp-content/uploads/2025/07/Time-for-Art.jpg
END:VEVENT
BEGIN:VEVENT
DTSTART;TZID=America/Denver:20280229T140000
DTEND;TZID=America/Denver:20280229T180000
DTSTAMP:20260420T014832
CREATED:20251221T171503Z
LAST-MODIFIED:20251222T171836Z
UID:10017162-1835445600-1835460000@kcparent.com
SUMMARY:I AM Frozen Dessert Cafe Tuesday Happy Hour
DESCRIPTION:Buy any 2 Drinks at regular menu price and your 3rd is FREE every Tuesday 2PM-6PM @ I AM Frozen Dessert Cafe.
URL:https://kcparent.com/event/i-am-frozen-dessert-cafe-tuesday-happy-hour/2028-02-29/
LOCATION:Missouri
CATEGORIES:FREE
ATTACH;FMTTYPE=image/jpeg:https://kcparent.com/wp-content/uploads/2025/12/Screenshot_20251221_104733_Instagram.jpg
END:VEVENT
BEGIN:VEVENT
DTSTART;TZID=America/Denver:20280304T130000
DTEND;TZID=America/Denver:20280304T160000
DTSTAMP:20260420T014832
CREATED:20260311T032407Z
LAST-MODIFIED:20260311T032634Z
UID:10024096-1835787600-1835798400@kcparent.com
SUMMARY:Free Weekend Fun: Nouveau Notes 
DESCRIPTION:Free | Drop-in event (no registration required)   \nFun Spot: Lobby Level\, Bloch Building | 1–4 pm \nDesign your own postcard inspired by the work of Alfonse Mucha. \nGallery Activity: Gallery 128 | 1–4 pm  \nExplore how artists combined colors\, shapes and lines to create stunning creations with the help of Museum Guide volunteers.
URL:https://kcparent.com/event/free-weekend-fun-at-the-nelson-2/2028-03-04/
LOCATION:Nelson-Atkins Museum of Art\, 4525 Oak St.\, Kansas City\, Missouri\, United States
CATEGORIES:FREE,Indoor
ATTACH;FMTTYPE=image/jpeg:https://kcparent.com/wp-content/uploads/2025/07/Time-for-Art.jpg
END:VEVENT
BEGIN:VEVENT
DTSTART;TZID=America/Denver:20280305T130000
DTEND;TZID=America/Denver:20280305T160000
DTSTAMP:20260420T014832
CREATED:20260311T032407Z
LAST-MODIFIED:20260311T032634Z
UID:10024097-1835874000-1835884800@kcparent.com
SUMMARY:Free Weekend Fun: Nouveau Notes 
DESCRIPTION:Free | Drop-in event (no registration required)   \nFun Spot: Lobby Level\, Bloch Building | 1–4 pm \nDesign your own postcard inspired by the work of Alfonse Mucha. \nGallery Activity: Gallery 128 | 1–4 pm  \nExplore how artists combined colors\, shapes and lines to create stunning creations with the help of Museum Guide volunteers.
URL:https://kcparent.com/event/free-weekend-fun-at-the-nelson-2/2028-03-05/
LOCATION:Nelson-Atkins Museum of Art\, 4525 Oak St.\, Kansas City\, Missouri\, United States
CATEGORIES:FREE,Indoor
ATTACH;FMTTYPE=image/jpeg:https://kcparent.com/wp-content/uploads/2025/07/Time-for-Art.jpg
END:VEVENT
BEGIN:VEVENT
DTSTART;TZID=America/Denver:20280307T090000
DTEND;TZID=America/Denver:20280307T120000
DTSTAMP:20260420T014832
CREATED:20260113T222538Z
LAST-MODIFIED:20260403T152648Z
UID:10025060-1836032400-1836043200@kcparent.com
SUMMARY:Discovery Day at the Arboretum
DESCRIPTION:Craft time awaits on the first Tuesday of the month at the Overland Park Arboretum & Botanical Gardens. Little explorers are in for a treat as they immerse themselves in the enchanting world of nature and creativity. Each month\, a new make-and-take project unfolds on Discovery Day. Crafting supplies are included\, and the projects are available on a first-come\, first-served basis to the first 100 participants. \nThe first Tuesday of the month also happens to be Free Admission Day at the Arboretum\, so entry into the gardens and this project are all free! \n2026 projects:\nJanuary 6 – Bird binoculars\nFebruary 3 – Paint and art show\nMarch 3 – Ladybug rock painting\nApril 7- Flower press\nMay 5 – Paper bag kites\nJune 2- Paper spinner and/or Pinwheel\nJuly 7 – Grass hair planters\nAugust 4 – Nature journals\nSeptember 1 – Build a bug and/or Bug hotel\nOctober 6 – Bat rockets\nNovember 3 – Leaf suncatchers\nDecember 1 – Bean mosaic art
URL:https://kcparent.com/event/discovery-day-at-the-arboretum-11/2028-03-07/
LOCATION:Overland Park Arboretum and Botanical Gardens\, 8909 W. 179th St.\, Overland Park\, Kansas\, 66013\, United States
CATEGORIES:FREE
ATTACH;FMTTYPE=image/png:https://kcparent.com/wp-content/uploads/2026/01/Discovery-Day-12.png
END:VEVENT
BEGIN:VEVENT
DTSTART;TZID=America/Denver:20280307T140000
DTEND;TZID=America/Denver:20280307T180000
DTSTAMP:20260420T014832
CREATED:20251221T171503Z
LAST-MODIFIED:20251222T171836Z
UID:10017163-1836050400-1836064800@kcparent.com
SUMMARY:I AM Frozen Dessert Cafe Tuesday Happy Hour
DESCRIPTION:Buy any 2 Drinks at regular menu price and your 3rd is FREE every Tuesday 2PM-6PM @ I AM Frozen Dessert Cafe.
URL:https://kcparent.com/event/i-am-frozen-dessert-cafe-tuesday-happy-hour/2028-03-07/
LOCATION:Missouri
CATEGORIES:FREE
ATTACH;FMTTYPE=image/jpeg:https://kcparent.com/wp-content/uploads/2025/12/Screenshot_20251221_104733_Instagram.jpg
END:VEVENT
BEGIN:VEVENT
DTSTART;TZID=America/Denver:20280311T130000
DTEND;TZID=America/Denver:20280311T160000
DTSTAMP:20260420T014832
CREATED:20260311T032407Z
LAST-MODIFIED:20260311T032634Z
UID:10024098-1836392400-1836403200@kcparent.com
SUMMARY:Free Weekend Fun: Nouveau Notes 
DESCRIPTION:Free | Drop-in event (no registration required)   \nFun Spot: Lobby Level\, Bloch Building | 1–4 pm \nDesign your own postcard inspired by the work of Alfonse Mucha. \nGallery Activity: Gallery 128 | 1–4 pm  \nExplore how artists combined colors\, shapes and lines to create stunning creations with the help of Museum Guide volunteers.
URL:https://kcparent.com/event/free-weekend-fun-at-the-nelson-2/2028-03-11/
LOCATION:Nelson-Atkins Museum of Art\, 4525 Oak St.\, Kansas City\, Missouri\, United States
CATEGORIES:FREE,Indoor
ATTACH;FMTTYPE=image/jpeg:https://kcparent.com/wp-content/uploads/2025/07/Time-for-Art.jpg
END:VEVENT
BEGIN:VEVENT
DTSTART;TZID=America/Denver:20280312T130000
DTEND;TZID=America/Denver:20280312T160000
DTSTAMP:20260420T014832
CREATED:20260311T032407Z
LAST-MODIFIED:20260311T032634Z
UID:10024099-1836478800-1836489600@kcparent.com
SUMMARY:Free Weekend Fun: Nouveau Notes 
DESCRIPTION:Free | Drop-in event (no registration required)   \nFun Spot: Lobby Level\, Bloch Building | 1–4 pm \nDesign your own postcard inspired by the work of Alfonse Mucha. \nGallery Activity: Gallery 128 | 1–4 pm  \nExplore how artists combined colors\, shapes and lines to create stunning creations with the help of Museum Guide volunteers.
URL:https://kcparent.com/event/free-weekend-fun-at-the-nelson-2/2028-03-12/
LOCATION:Nelson-Atkins Museum of Art\, 4525 Oak St.\, Kansas City\, Missouri\, United States
CATEGORIES:FREE,Indoor
ATTACH;FMTTYPE=image/jpeg:https://kcparent.com/wp-content/uploads/2025/07/Time-for-Art.jpg
END:VEVENT
BEGIN:VEVENT
DTSTART;TZID=America/Denver:20280314T140000
DTEND;TZID=America/Denver:20280314T180000
DTSTAMP:20260420T014832
CREATED:20251221T171503Z
LAST-MODIFIED:20251222T171836Z
UID:10017164-1836655200-1836669600@kcparent.com
SUMMARY:I AM Frozen Dessert Cafe Tuesday Happy Hour
DESCRIPTION:Buy any 2 Drinks at regular menu price and your 3rd is FREE every Tuesday 2PM-6PM @ I AM Frozen Dessert Cafe.
URL:https://kcparent.com/event/i-am-frozen-dessert-cafe-tuesday-happy-hour/2028-03-14/
LOCATION:Missouri
CATEGORIES:FREE
ATTACH;FMTTYPE=image/jpeg:https://kcparent.com/wp-content/uploads/2025/12/Screenshot_20251221_104733_Instagram.jpg
END:VEVENT
BEGIN:VEVENT
DTSTART;TZID=America/Denver:20280318T130000
DTEND;TZID=America/Denver:20280318T160000
DTSTAMP:20260420T014832
CREATED:20260311T032407Z
LAST-MODIFIED:20260311T032634Z
UID:10024100-1836997200-1837008000@kcparent.com
SUMMARY:Free Weekend Fun: Nouveau Notes 
DESCRIPTION:Free | Drop-in event (no registration required)   \nFun Spot: Lobby Level\, Bloch Building | 1–4 pm \nDesign your own postcard inspired by the work of Alfonse Mucha. \nGallery Activity: Gallery 128 | 1–4 pm  \nExplore how artists combined colors\, shapes and lines to create stunning creations with the help of Museum Guide volunteers.
URL:https://kcparent.com/event/free-weekend-fun-at-the-nelson-2/2028-03-18/
LOCATION:Nelson-Atkins Museum of Art\, 4525 Oak St.\, Kansas City\, Missouri\, United States
CATEGORIES:FREE,Indoor
ATTACH;FMTTYPE=image/jpeg:https://kcparent.com/wp-content/uploads/2025/07/Time-for-Art.jpg
END:VEVENT
BEGIN:VEVENT
DTSTART;TZID=America/Denver:20280319T130000
DTEND;TZID=America/Denver:20280319T160000
DTSTAMP:20260420T014832
CREATED:20260311T032407Z
LAST-MODIFIED:20260311T032634Z
UID:10024101-1837083600-1837094400@kcparent.com
SUMMARY:Free Weekend Fun: Nouveau Notes 
DESCRIPTION:Free | Drop-in event (no registration required)   \nFun Spot: Lobby Level\, Bloch Building | 1–4 pm \nDesign your own postcard inspired by the work of Alfonse Mucha. \nGallery Activity: Gallery 128 | 1–4 pm  \nExplore how artists combined colors\, shapes and lines to create stunning creations with the help of Museum Guide volunteers.
URL:https://kcparent.com/event/free-weekend-fun-at-the-nelson-2/2028-03-19/
LOCATION:Nelson-Atkins Museum of Art\, 4525 Oak St.\, Kansas City\, Missouri\, United States
CATEGORIES:FREE,Indoor
ATTACH;FMTTYPE=image/jpeg:https://kcparent.com/wp-content/uploads/2025/07/Time-for-Art.jpg
END:VEVENT
BEGIN:VEVENT
DTSTART;TZID=America/Denver:20280321T140000
DTEND;TZID=America/Denver:20280321T180000
DTSTAMP:20260420T014832
CREATED:20251221T171503Z
LAST-MODIFIED:20251222T171836Z
UID:10017165-1837260000-1837274400@kcparent.com
SUMMARY:I AM Frozen Dessert Cafe Tuesday Happy Hour
DESCRIPTION:Buy any 2 Drinks at regular menu price and your 3rd is FREE every Tuesday 2PM-6PM @ I AM Frozen Dessert Cafe.
URL:https://kcparent.com/event/i-am-frozen-dessert-cafe-tuesday-happy-hour/2028-03-21/
LOCATION:Missouri
CATEGORIES:FREE
ATTACH;FMTTYPE=image/jpeg:https://kcparent.com/wp-content/uploads/2025/12/Screenshot_20251221_104733_Instagram.jpg
END:VEVENT
BEGIN:VEVENT
DTSTART;TZID=America/Denver:20280325T130000
DTEND;TZID=America/Denver:20280325T160000
DTSTAMP:20260420T014832
CREATED:20260311T032407Z
LAST-MODIFIED:20260311T032634Z
UID:10024102-1837602000-1837612800@kcparent.com
SUMMARY:Free Weekend Fun: Nouveau Notes 
DESCRIPTION:Free | Drop-in event (no registration required)   \nFun Spot: Lobby Level\, Bloch Building | 1–4 pm \nDesign your own postcard inspired by the work of Alfonse Mucha. \nGallery Activity: Gallery 128 | 1–4 pm  \nExplore how artists combined colors\, shapes and lines to create stunning creations with the help of Museum Guide volunteers.
URL:https://kcparent.com/event/free-weekend-fun-at-the-nelson-2/2028-03-25/
LOCATION:Nelson-Atkins Museum of Art\, 4525 Oak St.\, Kansas City\, Missouri\, United States
CATEGORIES:FREE,Indoor
ATTACH;FMTTYPE=image/jpeg:https://kcparent.com/wp-content/uploads/2025/07/Time-for-Art.jpg
END:VEVENT
BEGIN:VEVENT
DTSTART;TZID=America/Denver:20280326T130000
DTEND;TZID=America/Denver:20280326T160000
DTSTAMP:20260420T014832
CREATED:20260311T032407Z
LAST-MODIFIED:20260311T032634Z
UID:10024103-1837688400-1837699200@kcparent.com
SUMMARY:Free Weekend Fun: Nouveau Notes 
DESCRIPTION:Free | Drop-in event (no registration required)   \nFun Spot: Lobby Level\, Bloch Building | 1–4 pm \nDesign your own postcard inspired by the work of Alfonse Mucha. \nGallery Activity: Gallery 128 | 1–4 pm  \nExplore how artists combined colors\, shapes and lines to create stunning creations with the help of Museum Guide volunteers.
URL:https://kcparent.com/event/free-weekend-fun-at-the-nelson-2/2028-03-26/
LOCATION:Nelson-Atkins Museum of Art\, 4525 Oak St.\, Kansas City\, Missouri\, United States
CATEGORIES:FREE,Indoor
ATTACH;FMTTYPE=image/jpeg:https://kcparent.com/wp-content/uploads/2025/07/Time-for-Art.jpg
END:VEVENT
BEGIN:VEVENT
DTSTART;TZID=America/Denver:20280328T140000
DTEND;TZID=America/Denver:20280328T180000
DTSTAMP:20260420T014832
CREATED:20251221T171503Z
LAST-MODIFIED:20251222T171836Z
UID:10017166-1837864800-1837879200@kcparent.com
SUMMARY:I AM Frozen Dessert Cafe Tuesday Happy Hour
DESCRIPTION:Buy any 2 Drinks at regular menu price and your 3rd is FREE every Tuesday 2PM-6PM @ I AM Frozen Dessert Cafe.
URL:https://kcparent.com/event/i-am-frozen-dessert-cafe-tuesday-happy-hour/2028-03-28/
LOCATION:Missouri
CATEGORIES:FREE
ATTACH;FMTTYPE=image/jpeg:https://kcparent.com/wp-content/uploads/2025/12/Screenshot_20251221_104733_Instagram.jpg
END:VEVENT
BEGIN:VEVENT
DTSTART;TZID=America/Denver:20280401T130000
DTEND;TZID=America/Denver:20280401T160000
DTSTAMP:20260420T014832
CREATED:20260311T032407Z
LAST-MODIFIED:20260311T032634Z
UID:10024104-1838206800-1838217600@kcparent.com
SUMMARY:Free Weekend Fun: Nouveau Notes 
DESCRIPTION:Free | Drop-in event (no registration required)   \nFun Spot: Lobby Level\, Bloch Building | 1–4 pm \nDesign your own postcard inspired by the work of Alfonse Mucha. \nGallery Activity: Gallery 128 | 1–4 pm  \nExplore how artists combined colors\, shapes and lines to create stunning creations with the help of Museum Guide volunteers.
URL:https://kcparent.com/event/free-weekend-fun-at-the-nelson-2/2028-04-01/
LOCATION:Nelson-Atkins Museum of Art\, 4525 Oak St.\, Kansas City\, Missouri\, United States
CATEGORIES:FREE,Indoor
ATTACH;FMTTYPE=image/jpeg:https://kcparent.com/wp-content/uploads/2025/07/Time-for-Art.jpg
END:VEVENT
BEGIN:VEVENT
DTSTART;TZID=America/Denver:20280402T130000
DTEND;TZID=America/Denver:20280402T160000
DTSTAMP:20260420T014832
CREATED:20260311T032407Z
LAST-MODIFIED:20260311T032634Z
UID:10024105-1838293200-1838304000@kcparent.com
SUMMARY:Free Weekend Fun: Nouveau Notes 
DESCRIPTION:Free | Drop-in event (no registration required)   \nFun Spot: Lobby Level\, Bloch Building | 1–4 pm \nDesign your own postcard inspired by the work of Alfonse Mucha. \nGallery Activity: Gallery 128 | 1–4 pm  \nExplore how artists combined colors\, shapes and lines to create stunning creations with the help of Museum Guide volunteers.
URL:https://kcparent.com/event/free-weekend-fun-at-the-nelson-2/2028-04-02/
LOCATION:Nelson-Atkins Museum of Art\, 4525 Oak St.\, Kansas City\, Missouri\, United States
CATEGORIES:FREE,Indoor
ATTACH;FMTTYPE=image/jpeg:https://kcparent.com/wp-content/uploads/2025/07/Time-for-Art.jpg
END:VEVENT
END:VCALENDAR