BEGIN:VCALENDAR
VERSION:2.0
PRODID:-//KC Parent - ECPv6.15.18//NONSGML v1.0//EN
CALSCALE:GREGORIAN
METHOD:PUBLISH
X-WR-CALNAME:KC Parent
X-ORIGINAL-URL:https://kcparent.com
X-WR-CALDESC:Events for KC Parent
REFRESH-INTERVAL;VALUE=DURATION:PT1H
X-Robots-Tag:noindex
X-PUBLISHED-TTL:PT1H
BEGIN:VTIMEZONE
TZID:America/Denver
BEGIN:DAYLIGHT
TZOFFSETFROM:-0700
TZOFFSETTO:-0600
TZNAME:MDT
DTSTART:20270314T090000
END:DAYLIGHT
BEGIN:STANDARD
TZOFFSETFROM:-0600
TZOFFSETTO:-0700
TZNAME:MST
DTSTART:20271107T080000
END:STANDARD
BEGIN:DAYLIGHT
TZOFFSETFROM:-0700
TZOFFSETTO:-0600
TZNAME:MDT
DTSTART:20280312T090000
END:DAYLIGHT
BEGIN:STANDARD
TZOFFSETFROM:-0600
TZOFFSETTO:-0700
TZNAME:MST
DTSTART:20281105T080000
END:STANDARD
BEGIN:DAYLIGHT
TZOFFSETFROM:-0700
TZOFFSETTO:-0600
TZNAME:MDT
DTSTART:20290311T090000
END:DAYLIGHT
BEGIN:STANDARD
TZOFFSETFROM:-0600
TZOFFSETTO:-0700
TZNAME:MST
DTSTART:20291104T080000
END:STANDARD
END:VTIMEZONE
BEGIN:VEVENT
DTSTART;TZID=America/Denver:20280416T130000
DTEND;TZID=America/Denver:20280416T160000
DTSTAMP:20260419T210549
CREATED:20260311T032407Z
LAST-MODIFIED:20260311T032634Z
UID:10024109-1839502800-1839513600@kcparent.com
SUMMARY:Free Weekend Fun: Nouveau Notes 
DESCRIPTION:Free | Drop-in event (no registration required)   \nFun Spot: Lobby Level\, Bloch Building | 1–4 pm \nDesign your own postcard inspired by the work of Alfonse Mucha. \nGallery Activity: Gallery 128 | 1–4 pm  \nExplore how artists combined colors\, shapes and lines to create stunning creations with the help of Museum Guide volunteers.
URL:https://kcparent.com/event/free-weekend-fun-at-the-nelson-2/2028-04-16/
LOCATION:Nelson-Atkins Museum of Art\, 4525 Oak St.\, Kansas City\, Missouri\, United States
CATEGORIES:FREE,Indoor
ATTACH;FMTTYPE=image/jpeg:https://kcparent.com/wp-content/uploads/2025/07/Time-for-Art.jpg
END:VEVENT
BEGIN:VEVENT
DTSTART;TZID=America/Denver:20280418T140000
DTEND;TZID=America/Denver:20280418T180000
DTSTAMP:20260419T210549
CREATED:20251221T171503Z
LAST-MODIFIED:20251222T171836Z
UID:10017169-1839679200-1839693600@kcparent.com
SUMMARY:I AM Frozen Dessert Cafe Tuesday Happy Hour
DESCRIPTION:Buy any 2 Drinks at regular menu price and your 3rd is FREE every Tuesday 2PM-6PM @ I AM Frozen Dessert Cafe.
URL:https://kcparent.com/event/i-am-frozen-dessert-cafe-tuesday-happy-hour/2028-04-18/
LOCATION:Missouri
CATEGORIES:FREE
ATTACH;FMTTYPE=image/jpeg:https://kcparent.com/wp-content/uploads/2025/12/Screenshot_20251221_104733_Instagram.jpg
END:VEVENT
BEGIN:VEVENT
DTSTART;TZID=America/Denver:20280422T130000
DTEND;TZID=America/Denver:20280422T160000
DTSTAMP:20260419T210549
CREATED:20260311T032407Z
LAST-MODIFIED:20260311T032634Z
UID:10024110-1840021200-1840032000@kcparent.com
SUMMARY:Free Weekend Fun: Nouveau Notes 
DESCRIPTION:Free | Drop-in event (no registration required)   \nFun Spot: Lobby Level\, Bloch Building | 1–4 pm \nDesign your own postcard inspired by the work of Alfonse Mucha. \nGallery Activity: Gallery 128 | 1–4 pm  \nExplore how artists combined colors\, shapes and lines to create stunning creations with the help of Museum Guide volunteers.
URL:https://kcparent.com/event/free-weekend-fun-at-the-nelson-2/2028-04-22/
LOCATION:Nelson-Atkins Museum of Art\, 4525 Oak St.\, Kansas City\, Missouri\, United States
CATEGORIES:FREE,Indoor
ATTACH;FMTTYPE=image/jpeg:https://kcparent.com/wp-content/uploads/2025/07/Time-for-Art.jpg
END:VEVENT
BEGIN:VEVENT
DTSTART;TZID=America/Denver:20280423T130000
DTEND;TZID=America/Denver:20280423T160000
DTSTAMP:20260419T210549
CREATED:20260311T032407Z
LAST-MODIFIED:20260311T032634Z
UID:10024111-1840107600-1840118400@kcparent.com
SUMMARY:Free Weekend Fun: Nouveau Notes 
DESCRIPTION:Free | Drop-in event (no registration required)   \nFun Spot: Lobby Level\, Bloch Building | 1–4 pm \nDesign your own postcard inspired by the work of Alfonse Mucha. \nGallery Activity: Gallery 128 | 1–4 pm  \nExplore how artists combined colors\, shapes and lines to create stunning creations with the help of Museum Guide volunteers.
URL:https://kcparent.com/event/free-weekend-fun-at-the-nelson-2/2028-04-23/
LOCATION:Nelson-Atkins Museum of Art\, 4525 Oak St.\, Kansas City\, Missouri\, United States
CATEGORIES:FREE,Indoor
ATTACH;FMTTYPE=image/jpeg:https://kcparent.com/wp-content/uploads/2025/07/Time-for-Art.jpg
END:VEVENT
BEGIN:VEVENT
DTSTART;TZID=America/Denver:20280425T140000
DTEND;TZID=America/Denver:20280425T180000
DTSTAMP:20260419T210549
CREATED:20251221T171503Z
LAST-MODIFIED:20251222T171836Z
UID:10017170-1840284000-1840298400@kcparent.com
SUMMARY:I AM Frozen Dessert Cafe Tuesday Happy Hour
DESCRIPTION:Buy any 2 Drinks at regular menu price and your 3rd is FREE every Tuesday 2PM-6PM @ I AM Frozen Dessert Cafe.
URL:https://kcparent.com/event/i-am-frozen-dessert-cafe-tuesday-happy-hour/2028-04-25/
LOCATION:Missouri
CATEGORIES:FREE
ATTACH;FMTTYPE=image/jpeg:https://kcparent.com/wp-content/uploads/2025/12/Screenshot_20251221_104733_Instagram.jpg
END:VEVENT
BEGIN:VEVENT
DTSTART;TZID=America/Denver:20280429T130000
DTEND;TZID=America/Denver:20280429T160000
DTSTAMP:20260419T210549
CREATED:20260311T032407Z
LAST-MODIFIED:20260311T032634Z
UID:10024112-1840626000-1840636800@kcparent.com
SUMMARY:Free Weekend Fun: Nouveau Notes 
DESCRIPTION:Free | Drop-in event (no registration required)   \nFun Spot: Lobby Level\, Bloch Building | 1–4 pm \nDesign your own postcard inspired by the work of Alfonse Mucha. \nGallery Activity: Gallery 128 | 1–4 pm  \nExplore how artists combined colors\, shapes and lines to create stunning creations with the help of Museum Guide volunteers.
URL:https://kcparent.com/event/free-weekend-fun-at-the-nelson-2/2028-04-29/
LOCATION:Nelson-Atkins Museum of Art\, 4525 Oak St.\, Kansas City\, Missouri\, United States
CATEGORIES:FREE,Indoor
ATTACH;FMTTYPE=image/jpeg:https://kcparent.com/wp-content/uploads/2025/07/Time-for-Art.jpg
END:VEVENT
BEGIN:VEVENT
DTSTART;TZID=America/Denver:20280430T130000
DTEND;TZID=America/Denver:20280430T160000
DTSTAMP:20260419T210549
CREATED:20260311T032407Z
LAST-MODIFIED:20260311T032634Z
UID:10024113-1840712400-1840723200@kcparent.com
SUMMARY:Free Weekend Fun: Nouveau Notes 
DESCRIPTION:Free | Drop-in event (no registration required)   \nFun Spot: Lobby Level\, Bloch Building | 1–4 pm \nDesign your own postcard inspired by the work of Alfonse Mucha. \nGallery Activity: Gallery 128 | 1–4 pm  \nExplore how artists combined colors\, shapes and lines to create stunning creations with the help of Museum Guide volunteers.
URL:https://kcparent.com/event/free-weekend-fun-at-the-nelson-2/2028-04-30/
LOCATION:Nelson-Atkins Museum of Art\, 4525 Oak St.\, Kansas City\, Missouri\, United States
CATEGORIES:FREE,Indoor
ATTACH;FMTTYPE=image/jpeg:https://kcparent.com/wp-content/uploads/2025/07/Time-for-Art.jpg
END:VEVENT
BEGIN:VEVENT
DTSTART;TZID=America/Denver:20280502T090000
DTEND;TZID=America/Denver:20280502T120000
DTSTAMP:20260419T210549
CREATED:20260113T222538Z
LAST-MODIFIED:20260403T152648Z
UID:10025062-1840870800-1840881600@kcparent.com
SUMMARY:Discovery Day at the Arboretum
DESCRIPTION:Craft time awaits on the first Tuesday of the month at the Overland Park Arboretum & Botanical Gardens. Little explorers are in for a treat as they immerse themselves in the enchanting world of nature and creativity. Each month\, a new make-and-take project unfolds on Discovery Day. Crafting supplies are included\, and the projects are available on a first-come\, first-served basis to the first 100 participants. \nThe first Tuesday of the month also happens to be Free Admission Day at the Arboretum\, so entry into the gardens and this project are all free! \n2026 projects:\nJanuary 6 – Bird binoculars\nFebruary 3 – Paint and art show\nMarch 3 – Ladybug rock painting\nApril 7- Flower press\nMay 5 – Paper bag kites\nJune 2- Paper spinner and/or Pinwheel\nJuly 7 – Grass hair planters\nAugust 4 – Nature journals\nSeptember 1 – Build a bug and/or Bug hotel\nOctober 6 – Bat rockets\nNovember 3 – Leaf suncatchers\nDecember 1 – Bean mosaic art
URL:https://kcparent.com/event/discovery-day-at-the-arboretum-11/2028-05-02/
LOCATION:Overland Park Arboretum and Botanical Gardens\, 8909 W. 179th St.\, Overland Park\, Kansas\, 66013\, United States
CATEGORIES:FREE
ATTACH;FMTTYPE=image/png:https://kcparent.com/wp-content/uploads/2026/01/Discovery-Day-12.png
END:VEVENT
BEGIN:VEVENT
DTSTART;TZID=America/Denver:20280502T140000
DTEND;TZID=America/Denver:20280502T180000
DTSTAMP:20260419T210549
CREATED:20251221T171503Z
LAST-MODIFIED:20251222T171836Z
UID:10017171-1840888800-1840903200@kcparent.com
SUMMARY:I AM Frozen Dessert Cafe Tuesday Happy Hour
DESCRIPTION:Buy any 2 Drinks at regular menu price and your 3rd is FREE every Tuesday 2PM-6PM @ I AM Frozen Dessert Cafe.
URL:https://kcparent.com/event/i-am-frozen-dessert-cafe-tuesday-happy-hour/2028-05-02/
LOCATION:Missouri
CATEGORIES:FREE
ATTACH;FMTTYPE=image/jpeg:https://kcparent.com/wp-content/uploads/2025/12/Screenshot_20251221_104733_Instagram.jpg
END:VEVENT
BEGIN:VEVENT
DTSTART;TZID=America/Denver:20280506T130000
DTEND;TZID=America/Denver:20280506T160000
DTSTAMP:20260419T210549
CREATED:20260311T032407Z
LAST-MODIFIED:20260311T032634Z
UID:10024114-1841230800-1841241600@kcparent.com
SUMMARY:Free Weekend Fun: Nouveau Notes 
DESCRIPTION:Free | Drop-in event (no registration required)   \nFun Spot: Lobby Level\, Bloch Building | 1–4 pm \nDesign your own postcard inspired by the work of Alfonse Mucha. \nGallery Activity: Gallery 128 | 1–4 pm  \nExplore how artists combined colors\, shapes and lines to create stunning creations with the help of Museum Guide volunteers.
URL:https://kcparent.com/event/free-weekend-fun-at-the-nelson-2/2028-05-06/
LOCATION:Nelson-Atkins Museum of Art\, 4525 Oak St.\, Kansas City\, Missouri\, United States
CATEGORIES:FREE,Indoor
ATTACH;FMTTYPE=image/jpeg:https://kcparent.com/wp-content/uploads/2025/07/Time-for-Art.jpg
END:VEVENT
BEGIN:VEVENT
DTSTART;TZID=America/Denver:20280507T130000
DTEND;TZID=America/Denver:20280507T160000
DTSTAMP:20260419T210549
CREATED:20260311T032407Z
LAST-MODIFIED:20260311T032634Z
UID:10024115-1841317200-1841328000@kcparent.com
SUMMARY:Free Weekend Fun: Nouveau Notes 
DESCRIPTION:Free | Drop-in event (no registration required)   \nFun Spot: Lobby Level\, Bloch Building | 1–4 pm \nDesign your own postcard inspired by the work of Alfonse Mucha. \nGallery Activity: Gallery 128 | 1–4 pm  \nExplore how artists combined colors\, shapes and lines to create stunning creations with the help of Museum Guide volunteers.
URL:https://kcparent.com/event/free-weekend-fun-at-the-nelson-2/2028-05-07/
LOCATION:Nelson-Atkins Museum of Art\, 4525 Oak St.\, Kansas City\, Missouri\, United States
CATEGORIES:FREE,Indoor
ATTACH;FMTTYPE=image/jpeg:https://kcparent.com/wp-content/uploads/2025/07/Time-for-Art.jpg
END:VEVENT
BEGIN:VEVENT
DTSTART;TZID=America/Denver:20280509T140000
DTEND;TZID=America/Denver:20280509T180000
DTSTAMP:20260419T210549
CREATED:20251221T171503Z
LAST-MODIFIED:20251222T171836Z
UID:10017172-1841493600-1841508000@kcparent.com
SUMMARY:I AM Frozen Dessert Cafe Tuesday Happy Hour
DESCRIPTION:Buy any 2 Drinks at regular menu price and your 3rd is FREE every Tuesday 2PM-6PM @ I AM Frozen Dessert Cafe.
URL:https://kcparent.com/event/i-am-frozen-dessert-cafe-tuesday-happy-hour/2028-05-09/
LOCATION:Missouri
CATEGORIES:FREE
ATTACH;FMTTYPE=image/jpeg:https://kcparent.com/wp-content/uploads/2025/12/Screenshot_20251221_104733_Instagram.jpg
END:VEVENT
BEGIN:VEVENT
DTSTART;TZID=America/Denver:20280513T130000
DTEND;TZID=America/Denver:20280513T160000
DTSTAMP:20260419T210549
CREATED:20260311T032407Z
LAST-MODIFIED:20260311T032634Z
UID:10024116-1841835600-1841846400@kcparent.com
SUMMARY:Free Weekend Fun: Nouveau Notes 
DESCRIPTION:Free | Drop-in event (no registration required)   \nFun Spot: Lobby Level\, Bloch Building | 1–4 pm \nDesign your own postcard inspired by the work of Alfonse Mucha. \nGallery Activity: Gallery 128 | 1–4 pm  \nExplore how artists combined colors\, shapes and lines to create stunning creations with the help of Museum Guide volunteers.
URL:https://kcparent.com/event/free-weekend-fun-at-the-nelson-2/2028-05-13/
LOCATION:Nelson-Atkins Museum of Art\, 4525 Oak St.\, Kansas City\, Missouri\, United States
CATEGORIES:FREE,Indoor
ATTACH;FMTTYPE=image/jpeg:https://kcparent.com/wp-content/uploads/2025/07/Time-for-Art.jpg
END:VEVENT
BEGIN:VEVENT
DTSTART;TZID=America/Denver:20280514T130000
DTEND;TZID=America/Denver:20280514T160000
DTSTAMP:20260419T210549
CREATED:20260311T032407Z
LAST-MODIFIED:20260311T032634Z
UID:10024117-1841922000-1841932800@kcparent.com
SUMMARY:Free Weekend Fun: Nouveau Notes 
DESCRIPTION:Free | Drop-in event (no registration required)   \nFun Spot: Lobby Level\, Bloch Building | 1–4 pm \nDesign your own postcard inspired by the work of Alfonse Mucha. \nGallery Activity: Gallery 128 | 1–4 pm  \nExplore how artists combined colors\, shapes and lines to create stunning creations with the help of Museum Guide volunteers.
URL:https://kcparent.com/event/free-weekend-fun-at-the-nelson-2/2028-05-14/
LOCATION:Nelson-Atkins Museum of Art\, 4525 Oak St.\, Kansas City\, Missouri\, United States
CATEGORIES:FREE,Indoor
ATTACH;FMTTYPE=image/jpeg:https://kcparent.com/wp-content/uploads/2025/07/Time-for-Art.jpg
END:VEVENT
BEGIN:VEVENT
DTSTART;TZID=America/Denver:20280516T140000
DTEND;TZID=America/Denver:20280516T180000
DTSTAMP:20260419T210549
CREATED:20251221T171503Z
LAST-MODIFIED:20251222T171836Z
UID:10017173-1842098400-1842112800@kcparent.com
SUMMARY:I AM Frozen Dessert Cafe Tuesday Happy Hour
DESCRIPTION:Buy any 2 Drinks at regular menu price and your 3rd is FREE every Tuesday 2PM-6PM @ I AM Frozen Dessert Cafe.
URL:https://kcparent.com/event/i-am-frozen-dessert-cafe-tuesday-happy-hour/2028-05-16/
LOCATION:Missouri
CATEGORIES:FREE
ATTACH;FMTTYPE=image/jpeg:https://kcparent.com/wp-content/uploads/2025/12/Screenshot_20251221_104733_Instagram.jpg
END:VEVENT
BEGIN:VEVENT
DTSTART;TZID=America/Denver:20280520T130000
DTEND;TZID=America/Denver:20280520T160000
DTSTAMP:20260419T210549
CREATED:20260311T032407Z
LAST-MODIFIED:20260311T032634Z
UID:10024118-1842440400-1842451200@kcparent.com
SUMMARY:Free Weekend Fun: Nouveau Notes 
DESCRIPTION:Free | Drop-in event (no registration required)   \nFun Spot: Lobby Level\, Bloch Building | 1–4 pm \nDesign your own postcard inspired by the work of Alfonse Mucha. \nGallery Activity: Gallery 128 | 1–4 pm  \nExplore how artists combined colors\, shapes and lines to create stunning creations with the help of Museum Guide volunteers.
URL:https://kcparent.com/event/free-weekend-fun-at-the-nelson-2/2028-05-20/
LOCATION:Nelson-Atkins Museum of Art\, 4525 Oak St.\, Kansas City\, Missouri\, United States
CATEGORIES:FREE,Indoor
ATTACH;FMTTYPE=image/jpeg:https://kcparent.com/wp-content/uploads/2025/07/Time-for-Art.jpg
END:VEVENT
BEGIN:VEVENT
DTSTART;TZID=America/Denver:20280521T130000
DTEND;TZID=America/Denver:20280521T160000
DTSTAMP:20260419T210549
CREATED:20260311T032407Z
LAST-MODIFIED:20260311T032634Z
UID:10024119-1842526800-1842537600@kcparent.com
SUMMARY:Free Weekend Fun: Nouveau Notes 
DESCRIPTION:Free | Drop-in event (no registration required)   \nFun Spot: Lobby Level\, Bloch Building | 1–4 pm \nDesign your own postcard inspired by the work of Alfonse Mucha. \nGallery Activity: Gallery 128 | 1–4 pm  \nExplore how artists combined colors\, shapes and lines to create stunning creations with the help of Museum Guide volunteers.
URL:https://kcparent.com/event/free-weekend-fun-at-the-nelson-2/2028-05-21/
LOCATION:Nelson-Atkins Museum of Art\, 4525 Oak St.\, Kansas City\, Missouri\, United States
CATEGORIES:FREE,Indoor
ATTACH;FMTTYPE=image/jpeg:https://kcparent.com/wp-content/uploads/2025/07/Time-for-Art.jpg
END:VEVENT
BEGIN:VEVENT
DTSTART;TZID=America/Denver:20280523T140000
DTEND;TZID=America/Denver:20280523T180000
DTSTAMP:20260419T210549
CREATED:20251221T171503Z
LAST-MODIFIED:20251222T171836Z
UID:10017174-1842703200-1842717600@kcparent.com
SUMMARY:I AM Frozen Dessert Cafe Tuesday Happy Hour
DESCRIPTION:Buy any 2 Drinks at regular menu price and your 3rd is FREE every Tuesday 2PM-6PM @ I AM Frozen Dessert Cafe.
URL:https://kcparent.com/event/i-am-frozen-dessert-cafe-tuesday-happy-hour/2028-05-23/
LOCATION:Missouri
CATEGORIES:FREE
ATTACH;FMTTYPE=image/jpeg:https://kcparent.com/wp-content/uploads/2025/12/Screenshot_20251221_104733_Instagram.jpg
END:VEVENT
BEGIN:VEVENT
DTSTART;TZID=America/Denver:20280527T130000
DTEND;TZID=America/Denver:20280527T160000
DTSTAMP:20260419T210549
CREATED:20260311T032407Z
LAST-MODIFIED:20260311T032634Z
UID:10024120-1843045200-1843056000@kcparent.com
SUMMARY:Free Weekend Fun: Nouveau Notes 
DESCRIPTION:Free | Drop-in event (no registration required)   \nFun Spot: Lobby Level\, Bloch Building | 1–4 pm \nDesign your own postcard inspired by the work of Alfonse Mucha. \nGallery Activity: Gallery 128 | 1–4 pm  \nExplore how artists combined colors\, shapes and lines to create stunning creations with the help of Museum Guide volunteers.
URL:https://kcparent.com/event/free-weekend-fun-at-the-nelson-2/2028-05-27/
LOCATION:Nelson-Atkins Museum of Art\, 4525 Oak St.\, Kansas City\, Missouri\, United States
CATEGORIES:FREE,Indoor
ATTACH;FMTTYPE=image/jpeg:https://kcparent.com/wp-content/uploads/2025/07/Time-for-Art.jpg
END:VEVENT
BEGIN:VEVENT
DTSTART;TZID=America/Denver:20280528T130000
DTEND;TZID=America/Denver:20280528T160000
DTSTAMP:20260419T210549
CREATED:20260311T032407Z
LAST-MODIFIED:20260311T032634Z
UID:10024121-1843131600-1843142400@kcparent.com
SUMMARY:Free Weekend Fun: Nouveau Notes 
DESCRIPTION:Free | Drop-in event (no registration required)   \nFun Spot: Lobby Level\, Bloch Building | 1–4 pm \nDesign your own postcard inspired by the work of Alfonse Mucha. \nGallery Activity: Gallery 128 | 1–4 pm  \nExplore how artists combined colors\, shapes and lines to create stunning creations with the help of Museum Guide volunteers.
URL:https://kcparent.com/event/free-weekend-fun-at-the-nelson-2/2028-05-28/
LOCATION:Nelson-Atkins Museum of Art\, 4525 Oak St.\, Kansas City\, Missouri\, United States
CATEGORIES:FREE,Indoor
ATTACH;FMTTYPE=image/jpeg:https://kcparent.com/wp-content/uploads/2025/07/Time-for-Art.jpg
END:VEVENT
BEGIN:VEVENT
DTSTART;TZID=America/Denver:20280530T140000
DTEND;TZID=America/Denver:20280530T180000
DTSTAMP:20260419T210549
CREATED:20251221T171503Z
LAST-MODIFIED:20251222T171836Z
UID:10017175-1843308000-1843322400@kcparent.com
SUMMARY:I AM Frozen Dessert Cafe Tuesday Happy Hour
DESCRIPTION:Buy any 2 Drinks at regular menu price and your 3rd is FREE every Tuesday 2PM-6PM @ I AM Frozen Dessert Cafe.
URL:https://kcparent.com/event/i-am-frozen-dessert-cafe-tuesday-happy-hour/2028-05-30/
LOCATION:Missouri
CATEGORIES:FREE
ATTACH;FMTTYPE=image/jpeg:https://kcparent.com/wp-content/uploads/2025/12/Screenshot_20251221_104733_Instagram.jpg
END:VEVENT
BEGIN:VEVENT
DTSTART;TZID=America/Denver:20280603T130000
DTEND;TZID=America/Denver:20280603T160000
DTSTAMP:20260419T210549
CREATED:20260311T032407Z
LAST-MODIFIED:20260311T032634Z
UID:10024122-1843650000-1843660800@kcparent.com
SUMMARY:Free Weekend Fun: Nouveau Notes 
DESCRIPTION:Free | Drop-in event (no registration required)   \nFun Spot: Lobby Level\, Bloch Building | 1–4 pm \nDesign your own postcard inspired by the work of Alfonse Mucha. \nGallery Activity: Gallery 128 | 1–4 pm  \nExplore how artists combined colors\, shapes and lines to create stunning creations with the help of Museum Guide volunteers.
URL:https://kcparent.com/event/free-weekend-fun-at-the-nelson-2/2028-06-03/
LOCATION:Nelson-Atkins Museum of Art\, 4525 Oak St.\, Kansas City\, Missouri\, United States
CATEGORIES:FREE,Indoor
ATTACH;FMTTYPE=image/jpeg:https://kcparent.com/wp-content/uploads/2025/07/Time-for-Art.jpg
END:VEVENT
BEGIN:VEVENT
DTSTART;TZID=America/Denver:20280604T130000
DTEND;TZID=America/Denver:20280604T160000
DTSTAMP:20260419T210549
CREATED:20260311T032407Z
LAST-MODIFIED:20260311T032634Z
UID:10024123-1843736400-1843747200@kcparent.com
SUMMARY:Free Weekend Fun: Nouveau Notes 
DESCRIPTION:Free | Drop-in event (no registration required)   \nFun Spot: Lobby Level\, Bloch Building | 1–4 pm \nDesign your own postcard inspired by the work of Alfonse Mucha. \nGallery Activity: Gallery 128 | 1–4 pm  \nExplore how artists combined colors\, shapes and lines to create stunning creations with the help of Museum Guide volunteers.
URL:https://kcparent.com/event/free-weekend-fun-at-the-nelson-2/2028-06-04/
LOCATION:Nelson-Atkins Museum of Art\, 4525 Oak St.\, Kansas City\, Missouri\, United States
CATEGORIES:FREE,Indoor
ATTACH;FMTTYPE=image/jpeg:https://kcparent.com/wp-content/uploads/2025/07/Time-for-Art.jpg
END:VEVENT
BEGIN:VEVENT
DTSTART;TZID=America/Denver:20280606T090000
DTEND;TZID=America/Denver:20280606T120000
DTSTAMP:20260419T210549
CREATED:20260113T222538Z
LAST-MODIFIED:20260403T152648Z
UID:10025063-1843894800-1843905600@kcparent.com
SUMMARY:Discovery Day at the Arboretum
DESCRIPTION:Craft time awaits on the first Tuesday of the month at the Overland Park Arboretum & Botanical Gardens. Little explorers are in for a treat as they immerse themselves in the enchanting world of nature and creativity. Each month\, a new make-and-take project unfolds on Discovery Day. Crafting supplies are included\, and the projects are available on a first-come\, first-served basis to the first 100 participants. \nThe first Tuesday of the month also happens to be Free Admission Day at the Arboretum\, so entry into the gardens and this project are all free! \n2026 projects:\nJanuary 6 – Bird binoculars\nFebruary 3 – Paint and art show\nMarch 3 – Ladybug rock painting\nApril 7- Flower press\nMay 5 – Paper bag kites\nJune 2- Paper spinner and/or Pinwheel\nJuly 7 – Grass hair planters\nAugust 4 – Nature journals\nSeptember 1 – Build a bug and/or Bug hotel\nOctober 6 – Bat rockets\nNovember 3 – Leaf suncatchers\nDecember 1 – Bean mosaic art
URL:https://kcparent.com/event/discovery-day-at-the-arboretum-11/2028-06-06/
LOCATION:Overland Park Arboretum and Botanical Gardens\, 8909 W. 179th St.\, Overland Park\, Kansas\, 66013\, United States
CATEGORIES:FREE
ATTACH;FMTTYPE=image/png:https://kcparent.com/wp-content/uploads/2026/01/Discovery-Day-12.png
END:VEVENT
BEGIN:VEVENT
DTSTART;TZID=America/Denver:20280606T140000
DTEND;TZID=America/Denver:20280606T180000
DTSTAMP:20260419T210549
CREATED:20251221T171503Z
LAST-MODIFIED:20251222T171836Z
UID:10017176-1843912800-1843927200@kcparent.com
SUMMARY:I AM Frozen Dessert Cafe Tuesday Happy Hour
DESCRIPTION:Buy any 2 Drinks at regular menu price and your 3rd is FREE every Tuesday 2PM-6PM @ I AM Frozen Dessert Cafe.
URL:https://kcparent.com/event/i-am-frozen-dessert-cafe-tuesday-happy-hour/2028-06-06/
LOCATION:Missouri
CATEGORIES:FREE
ATTACH;FMTTYPE=image/jpeg:https://kcparent.com/wp-content/uploads/2025/12/Screenshot_20251221_104733_Instagram.jpg
END:VEVENT
BEGIN:VEVENT
DTSTART;TZID=America/Denver:20280610T130000
DTEND;TZID=America/Denver:20280610T160000
DTSTAMP:20260419T210549
CREATED:20260311T032407Z
LAST-MODIFIED:20260311T032634Z
UID:10024124-1844254800-1844265600@kcparent.com
SUMMARY:Free Weekend Fun: Nouveau Notes 
DESCRIPTION:Free | Drop-in event (no registration required)   \nFun Spot: Lobby Level\, Bloch Building | 1–4 pm \nDesign your own postcard inspired by the work of Alfonse Mucha. \nGallery Activity: Gallery 128 | 1–4 pm  \nExplore how artists combined colors\, shapes and lines to create stunning creations with the help of Museum Guide volunteers.
URL:https://kcparent.com/event/free-weekend-fun-at-the-nelson-2/2028-06-10/
LOCATION:Nelson-Atkins Museum of Art\, 4525 Oak St.\, Kansas City\, Missouri\, United States
CATEGORIES:FREE,Indoor
ATTACH;FMTTYPE=image/jpeg:https://kcparent.com/wp-content/uploads/2025/07/Time-for-Art.jpg
END:VEVENT
BEGIN:VEVENT
DTSTART;TZID=America/Denver:20280611T130000
DTEND;TZID=America/Denver:20280611T160000
DTSTAMP:20260419T210549
CREATED:20260311T032407Z
LAST-MODIFIED:20260311T032634Z
UID:10024125-1844341200-1844352000@kcparent.com
SUMMARY:Free Weekend Fun: Nouveau Notes 
DESCRIPTION:Free | Drop-in event (no registration required)   \nFun Spot: Lobby Level\, Bloch Building | 1–4 pm \nDesign your own postcard inspired by the work of Alfonse Mucha. \nGallery Activity: Gallery 128 | 1–4 pm  \nExplore how artists combined colors\, shapes and lines to create stunning creations with the help of Museum Guide volunteers.
URL:https://kcparent.com/event/free-weekend-fun-at-the-nelson-2/2028-06-11/
LOCATION:Nelson-Atkins Museum of Art\, 4525 Oak St.\, Kansas City\, Missouri\, United States
CATEGORIES:FREE,Indoor
ATTACH;FMTTYPE=image/jpeg:https://kcparent.com/wp-content/uploads/2025/07/Time-for-Art.jpg
END:VEVENT
BEGIN:VEVENT
DTSTART;TZID=America/Denver:20280613T140000
DTEND;TZID=America/Denver:20280613T180000
DTSTAMP:20260419T210549
CREATED:20251221T171503Z
LAST-MODIFIED:20251222T171836Z
UID:10017177-1844517600-1844532000@kcparent.com
SUMMARY:I AM Frozen Dessert Cafe Tuesday Happy Hour
DESCRIPTION:Buy any 2 Drinks at regular menu price and your 3rd is FREE every Tuesday 2PM-6PM @ I AM Frozen Dessert Cafe.
URL:https://kcparent.com/event/i-am-frozen-dessert-cafe-tuesday-happy-hour/2028-06-13/
LOCATION:Missouri
CATEGORIES:FREE
ATTACH;FMTTYPE=image/jpeg:https://kcparent.com/wp-content/uploads/2025/12/Screenshot_20251221_104733_Instagram.jpg
END:VEVENT
BEGIN:VEVENT
DTSTART;TZID=America/Denver:20280617T130000
DTEND;TZID=America/Denver:20280617T160000
DTSTAMP:20260419T210549
CREATED:20260311T032407Z
LAST-MODIFIED:20260311T032634Z
UID:10024126-1844859600-1844870400@kcparent.com
SUMMARY:Free Weekend Fun: Nouveau Notes 
DESCRIPTION:Free | Drop-in event (no registration required)   \nFun Spot: Lobby Level\, Bloch Building | 1–4 pm \nDesign your own postcard inspired by the work of Alfonse Mucha. \nGallery Activity: Gallery 128 | 1–4 pm  \nExplore how artists combined colors\, shapes and lines to create stunning creations with the help of Museum Guide volunteers.
URL:https://kcparent.com/event/free-weekend-fun-at-the-nelson-2/2028-06-17/
LOCATION:Nelson-Atkins Museum of Art\, 4525 Oak St.\, Kansas City\, Missouri\, United States
CATEGORIES:FREE,Indoor
ATTACH;FMTTYPE=image/jpeg:https://kcparent.com/wp-content/uploads/2025/07/Time-for-Art.jpg
END:VEVENT
BEGIN:VEVENT
DTSTART;TZID=America/Denver:20280618T130000
DTEND;TZID=America/Denver:20280618T160000
DTSTAMP:20260419T210549
CREATED:20260311T032407Z
LAST-MODIFIED:20260311T032634Z
UID:10024127-1844946000-1844956800@kcparent.com
SUMMARY:Free Weekend Fun: Nouveau Notes 
DESCRIPTION:Free | Drop-in event (no registration required)   \nFun Spot: Lobby Level\, Bloch Building | 1–4 pm \nDesign your own postcard inspired by the work of Alfonse Mucha. \nGallery Activity: Gallery 128 | 1–4 pm  \nExplore how artists combined colors\, shapes and lines to create stunning creations with the help of Museum Guide volunteers.
URL:https://kcparent.com/event/free-weekend-fun-at-the-nelson-2/2028-06-18/
LOCATION:Nelson-Atkins Museum of Art\, 4525 Oak St.\, Kansas City\, Missouri\, United States
CATEGORIES:FREE,Indoor
ATTACH;FMTTYPE=image/jpeg:https://kcparent.com/wp-content/uploads/2025/07/Time-for-Art.jpg
END:VEVENT
END:VCALENDAR