BEGIN:VCALENDAR
VERSION:2.0
PRODID:-//KC Parent - ECPv6.15.18//NONSGML v1.0//EN
CALSCALE:GREGORIAN
METHOD:PUBLISH
X-WR-CALNAME:KC Parent
X-ORIGINAL-URL:https://kcparent.com
X-WR-CALDESC:Events for KC Parent
REFRESH-INTERVAL;VALUE=DURATION:PT1H
X-Robots-Tag:noindex
X-PUBLISHED-TTL:PT1H
BEGIN:VTIMEZONE
TZID:America/Denver
BEGIN:DAYLIGHT
TZOFFSETFROM:-0700
TZOFFSETTO:-0600
TZNAME:MDT
DTSTART:20280312T090000
END:DAYLIGHT
BEGIN:STANDARD
TZOFFSETFROM:-0600
TZOFFSETTO:-0700
TZNAME:MST
DTSTART:20281105T080000
END:STANDARD
BEGIN:DAYLIGHT
TZOFFSETFROM:-0700
TZOFFSETTO:-0600
TZNAME:MDT
DTSTART:20290311T090000
END:DAYLIGHT
BEGIN:STANDARD
TZOFFSETFROM:-0600
TZOFFSETTO:-0700
TZNAME:MST
DTSTART:20291104T080000
END:STANDARD
BEGIN:DAYLIGHT
TZOFFSETFROM:-0700
TZOFFSETTO:-0600
TZNAME:MDT
DTSTART:20300310T090000
END:DAYLIGHT
BEGIN:STANDARD
TZOFFSETFROM:-0600
TZOFFSETTO:-0700
TZNAME:MST
DTSTART:20301103T080000
END:STANDARD
END:VTIMEZONE
BEGIN:VEVENT
DTSTART;TZID=America/Denver:20290415T130000
DTEND;TZID=America/Denver:20290415T160000
DTSTAMP:20260419T174158
CREATED:20260311T032407Z
LAST-MODIFIED:20260311T032634Z
UID:10024213-1870952400-1870963200@kcparent.com
SUMMARY:Free Weekend Fun: Nouveau Notes 
DESCRIPTION:Free | Drop-in event (no registration required)   \nFun Spot: Lobby Level\, Bloch Building | 1–4 pm \nDesign your own postcard inspired by the work of Alfonse Mucha. \nGallery Activity: Gallery 128 | 1–4 pm  \nExplore how artists combined colors\, shapes and lines to create stunning creations with the help of Museum Guide volunteers.
URL:https://kcparent.com/event/free-weekend-fun-at-the-nelson-2/2029-04-15/
LOCATION:Nelson-Atkins Museum of Art\, 4525 Oak St.\, Kansas City\, Missouri\, United States
CATEGORIES:FREE,Indoor
ATTACH;FMTTYPE=image/jpeg:https://kcparent.com/wp-content/uploads/2025/07/Time-for-Art.jpg
END:VEVENT
BEGIN:VEVENT
DTSTART;TZID=America/Denver:20290417T140000
DTEND;TZID=America/Denver:20290417T180000
DTSTAMP:20260419T174158
CREATED:20251221T171503Z
LAST-MODIFIED:20251222T171836Z
UID:10017221-1871128800-1871143200@kcparent.com
SUMMARY:I AM Frozen Dessert Cafe Tuesday Happy Hour
DESCRIPTION:Buy any 2 Drinks at regular menu price and your 3rd is FREE every Tuesday 2PM-6PM @ I AM Frozen Dessert Cafe.
URL:https://kcparent.com/event/i-am-frozen-dessert-cafe-tuesday-happy-hour/2029-04-17/
LOCATION:Missouri
CATEGORIES:FREE
ATTACH;FMTTYPE=image/jpeg:https://kcparent.com/wp-content/uploads/2025/12/Screenshot_20251221_104733_Instagram.jpg
END:VEVENT
BEGIN:VEVENT
DTSTART;TZID=America/Denver:20290421T130000
DTEND;TZID=America/Denver:20290421T160000
DTSTAMP:20260419T174158
CREATED:20260311T032407Z
LAST-MODIFIED:20260311T032634Z
UID:10024214-1871470800-1871481600@kcparent.com
SUMMARY:Free Weekend Fun: Nouveau Notes 
DESCRIPTION:Free | Drop-in event (no registration required)   \nFun Spot: Lobby Level\, Bloch Building | 1–4 pm \nDesign your own postcard inspired by the work of Alfonse Mucha. \nGallery Activity: Gallery 128 | 1–4 pm  \nExplore how artists combined colors\, shapes and lines to create stunning creations with the help of Museum Guide volunteers.
URL:https://kcparent.com/event/free-weekend-fun-at-the-nelson-2/2029-04-21/
LOCATION:Nelson-Atkins Museum of Art\, 4525 Oak St.\, Kansas City\, Missouri\, United States
CATEGORIES:FREE,Indoor
ATTACH;FMTTYPE=image/jpeg:https://kcparent.com/wp-content/uploads/2025/07/Time-for-Art.jpg
END:VEVENT
BEGIN:VEVENT
DTSTART;TZID=America/Denver:20290422T130000
DTEND;TZID=America/Denver:20290422T160000
DTSTAMP:20260419T174158
CREATED:20260311T032407Z
LAST-MODIFIED:20260311T032634Z
UID:10024215-1871557200-1871568000@kcparent.com
SUMMARY:Free Weekend Fun: Nouveau Notes 
DESCRIPTION:Free | Drop-in event (no registration required)   \nFun Spot: Lobby Level\, Bloch Building | 1–4 pm \nDesign your own postcard inspired by the work of Alfonse Mucha. \nGallery Activity: Gallery 128 | 1–4 pm  \nExplore how artists combined colors\, shapes and lines to create stunning creations with the help of Museum Guide volunteers.
URL:https://kcparent.com/event/free-weekend-fun-at-the-nelson-2/2029-04-22/
LOCATION:Nelson-Atkins Museum of Art\, 4525 Oak St.\, Kansas City\, Missouri\, United States
CATEGORIES:FREE,Indoor
ATTACH;FMTTYPE=image/jpeg:https://kcparent.com/wp-content/uploads/2025/07/Time-for-Art.jpg
END:VEVENT
BEGIN:VEVENT
DTSTART;TZID=America/Denver:20290424T140000
DTEND;TZID=America/Denver:20290424T180000
DTSTAMP:20260419T174158
CREATED:20251221T171503Z
LAST-MODIFIED:20251222T171836Z
UID:10017222-1871733600-1871748000@kcparent.com
SUMMARY:I AM Frozen Dessert Cafe Tuesday Happy Hour
DESCRIPTION:Buy any 2 Drinks at regular menu price and your 3rd is FREE every Tuesday 2PM-6PM @ I AM Frozen Dessert Cafe.
URL:https://kcparent.com/event/i-am-frozen-dessert-cafe-tuesday-happy-hour/2029-04-24/
LOCATION:Missouri
CATEGORIES:FREE
ATTACH;FMTTYPE=image/jpeg:https://kcparent.com/wp-content/uploads/2025/12/Screenshot_20251221_104733_Instagram.jpg
END:VEVENT
BEGIN:VEVENT
DTSTART;TZID=America/Denver:20290428T130000
DTEND;TZID=America/Denver:20290428T160000
DTSTAMP:20260419T174158
CREATED:20260311T032407Z
LAST-MODIFIED:20260311T032634Z
UID:10024216-1872075600-1872086400@kcparent.com
SUMMARY:Free Weekend Fun: Nouveau Notes 
DESCRIPTION:Free | Drop-in event (no registration required)   \nFun Spot: Lobby Level\, Bloch Building | 1–4 pm \nDesign your own postcard inspired by the work of Alfonse Mucha. \nGallery Activity: Gallery 128 | 1–4 pm  \nExplore how artists combined colors\, shapes and lines to create stunning creations with the help of Museum Guide volunteers.
URL:https://kcparent.com/event/free-weekend-fun-at-the-nelson-2/2029-04-28/
LOCATION:Nelson-Atkins Museum of Art\, 4525 Oak St.\, Kansas City\, Missouri\, United States
CATEGORIES:FREE,Indoor
ATTACH;FMTTYPE=image/jpeg:https://kcparent.com/wp-content/uploads/2025/07/Time-for-Art.jpg
END:VEVENT
BEGIN:VEVENT
DTSTART;TZID=America/Denver:20290429T130000
DTEND;TZID=America/Denver:20290429T160000
DTSTAMP:20260419T174158
CREATED:20260311T032407Z
LAST-MODIFIED:20260311T032634Z
UID:10024217-1872162000-1872172800@kcparent.com
SUMMARY:Free Weekend Fun: Nouveau Notes 
DESCRIPTION:Free | Drop-in event (no registration required)   \nFun Spot: Lobby Level\, Bloch Building | 1–4 pm \nDesign your own postcard inspired by the work of Alfonse Mucha. \nGallery Activity: Gallery 128 | 1–4 pm  \nExplore how artists combined colors\, shapes and lines to create stunning creations with the help of Museum Guide volunteers.
URL:https://kcparent.com/event/free-weekend-fun-at-the-nelson-2/2029-04-29/
LOCATION:Nelson-Atkins Museum of Art\, 4525 Oak St.\, Kansas City\, Missouri\, United States
CATEGORIES:FREE,Indoor
ATTACH;FMTTYPE=image/jpeg:https://kcparent.com/wp-content/uploads/2025/07/Time-for-Art.jpg
END:VEVENT
BEGIN:VEVENT
DTSTART;TZID=America/Denver:20290501T090000
DTEND;TZID=America/Denver:20290501T120000
DTSTAMP:20260419T174158
CREATED:20260113T222538Z
LAST-MODIFIED:20260403T152648Z
UID:10025074-1872320400-1872331200@kcparent.com
SUMMARY:Discovery Day at the Arboretum
DESCRIPTION:Craft time awaits on the first Tuesday of the month at the Overland Park Arboretum & Botanical Gardens. Little explorers are in for a treat as they immerse themselves in the enchanting world of nature and creativity. Each month\, a new make-and-take project unfolds on Discovery Day. Crafting supplies are included\, and the projects are available on a first-come\, first-served basis to the first 100 participants. \nThe first Tuesday of the month also happens to be Free Admission Day at the Arboretum\, so entry into the gardens and this project are all free! \n2026 projects:\nJanuary 6 – Bird binoculars\nFebruary 3 – Paint and art show\nMarch 3 – Ladybug rock painting\nApril 7- Flower press\nMay 5 – Paper bag kites\nJune 2- Paper spinner and/or Pinwheel\nJuly 7 – Grass hair planters\nAugust 4 – Nature journals\nSeptember 1 – Build a bug and/or Bug hotel\nOctober 6 – Bat rockets\nNovember 3 – Leaf suncatchers\nDecember 1 – Bean mosaic art
URL:https://kcparent.com/event/discovery-day-at-the-arboretum-11/2029-05-01/
LOCATION:Overland Park Arboretum and Botanical Gardens\, 8909 W. 179th St.\, Overland Park\, Kansas\, 66013\, United States
CATEGORIES:FREE
ATTACH;FMTTYPE=image/png:https://kcparent.com/wp-content/uploads/2026/01/Discovery-Day-12.png
END:VEVENT
BEGIN:VEVENT
DTSTART;TZID=America/Denver:20290501T140000
DTEND;TZID=America/Denver:20290501T180000
DTSTAMP:20260419T174158
CREATED:20251221T171503Z
LAST-MODIFIED:20251222T171836Z
UID:10017223-1872338400-1872352800@kcparent.com
SUMMARY:I AM Frozen Dessert Cafe Tuesday Happy Hour
DESCRIPTION:Buy any 2 Drinks at regular menu price and your 3rd is FREE every Tuesday 2PM-6PM @ I AM Frozen Dessert Cafe.
URL:https://kcparent.com/event/i-am-frozen-dessert-cafe-tuesday-happy-hour/2029-05-01/
LOCATION:Missouri
CATEGORIES:FREE
ATTACH;FMTTYPE=image/jpeg:https://kcparent.com/wp-content/uploads/2025/12/Screenshot_20251221_104733_Instagram.jpg
END:VEVENT
BEGIN:VEVENT
DTSTART;TZID=America/Denver:20290505T130000
DTEND;TZID=America/Denver:20290505T160000
DTSTAMP:20260419T174158
CREATED:20260311T032407Z
LAST-MODIFIED:20260311T032634Z
UID:10024218-1872680400-1872691200@kcparent.com
SUMMARY:Free Weekend Fun: Nouveau Notes 
DESCRIPTION:Free | Drop-in event (no registration required)   \nFun Spot: Lobby Level\, Bloch Building | 1–4 pm \nDesign your own postcard inspired by the work of Alfonse Mucha. \nGallery Activity: Gallery 128 | 1–4 pm  \nExplore how artists combined colors\, shapes and lines to create stunning creations with the help of Museum Guide volunteers.
URL:https://kcparent.com/event/free-weekend-fun-at-the-nelson-2/2029-05-05/
LOCATION:Nelson-Atkins Museum of Art\, 4525 Oak St.\, Kansas City\, Missouri\, United States
CATEGORIES:FREE,Indoor
ATTACH;FMTTYPE=image/jpeg:https://kcparent.com/wp-content/uploads/2025/07/Time-for-Art.jpg
END:VEVENT
BEGIN:VEVENT
DTSTART;TZID=America/Denver:20290506T130000
DTEND;TZID=America/Denver:20290506T160000
DTSTAMP:20260419T174158
CREATED:20260311T032407Z
LAST-MODIFIED:20260311T032634Z
UID:10024219-1872766800-1872777600@kcparent.com
SUMMARY:Free Weekend Fun: Nouveau Notes 
DESCRIPTION:Free | Drop-in event (no registration required)   \nFun Spot: Lobby Level\, Bloch Building | 1–4 pm \nDesign your own postcard inspired by the work of Alfonse Mucha. \nGallery Activity: Gallery 128 | 1–4 pm  \nExplore how artists combined colors\, shapes and lines to create stunning creations with the help of Museum Guide volunteers.
URL:https://kcparent.com/event/free-weekend-fun-at-the-nelson-2/2029-05-06/
LOCATION:Nelson-Atkins Museum of Art\, 4525 Oak St.\, Kansas City\, Missouri\, United States
CATEGORIES:FREE,Indoor
ATTACH;FMTTYPE=image/jpeg:https://kcparent.com/wp-content/uploads/2025/07/Time-for-Art.jpg
END:VEVENT
BEGIN:VEVENT
DTSTART;TZID=America/Denver:20290508T140000
DTEND;TZID=America/Denver:20290508T180000
DTSTAMP:20260419T174158
CREATED:20251221T171503Z
LAST-MODIFIED:20251222T171836Z
UID:10017224-1872943200-1872957600@kcparent.com
SUMMARY:I AM Frozen Dessert Cafe Tuesday Happy Hour
DESCRIPTION:Buy any 2 Drinks at regular menu price and your 3rd is FREE every Tuesday 2PM-6PM @ I AM Frozen Dessert Cafe.
URL:https://kcparent.com/event/i-am-frozen-dessert-cafe-tuesday-happy-hour/2029-05-08/
LOCATION:Missouri
CATEGORIES:FREE
ATTACH;FMTTYPE=image/jpeg:https://kcparent.com/wp-content/uploads/2025/12/Screenshot_20251221_104733_Instagram.jpg
END:VEVENT
BEGIN:VEVENT
DTSTART;TZID=America/Denver:20290512T130000
DTEND;TZID=America/Denver:20290512T160000
DTSTAMP:20260419T174158
CREATED:20260311T032407Z
LAST-MODIFIED:20260311T032634Z
UID:10024220-1873285200-1873296000@kcparent.com
SUMMARY:Free Weekend Fun: Nouveau Notes 
DESCRIPTION:Free | Drop-in event (no registration required)   \nFun Spot: Lobby Level\, Bloch Building | 1–4 pm \nDesign your own postcard inspired by the work of Alfonse Mucha. \nGallery Activity: Gallery 128 | 1–4 pm  \nExplore how artists combined colors\, shapes and lines to create stunning creations with the help of Museum Guide volunteers.
URL:https://kcparent.com/event/free-weekend-fun-at-the-nelson-2/2029-05-12/
LOCATION:Nelson-Atkins Museum of Art\, 4525 Oak St.\, Kansas City\, Missouri\, United States
CATEGORIES:FREE,Indoor
ATTACH;FMTTYPE=image/jpeg:https://kcparent.com/wp-content/uploads/2025/07/Time-for-Art.jpg
END:VEVENT
BEGIN:VEVENT
DTSTART;TZID=America/Denver:20290513T130000
DTEND;TZID=America/Denver:20290513T160000
DTSTAMP:20260419T174158
CREATED:20260311T032407Z
LAST-MODIFIED:20260311T032634Z
UID:10024221-1873371600-1873382400@kcparent.com
SUMMARY:Free Weekend Fun: Nouveau Notes 
DESCRIPTION:Free | Drop-in event (no registration required)   \nFun Spot: Lobby Level\, Bloch Building | 1–4 pm \nDesign your own postcard inspired by the work of Alfonse Mucha. \nGallery Activity: Gallery 128 | 1–4 pm  \nExplore how artists combined colors\, shapes and lines to create stunning creations with the help of Museum Guide volunteers.
URL:https://kcparent.com/event/free-weekend-fun-at-the-nelson-2/2029-05-13/
LOCATION:Nelson-Atkins Museum of Art\, 4525 Oak St.\, Kansas City\, Missouri\, United States
CATEGORIES:FREE,Indoor
ATTACH;FMTTYPE=image/jpeg:https://kcparent.com/wp-content/uploads/2025/07/Time-for-Art.jpg
END:VEVENT
BEGIN:VEVENT
DTSTART;TZID=America/Denver:20290515T140000
DTEND;TZID=America/Denver:20290515T180000
DTSTAMP:20260419T174158
CREATED:20251221T171503Z
LAST-MODIFIED:20251222T171836Z
UID:10017225-1873548000-1873562400@kcparent.com
SUMMARY:I AM Frozen Dessert Cafe Tuesday Happy Hour
DESCRIPTION:Buy any 2 Drinks at regular menu price and your 3rd is FREE every Tuesday 2PM-6PM @ I AM Frozen Dessert Cafe.
URL:https://kcparent.com/event/i-am-frozen-dessert-cafe-tuesday-happy-hour/2029-05-15/
LOCATION:Missouri
CATEGORIES:FREE
ATTACH;FMTTYPE=image/jpeg:https://kcparent.com/wp-content/uploads/2025/12/Screenshot_20251221_104733_Instagram.jpg
END:VEVENT
BEGIN:VEVENT
DTSTART;TZID=America/Denver:20290519T130000
DTEND;TZID=America/Denver:20290519T160000
DTSTAMP:20260419T174158
CREATED:20260311T032407Z
LAST-MODIFIED:20260311T032634Z
UID:10024222-1873890000-1873900800@kcparent.com
SUMMARY:Free Weekend Fun: Nouveau Notes 
DESCRIPTION:Free | Drop-in event (no registration required)   \nFun Spot: Lobby Level\, Bloch Building | 1–4 pm \nDesign your own postcard inspired by the work of Alfonse Mucha. \nGallery Activity: Gallery 128 | 1–4 pm  \nExplore how artists combined colors\, shapes and lines to create stunning creations with the help of Museum Guide volunteers.
URL:https://kcparent.com/event/free-weekend-fun-at-the-nelson-2/2029-05-19/
LOCATION:Nelson-Atkins Museum of Art\, 4525 Oak St.\, Kansas City\, Missouri\, United States
CATEGORIES:FREE,Indoor
ATTACH;FMTTYPE=image/jpeg:https://kcparent.com/wp-content/uploads/2025/07/Time-for-Art.jpg
END:VEVENT
BEGIN:VEVENT
DTSTART;TZID=America/Denver:20290520T130000
DTEND;TZID=America/Denver:20290520T160000
DTSTAMP:20260419T174158
CREATED:20260311T032407Z
LAST-MODIFIED:20260311T032634Z
UID:10024223-1873976400-1873987200@kcparent.com
SUMMARY:Free Weekend Fun: Nouveau Notes 
DESCRIPTION:Free | Drop-in event (no registration required)   \nFun Spot: Lobby Level\, Bloch Building | 1–4 pm \nDesign your own postcard inspired by the work of Alfonse Mucha. \nGallery Activity: Gallery 128 | 1–4 pm  \nExplore how artists combined colors\, shapes and lines to create stunning creations with the help of Museum Guide volunteers.
URL:https://kcparent.com/event/free-weekend-fun-at-the-nelson-2/2029-05-20/
LOCATION:Nelson-Atkins Museum of Art\, 4525 Oak St.\, Kansas City\, Missouri\, United States
CATEGORIES:FREE,Indoor
ATTACH;FMTTYPE=image/jpeg:https://kcparent.com/wp-content/uploads/2025/07/Time-for-Art.jpg
END:VEVENT
BEGIN:VEVENT
DTSTART;TZID=America/Denver:20290522T140000
DTEND;TZID=America/Denver:20290522T180000
DTSTAMP:20260419T174158
CREATED:20251221T171503Z
LAST-MODIFIED:20251222T171836Z
UID:10017226-1874152800-1874167200@kcparent.com
SUMMARY:I AM Frozen Dessert Cafe Tuesday Happy Hour
DESCRIPTION:Buy any 2 Drinks at regular menu price and your 3rd is FREE every Tuesday 2PM-6PM @ I AM Frozen Dessert Cafe.
URL:https://kcparent.com/event/i-am-frozen-dessert-cafe-tuesday-happy-hour/2029-05-22/
LOCATION:Missouri
CATEGORIES:FREE
ATTACH;FMTTYPE=image/jpeg:https://kcparent.com/wp-content/uploads/2025/12/Screenshot_20251221_104733_Instagram.jpg
END:VEVENT
BEGIN:VEVENT
DTSTART;TZID=America/Denver:20290526T130000
DTEND;TZID=America/Denver:20290526T160000
DTSTAMP:20260419T174158
CREATED:20260311T032407Z
LAST-MODIFIED:20260311T032634Z
UID:10024224-1874494800-1874505600@kcparent.com
SUMMARY:Free Weekend Fun: Nouveau Notes 
DESCRIPTION:Free | Drop-in event (no registration required)   \nFun Spot: Lobby Level\, Bloch Building | 1–4 pm \nDesign your own postcard inspired by the work of Alfonse Mucha. \nGallery Activity: Gallery 128 | 1–4 pm  \nExplore how artists combined colors\, shapes and lines to create stunning creations with the help of Museum Guide volunteers.
URL:https://kcparent.com/event/free-weekend-fun-at-the-nelson-2/2029-05-26/
LOCATION:Nelson-Atkins Museum of Art\, 4525 Oak St.\, Kansas City\, Missouri\, United States
CATEGORIES:FREE,Indoor
ATTACH;FMTTYPE=image/jpeg:https://kcparent.com/wp-content/uploads/2025/07/Time-for-Art.jpg
END:VEVENT
BEGIN:VEVENT
DTSTART;TZID=America/Denver:20290527T130000
DTEND;TZID=America/Denver:20290527T160000
DTSTAMP:20260419T174158
CREATED:20260311T032407Z
LAST-MODIFIED:20260311T032634Z
UID:10024225-1874581200-1874592000@kcparent.com
SUMMARY:Free Weekend Fun: Nouveau Notes 
DESCRIPTION:Free | Drop-in event (no registration required)   \nFun Spot: Lobby Level\, Bloch Building | 1–4 pm \nDesign your own postcard inspired by the work of Alfonse Mucha. \nGallery Activity: Gallery 128 | 1–4 pm  \nExplore how artists combined colors\, shapes and lines to create stunning creations with the help of Museum Guide volunteers.
URL:https://kcparent.com/event/free-weekend-fun-at-the-nelson-2/2029-05-27/
LOCATION:Nelson-Atkins Museum of Art\, 4525 Oak St.\, Kansas City\, Missouri\, United States
CATEGORIES:FREE,Indoor
ATTACH;FMTTYPE=image/jpeg:https://kcparent.com/wp-content/uploads/2025/07/Time-for-Art.jpg
END:VEVENT
BEGIN:VEVENT
DTSTART;TZID=America/Denver:20290529T140000
DTEND;TZID=America/Denver:20290529T180000
DTSTAMP:20260419T174158
CREATED:20251221T171503Z
LAST-MODIFIED:20251222T171836Z
UID:10017227-1874757600-1874772000@kcparent.com
SUMMARY:I AM Frozen Dessert Cafe Tuesday Happy Hour
DESCRIPTION:Buy any 2 Drinks at regular menu price and your 3rd is FREE every Tuesday 2PM-6PM @ I AM Frozen Dessert Cafe.
URL:https://kcparent.com/event/i-am-frozen-dessert-cafe-tuesday-happy-hour/2029-05-29/
LOCATION:Missouri
CATEGORIES:FREE
ATTACH;FMTTYPE=image/jpeg:https://kcparent.com/wp-content/uploads/2025/12/Screenshot_20251221_104733_Instagram.jpg
END:VEVENT
BEGIN:VEVENT
DTSTART;TZID=America/Denver:20290602T130000
DTEND;TZID=America/Denver:20290602T160000
DTSTAMP:20260419T174158
CREATED:20260311T032407Z
LAST-MODIFIED:20260311T032634Z
UID:10024226-1875099600-1875110400@kcparent.com
SUMMARY:Free Weekend Fun: Nouveau Notes 
DESCRIPTION:Free | Drop-in event (no registration required)   \nFun Spot: Lobby Level\, Bloch Building | 1–4 pm \nDesign your own postcard inspired by the work of Alfonse Mucha. \nGallery Activity: Gallery 128 | 1–4 pm  \nExplore how artists combined colors\, shapes and lines to create stunning creations with the help of Museum Guide volunteers.
URL:https://kcparent.com/event/free-weekend-fun-at-the-nelson-2/2029-06-02/
LOCATION:Nelson-Atkins Museum of Art\, 4525 Oak St.\, Kansas City\, Missouri\, United States
CATEGORIES:FREE,Indoor
ATTACH;FMTTYPE=image/jpeg:https://kcparent.com/wp-content/uploads/2025/07/Time-for-Art.jpg
END:VEVENT
BEGIN:VEVENT
DTSTART;TZID=America/Denver:20290603T130000
DTEND;TZID=America/Denver:20290603T160000
DTSTAMP:20260419T174158
CREATED:20260311T032407Z
LAST-MODIFIED:20260311T032634Z
UID:10024227-1875186000-1875196800@kcparent.com
SUMMARY:Free Weekend Fun: Nouveau Notes 
DESCRIPTION:Free | Drop-in event (no registration required)   \nFun Spot: Lobby Level\, Bloch Building | 1–4 pm \nDesign your own postcard inspired by the work of Alfonse Mucha. \nGallery Activity: Gallery 128 | 1–4 pm  \nExplore how artists combined colors\, shapes and lines to create stunning creations with the help of Museum Guide volunteers.
URL:https://kcparent.com/event/free-weekend-fun-at-the-nelson-2/2029-06-03/
LOCATION:Nelson-Atkins Museum of Art\, 4525 Oak St.\, Kansas City\, Missouri\, United States
CATEGORIES:FREE,Indoor
ATTACH;FMTTYPE=image/jpeg:https://kcparent.com/wp-content/uploads/2025/07/Time-for-Art.jpg
END:VEVENT
BEGIN:VEVENT
DTSTART;TZID=America/Denver:20290605T090000
DTEND;TZID=America/Denver:20290605T120000
DTSTAMP:20260419T174158
CREATED:20260113T222538Z
LAST-MODIFIED:20260403T152648Z
UID:10025075-1875344400-1875355200@kcparent.com
SUMMARY:Discovery Day at the Arboretum
DESCRIPTION:Craft time awaits on the first Tuesday of the month at the Overland Park Arboretum & Botanical Gardens. Little explorers are in for a treat as they immerse themselves in the enchanting world of nature and creativity. Each month\, a new make-and-take project unfolds on Discovery Day. Crafting supplies are included\, and the projects are available on a first-come\, first-served basis to the first 100 participants. \nThe first Tuesday of the month also happens to be Free Admission Day at the Arboretum\, so entry into the gardens and this project are all free! \n2026 projects:\nJanuary 6 – Bird binoculars\nFebruary 3 – Paint and art show\nMarch 3 – Ladybug rock painting\nApril 7- Flower press\nMay 5 – Paper bag kites\nJune 2- Paper spinner and/or Pinwheel\nJuly 7 – Grass hair planters\nAugust 4 – Nature journals\nSeptember 1 – Build a bug and/or Bug hotel\nOctober 6 – Bat rockets\nNovember 3 – Leaf suncatchers\nDecember 1 – Bean mosaic art
URL:https://kcparent.com/event/discovery-day-at-the-arboretum-11/2029-06-05/
LOCATION:Overland Park Arboretum and Botanical Gardens\, 8909 W. 179th St.\, Overland Park\, Kansas\, 66013\, United States
CATEGORIES:FREE
ATTACH;FMTTYPE=image/png:https://kcparent.com/wp-content/uploads/2026/01/Discovery-Day-12.png
END:VEVENT
BEGIN:VEVENT
DTSTART;TZID=America/Denver:20290605T140000
DTEND;TZID=America/Denver:20290605T180000
DTSTAMP:20260419T174158
CREATED:20251221T171503Z
LAST-MODIFIED:20251222T171836Z
UID:10017228-1875362400-1875376800@kcparent.com
SUMMARY:I AM Frozen Dessert Cafe Tuesday Happy Hour
DESCRIPTION:Buy any 2 Drinks at regular menu price and your 3rd is FREE every Tuesday 2PM-6PM @ I AM Frozen Dessert Cafe.
URL:https://kcparent.com/event/i-am-frozen-dessert-cafe-tuesday-happy-hour/2029-06-05/
LOCATION:Missouri
CATEGORIES:FREE
ATTACH;FMTTYPE=image/jpeg:https://kcparent.com/wp-content/uploads/2025/12/Screenshot_20251221_104733_Instagram.jpg
END:VEVENT
BEGIN:VEVENT
DTSTART;TZID=America/Denver:20290609T130000
DTEND;TZID=America/Denver:20290609T160000
DTSTAMP:20260419T174158
CREATED:20260311T032407Z
LAST-MODIFIED:20260311T032634Z
UID:10024228-1875704400-1875715200@kcparent.com
SUMMARY:Free Weekend Fun: Nouveau Notes 
DESCRIPTION:Free | Drop-in event (no registration required)   \nFun Spot: Lobby Level\, Bloch Building | 1–4 pm \nDesign your own postcard inspired by the work of Alfonse Mucha. \nGallery Activity: Gallery 128 | 1–4 pm  \nExplore how artists combined colors\, shapes and lines to create stunning creations with the help of Museum Guide volunteers.
URL:https://kcparent.com/event/free-weekend-fun-at-the-nelson-2/2029-06-09/
LOCATION:Nelson-Atkins Museum of Art\, 4525 Oak St.\, Kansas City\, Missouri\, United States
CATEGORIES:FREE,Indoor
ATTACH;FMTTYPE=image/jpeg:https://kcparent.com/wp-content/uploads/2025/07/Time-for-Art.jpg
END:VEVENT
BEGIN:VEVENT
DTSTART;TZID=America/Denver:20290610T130000
DTEND;TZID=America/Denver:20290610T160000
DTSTAMP:20260419T174158
CREATED:20260311T032407Z
LAST-MODIFIED:20260311T032634Z
UID:10024229-1875790800-1875801600@kcparent.com
SUMMARY:Free Weekend Fun: Nouveau Notes 
DESCRIPTION:Free | Drop-in event (no registration required)   \nFun Spot: Lobby Level\, Bloch Building | 1–4 pm \nDesign your own postcard inspired by the work of Alfonse Mucha. \nGallery Activity: Gallery 128 | 1–4 pm  \nExplore how artists combined colors\, shapes and lines to create stunning creations with the help of Museum Guide volunteers.
URL:https://kcparent.com/event/free-weekend-fun-at-the-nelson-2/2029-06-10/
LOCATION:Nelson-Atkins Museum of Art\, 4525 Oak St.\, Kansas City\, Missouri\, United States
CATEGORIES:FREE,Indoor
ATTACH;FMTTYPE=image/jpeg:https://kcparent.com/wp-content/uploads/2025/07/Time-for-Art.jpg
END:VEVENT
BEGIN:VEVENT
DTSTART;TZID=America/Denver:20290612T140000
DTEND;TZID=America/Denver:20290612T180000
DTSTAMP:20260419T174158
CREATED:20251221T171503Z
LAST-MODIFIED:20251222T171836Z
UID:10017229-1875967200-1875981600@kcparent.com
SUMMARY:I AM Frozen Dessert Cafe Tuesday Happy Hour
DESCRIPTION:Buy any 2 Drinks at regular menu price and your 3rd is FREE every Tuesday 2PM-6PM @ I AM Frozen Dessert Cafe.
URL:https://kcparent.com/event/i-am-frozen-dessert-cafe-tuesday-happy-hour/2029-06-12/
LOCATION:Missouri
CATEGORIES:FREE
ATTACH;FMTTYPE=image/jpeg:https://kcparent.com/wp-content/uploads/2025/12/Screenshot_20251221_104733_Instagram.jpg
END:VEVENT
BEGIN:VEVENT
DTSTART;TZID=America/Denver:20290616T130000
DTEND;TZID=America/Denver:20290616T160000
DTSTAMP:20260419T174158
CREATED:20260311T032407Z
LAST-MODIFIED:20260311T032634Z
UID:10024230-1876309200-1876320000@kcparent.com
SUMMARY:Free Weekend Fun: Nouveau Notes 
DESCRIPTION:Free | Drop-in event (no registration required)   \nFun Spot: Lobby Level\, Bloch Building | 1–4 pm \nDesign your own postcard inspired by the work of Alfonse Mucha. \nGallery Activity: Gallery 128 | 1–4 pm  \nExplore how artists combined colors\, shapes and lines to create stunning creations with the help of Museum Guide volunteers.
URL:https://kcparent.com/event/free-weekend-fun-at-the-nelson-2/2029-06-16/
LOCATION:Nelson-Atkins Museum of Art\, 4525 Oak St.\, Kansas City\, Missouri\, United States
CATEGORIES:FREE,Indoor
ATTACH;FMTTYPE=image/jpeg:https://kcparent.com/wp-content/uploads/2025/07/Time-for-Art.jpg
END:VEVENT
BEGIN:VEVENT
DTSTART;TZID=America/Denver:20290617T130000
DTEND;TZID=America/Denver:20290617T160000
DTSTAMP:20260419T174158
CREATED:20260311T032407Z
LAST-MODIFIED:20260311T032634Z
UID:10024231-1876395600-1876406400@kcparent.com
SUMMARY:Free Weekend Fun: Nouveau Notes 
DESCRIPTION:Free | Drop-in event (no registration required)   \nFun Spot: Lobby Level\, Bloch Building | 1–4 pm \nDesign your own postcard inspired by the work of Alfonse Mucha. \nGallery Activity: Gallery 128 | 1–4 pm  \nExplore how artists combined colors\, shapes and lines to create stunning creations with the help of Museum Guide volunteers.
URL:https://kcparent.com/event/free-weekend-fun-at-the-nelson-2/2029-06-17/
LOCATION:Nelson-Atkins Museum of Art\, 4525 Oak St.\, Kansas City\, Missouri\, United States
CATEGORIES:FREE,Indoor
ATTACH;FMTTYPE=image/jpeg:https://kcparent.com/wp-content/uploads/2025/07/Time-for-Art.jpg
END:VEVENT
END:VCALENDAR