BEGIN:VCALENDAR
VERSION:2.0
PRODID:-//KC Parent - ECPv6.15.18//NONSGML v1.0//EN
CALSCALE:GREGORIAN
METHOD:PUBLISH
X-WR-CALNAME:KC Parent
X-ORIGINAL-URL:https://kcparent.com
X-WR-CALDESC:Events for KC Parent
REFRESH-INTERVAL;VALUE=DURATION:PT1H
X-Robots-Tag:noindex
X-PUBLISHED-TTL:PT1H
BEGIN:VTIMEZONE
TZID:America/Denver
BEGIN:DAYLIGHT
TZOFFSETFROM:-0700
TZOFFSETTO:-0600
TZNAME:MDT
DTSTART:20280312T090000
END:DAYLIGHT
BEGIN:STANDARD
TZOFFSETFROM:-0600
TZOFFSETTO:-0700
TZNAME:MST
DTSTART:20281105T080000
END:STANDARD
BEGIN:DAYLIGHT
TZOFFSETFROM:-0700
TZOFFSETTO:-0600
TZNAME:MDT
DTSTART:20290311T090000
END:DAYLIGHT
BEGIN:STANDARD
TZOFFSETFROM:-0600
TZOFFSETTO:-0700
TZNAME:MST
DTSTART:20291104T080000
END:STANDARD
BEGIN:DAYLIGHT
TZOFFSETFROM:-0700
TZOFFSETTO:-0600
TZNAME:MDT
DTSTART:20300310T090000
END:DAYLIGHT
BEGIN:STANDARD
TZOFFSETFROM:-0600
TZOFFSETTO:-0700
TZNAME:MST
DTSTART:20301103T080000
END:STANDARD
END:VTIMEZONE
BEGIN:VEVENT
DTSTART;TZID=America/Denver:20290605T140000
DTEND;TZID=America/Denver:20290605T180000
DTSTAMP:20260419T205309
CREATED:20251221T171503Z
LAST-MODIFIED:20251222T171836Z
UID:10017228-1875362400-1875376800@kcparent.com
SUMMARY:I AM Frozen Dessert Cafe Tuesday Happy Hour
DESCRIPTION:Buy any 2 Drinks at regular menu price and your 3rd is FREE every Tuesday 2PM-6PM @ I AM Frozen Dessert Cafe.
URL:https://kcparent.com/event/i-am-frozen-dessert-cafe-tuesday-happy-hour/2029-06-05/
LOCATION:Missouri
CATEGORIES:FREE
ATTACH;FMTTYPE=image/jpeg:https://kcparent.com/wp-content/uploads/2025/12/Screenshot_20251221_104733_Instagram.jpg
END:VEVENT
BEGIN:VEVENT
DTSTART;TZID=America/Denver:20290609T130000
DTEND;TZID=America/Denver:20290609T160000
DTSTAMP:20260419T205309
CREATED:20260311T032407Z
LAST-MODIFIED:20260311T032634Z
UID:10024228-1875704400-1875715200@kcparent.com
SUMMARY:Free Weekend Fun: Nouveau Notes 
DESCRIPTION:Free | Drop-in event (no registration required)   \nFun Spot: Lobby Level\, Bloch Building | 1–4 pm \nDesign your own postcard inspired by the work of Alfonse Mucha. \nGallery Activity: Gallery 128 | 1–4 pm  \nExplore how artists combined colors\, shapes and lines to create stunning creations with the help of Museum Guide volunteers.
URL:https://kcparent.com/event/free-weekend-fun-at-the-nelson-2/2029-06-09/
LOCATION:Nelson-Atkins Museum of Art\, 4525 Oak St.\, Kansas City\, Missouri\, United States
CATEGORIES:FREE,Indoor
ATTACH;FMTTYPE=image/jpeg:https://kcparent.com/wp-content/uploads/2025/07/Time-for-Art.jpg
END:VEVENT
BEGIN:VEVENT
DTSTART;TZID=America/Denver:20290610T130000
DTEND;TZID=America/Denver:20290610T160000
DTSTAMP:20260419T205309
CREATED:20260311T032407Z
LAST-MODIFIED:20260311T032634Z
UID:10024229-1875790800-1875801600@kcparent.com
SUMMARY:Free Weekend Fun: Nouveau Notes 
DESCRIPTION:Free | Drop-in event (no registration required)   \nFun Spot: Lobby Level\, Bloch Building | 1–4 pm \nDesign your own postcard inspired by the work of Alfonse Mucha. \nGallery Activity: Gallery 128 | 1–4 pm  \nExplore how artists combined colors\, shapes and lines to create stunning creations with the help of Museum Guide volunteers.
URL:https://kcparent.com/event/free-weekend-fun-at-the-nelson-2/2029-06-10/
LOCATION:Nelson-Atkins Museum of Art\, 4525 Oak St.\, Kansas City\, Missouri\, United States
CATEGORIES:FREE,Indoor
ATTACH;FMTTYPE=image/jpeg:https://kcparent.com/wp-content/uploads/2025/07/Time-for-Art.jpg
END:VEVENT
BEGIN:VEVENT
DTSTART;TZID=America/Denver:20290612T140000
DTEND;TZID=America/Denver:20290612T180000
DTSTAMP:20260419T205309
CREATED:20251221T171503Z
LAST-MODIFIED:20251222T171836Z
UID:10017229-1875967200-1875981600@kcparent.com
SUMMARY:I AM Frozen Dessert Cafe Tuesday Happy Hour
DESCRIPTION:Buy any 2 Drinks at regular menu price and your 3rd is FREE every Tuesday 2PM-6PM @ I AM Frozen Dessert Cafe.
URL:https://kcparent.com/event/i-am-frozen-dessert-cafe-tuesday-happy-hour/2029-06-12/
LOCATION:Missouri
CATEGORIES:FREE
ATTACH;FMTTYPE=image/jpeg:https://kcparent.com/wp-content/uploads/2025/12/Screenshot_20251221_104733_Instagram.jpg
END:VEVENT
BEGIN:VEVENT
DTSTART;TZID=America/Denver:20290616T130000
DTEND;TZID=America/Denver:20290616T160000
DTSTAMP:20260419T205309
CREATED:20260311T032407Z
LAST-MODIFIED:20260311T032634Z
UID:10024230-1876309200-1876320000@kcparent.com
SUMMARY:Free Weekend Fun: Nouveau Notes 
DESCRIPTION:Free | Drop-in event (no registration required)   \nFun Spot: Lobby Level\, Bloch Building | 1–4 pm \nDesign your own postcard inspired by the work of Alfonse Mucha. \nGallery Activity: Gallery 128 | 1–4 pm  \nExplore how artists combined colors\, shapes and lines to create stunning creations with the help of Museum Guide volunteers.
URL:https://kcparent.com/event/free-weekend-fun-at-the-nelson-2/2029-06-16/
LOCATION:Nelson-Atkins Museum of Art\, 4525 Oak St.\, Kansas City\, Missouri\, United States
CATEGORIES:FREE,Indoor
ATTACH;FMTTYPE=image/jpeg:https://kcparent.com/wp-content/uploads/2025/07/Time-for-Art.jpg
END:VEVENT
BEGIN:VEVENT
DTSTART;TZID=America/Denver:20290617T130000
DTEND;TZID=America/Denver:20290617T160000
DTSTAMP:20260419T205309
CREATED:20260311T032407Z
LAST-MODIFIED:20260311T032634Z
UID:10024231-1876395600-1876406400@kcparent.com
SUMMARY:Free Weekend Fun: Nouveau Notes 
DESCRIPTION:Free | Drop-in event (no registration required)   \nFun Spot: Lobby Level\, Bloch Building | 1–4 pm \nDesign your own postcard inspired by the work of Alfonse Mucha. \nGallery Activity: Gallery 128 | 1–4 pm  \nExplore how artists combined colors\, shapes and lines to create stunning creations with the help of Museum Guide volunteers.
URL:https://kcparent.com/event/free-weekend-fun-at-the-nelson-2/2029-06-17/
LOCATION:Nelson-Atkins Museum of Art\, 4525 Oak St.\, Kansas City\, Missouri\, United States
CATEGORIES:FREE,Indoor
ATTACH;FMTTYPE=image/jpeg:https://kcparent.com/wp-content/uploads/2025/07/Time-for-Art.jpg
END:VEVENT
BEGIN:VEVENT
DTSTART;TZID=America/Denver:20290619T140000
DTEND;TZID=America/Denver:20290619T180000
DTSTAMP:20260419T205309
CREATED:20251221T171503Z
LAST-MODIFIED:20251222T171836Z
UID:10017230-1876572000-1876586400@kcparent.com
SUMMARY:I AM Frozen Dessert Cafe Tuesday Happy Hour
DESCRIPTION:Buy any 2 Drinks at regular menu price and your 3rd is FREE every Tuesday 2PM-6PM @ I AM Frozen Dessert Cafe.
URL:https://kcparent.com/event/i-am-frozen-dessert-cafe-tuesday-happy-hour/2029-06-19/
LOCATION:Missouri
CATEGORIES:FREE
ATTACH;FMTTYPE=image/jpeg:https://kcparent.com/wp-content/uploads/2025/12/Screenshot_20251221_104733_Instagram.jpg
END:VEVENT
BEGIN:VEVENT
DTSTART;TZID=America/Denver:20290623T130000
DTEND;TZID=America/Denver:20290623T160000
DTSTAMP:20260419T205309
CREATED:20260311T032407Z
LAST-MODIFIED:20260311T032634Z
UID:10024232-1876914000-1876924800@kcparent.com
SUMMARY:Free Weekend Fun: Nouveau Notes 
DESCRIPTION:Free | Drop-in event (no registration required)   \nFun Spot: Lobby Level\, Bloch Building | 1–4 pm \nDesign your own postcard inspired by the work of Alfonse Mucha. \nGallery Activity: Gallery 128 | 1–4 pm  \nExplore how artists combined colors\, shapes and lines to create stunning creations with the help of Museum Guide volunteers.
URL:https://kcparent.com/event/free-weekend-fun-at-the-nelson-2/2029-06-23/
LOCATION:Nelson-Atkins Museum of Art\, 4525 Oak St.\, Kansas City\, Missouri\, United States
CATEGORIES:FREE,Indoor
ATTACH;FMTTYPE=image/jpeg:https://kcparent.com/wp-content/uploads/2025/07/Time-for-Art.jpg
END:VEVENT
BEGIN:VEVENT
DTSTART;TZID=America/Denver:20290624T130000
DTEND;TZID=America/Denver:20290624T160000
DTSTAMP:20260419T205309
CREATED:20260311T032407Z
LAST-MODIFIED:20260311T032634Z
UID:10024233-1877000400-1877011200@kcparent.com
SUMMARY:Free Weekend Fun: Nouveau Notes 
DESCRIPTION:Free | Drop-in event (no registration required)   \nFun Spot: Lobby Level\, Bloch Building | 1–4 pm \nDesign your own postcard inspired by the work of Alfonse Mucha. \nGallery Activity: Gallery 128 | 1–4 pm  \nExplore how artists combined colors\, shapes and lines to create stunning creations with the help of Museum Guide volunteers.
URL:https://kcparent.com/event/free-weekend-fun-at-the-nelson-2/2029-06-24/
LOCATION:Nelson-Atkins Museum of Art\, 4525 Oak St.\, Kansas City\, Missouri\, United States
CATEGORIES:FREE,Indoor
ATTACH;FMTTYPE=image/jpeg:https://kcparent.com/wp-content/uploads/2025/07/Time-for-Art.jpg
END:VEVENT
BEGIN:VEVENT
DTSTART;TZID=America/Denver:20290626T140000
DTEND;TZID=America/Denver:20290626T180000
DTSTAMP:20260419T205309
CREATED:20251221T171503Z
LAST-MODIFIED:20251222T171836Z
UID:10017231-1877176800-1877191200@kcparent.com
SUMMARY:I AM Frozen Dessert Cafe Tuesday Happy Hour
DESCRIPTION:Buy any 2 Drinks at regular menu price and your 3rd is FREE every Tuesday 2PM-6PM @ I AM Frozen Dessert Cafe.
URL:https://kcparent.com/event/i-am-frozen-dessert-cafe-tuesday-happy-hour/2029-06-26/
LOCATION:Missouri
CATEGORIES:FREE
ATTACH;FMTTYPE=image/jpeg:https://kcparent.com/wp-content/uploads/2025/12/Screenshot_20251221_104733_Instagram.jpg
END:VEVENT
BEGIN:VEVENT
DTSTART;TZID=America/Denver:20290630T130000
DTEND;TZID=America/Denver:20290630T160000
DTSTAMP:20260419T205309
CREATED:20260311T032407Z
LAST-MODIFIED:20260311T032634Z
UID:10024234-1877518800-1877529600@kcparent.com
SUMMARY:Free Weekend Fun: Nouveau Notes 
DESCRIPTION:Free | Drop-in event (no registration required)   \nFun Spot: Lobby Level\, Bloch Building | 1–4 pm \nDesign your own postcard inspired by the work of Alfonse Mucha. \nGallery Activity: Gallery 128 | 1–4 pm  \nExplore how artists combined colors\, shapes and lines to create stunning creations with the help of Museum Guide volunteers.
URL:https://kcparent.com/event/free-weekend-fun-at-the-nelson-2/2029-06-30/
LOCATION:Nelson-Atkins Museum of Art\, 4525 Oak St.\, Kansas City\, Missouri\, United States
CATEGORIES:FREE,Indoor
ATTACH;FMTTYPE=image/jpeg:https://kcparent.com/wp-content/uploads/2025/07/Time-for-Art.jpg
END:VEVENT
BEGIN:VEVENT
DTSTART;TZID=America/Denver:20290701T130000
DTEND;TZID=America/Denver:20290701T160000
DTSTAMP:20260419T205309
CREATED:20260311T032407Z
LAST-MODIFIED:20260311T032634Z
UID:10024235-1877605200-1877616000@kcparent.com
SUMMARY:Free Weekend Fun: Nouveau Notes 
DESCRIPTION:Free | Drop-in event (no registration required)   \nFun Spot: Lobby Level\, Bloch Building | 1–4 pm \nDesign your own postcard inspired by the work of Alfonse Mucha. \nGallery Activity: Gallery 128 | 1–4 pm  \nExplore how artists combined colors\, shapes and lines to create stunning creations with the help of Museum Guide volunteers.
URL:https://kcparent.com/event/free-weekend-fun-at-the-nelson-2/2029-07-01/
LOCATION:Nelson-Atkins Museum of Art\, 4525 Oak St.\, Kansas City\, Missouri\, United States
CATEGORIES:FREE,Indoor
ATTACH;FMTTYPE=image/jpeg:https://kcparent.com/wp-content/uploads/2025/07/Time-for-Art.jpg
END:VEVENT
BEGIN:VEVENT
DTSTART;TZID=America/Denver:20290703T090000
DTEND;TZID=America/Denver:20290703T120000
DTSTAMP:20260419T205309
CREATED:20260113T222538Z
LAST-MODIFIED:20260403T152648Z
UID:10025076-1877763600-1877774400@kcparent.com
SUMMARY:Discovery Day at the Arboretum
DESCRIPTION:Craft time awaits on the first Tuesday of the month at the Overland Park Arboretum & Botanical Gardens. Little explorers are in for a treat as they immerse themselves in the enchanting world of nature and creativity. Each month\, a new make-and-take project unfolds on Discovery Day. Crafting supplies are included\, and the projects are available on a first-come\, first-served basis to the first 100 participants. \nThe first Tuesday of the month also happens to be Free Admission Day at the Arboretum\, so entry into the gardens and this project are all free! \n2026 projects:\nJanuary 6 – Bird binoculars\nFebruary 3 – Paint and art show\nMarch 3 – Ladybug rock painting\nApril 7- Flower press\nMay 5 – Paper bag kites\nJune 2- Paper spinner and/or Pinwheel\nJuly 7 – Grass hair planters\nAugust 4 – Nature journals\nSeptember 1 – Build a bug and/or Bug hotel\nOctober 6 – Bat rockets\nNovember 3 – Leaf suncatchers\nDecember 1 – Bean mosaic art
URL:https://kcparent.com/event/discovery-day-at-the-arboretum-11/2029-07-03/
LOCATION:Overland Park Arboretum and Botanical Gardens\, 8909 W. 179th St.\, Overland Park\, Kansas\, 66013\, United States
CATEGORIES:FREE
ATTACH;FMTTYPE=image/png:https://kcparent.com/wp-content/uploads/2026/01/Discovery-Day-12.png
END:VEVENT
BEGIN:VEVENT
DTSTART;TZID=America/Denver:20290703T140000
DTEND;TZID=America/Denver:20290703T180000
DTSTAMP:20260419T205309
CREATED:20251221T171503Z
LAST-MODIFIED:20251222T171836Z
UID:10017232-1877781600-1877796000@kcparent.com
SUMMARY:I AM Frozen Dessert Cafe Tuesday Happy Hour
DESCRIPTION:Buy any 2 Drinks at regular menu price and your 3rd is FREE every Tuesday 2PM-6PM @ I AM Frozen Dessert Cafe.
URL:https://kcparent.com/event/i-am-frozen-dessert-cafe-tuesday-happy-hour/2029-07-03/
LOCATION:Missouri
CATEGORIES:FREE
ATTACH;FMTTYPE=image/jpeg:https://kcparent.com/wp-content/uploads/2025/12/Screenshot_20251221_104733_Instagram.jpg
END:VEVENT
BEGIN:VEVENT
DTSTART;TZID=America/Denver:20290707T130000
DTEND;TZID=America/Denver:20290707T160000
DTSTAMP:20260419T205309
CREATED:20260311T032407Z
LAST-MODIFIED:20260311T032634Z
UID:10024236-1878123600-1878134400@kcparent.com
SUMMARY:Free Weekend Fun: Nouveau Notes 
DESCRIPTION:Free | Drop-in event (no registration required)   \nFun Spot: Lobby Level\, Bloch Building | 1–4 pm \nDesign your own postcard inspired by the work of Alfonse Mucha. \nGallery Activity: Gallery 128 | 1–4 pm  \nExplore how artists combined colors\, shapes and lines to create stunning creations with the help of Museum Guide volunteers.
URL:https://kcparent.com/event/free-weekend-fun-at-the-nelson-2/2029-07-07/
LOCATION:Nelson-Atkins Museum of Art\, 4525 Oak St.\, Kansas City\, Missouri\, United States
CATEGORIES:FREE,Indoor
ATTACH;FMTTYPE=image/jpeg:https://kcparent.com/wp-content/uploads/2025/07/Time-for-Art.jpg
END:VEVENT
BEGIN:VEVENT
DTSTART;TZID=America/Denver:20290708T130000
DTEND;TZID=America/Denver:20290708T160000
DTSTAMP:20260419T205309
CREATED:20260311T032407Z
LAST-MODIFIED:20260311T032634Z
UID:10024237-1878210000-1878220800@kcparent.com
SUMMARY:Free Weekend Fun: Nouveau Notes 
DESCRIPTION:Free | Drop-in event (no registration required)   \nFun Spot: Lobby Level\, Bloch Building | 1–4 pm \nDesign your own postcard inspired by the work of Alfonse Mucha. \nGallery Activity: Gallery 128 | 1–4 pm  \nExplore how artists combined colors\, shapes and lines to create stunning creations with the help of Museum Guide volunteers.
URL:https://kcparent.com/event/free-weekend-fun-at-the-nelson-2/2029-07-08/
LOCATION:Nelson-Atkins Museum of Art\, 4525 Oak St.\, Kansas City\, Missouri\, United States
CATEGORIES:FREE,Indoor
ATTACH;FMTTYPE=image/jpeg:https://kcparent.com/wp-content/uploads/2025/07/Time-for-Art.jpg
END:VEVENT
BEGIN:VEVENT
DTSTART;TZID=America/Denver:20290710T140000
DTEND;TZID=America/Denver:20290710T180000
DTSTAMP:20260419T205309
CREATED:20251221T171503Z
LAST-MODIFIED:20251222T171836Z
UID:10017233-1878386400-1878400800@kcparent.com
SUMMARY:I AM Frozen Dessert Cafe Tuesday Happy Hour
DESCRIPTION:Buy any 2 Drinks at regular menu price and your 3rd is FREE every Tuesday 2PM-6PM @ I AM Frozen Dessert Cafe.
URL:https://kcparent.com/event/i-am-frozen-dessert-cafe-tuesday-happy-hour/2029-07-10/
LOCATION:Missouri
CATEGORIES:FREE
ATTACH;FMTTYPE=image/jpeg:https://kcparent.com/wp-content/uploads/2025/12/Screenshot_20251221_104733_Instagram.jpg
END:VEVENT
BEGIN:VEVENT
DTSTART;TZID=America/Denver:20290714T130000
DTEND;TZID=America/Denver:20290714T160000
DTSTAMP:20260419T205309
CREATED:20260311T032407Z
LAST-MODIFIED:20260311T032634Z
UID:10024238-1878728400-1878739200@kcparent.com
SUMMARY:Free Weekend Fun: Nouveau Notes 
DESCRIPTION:Free | Drop-in event (no registration required)   \nFun Spot: Lobby Level\, Bloch Building | 1–4 pm \nDesign your own postcard inspired by the work of Alfonse Mucha. \nGallery Activity: Gallery 128 | 1–4 pm  \nExplore how artists combined colors\, shapes and lines to create stunning creations with the help of Museum Guide volunteers.
URL:https://kcparent.com/event/free-weekend-fun-at-the-nelson-2/2029-07-14/
LOCATION:Nelson-Atkins Museum of Art\, 4525 Oak St.\, Kansas City\, Missouri\, United States
CATEGORIES:FREE,Indoor
ATTACH;FMTTYPE=image/jpeg:https://kcparent.com/wp-content/uploads/2025/07/Time-for-Art.jpg
END:VEVENT
BEGIN:VEVENT
DTSTART;TZID=America/Denver:20290715T130000
DTEND;TZID=America/Denver:20290715T160000
DTSTAMP:20260419T205309
CREATED:20260311T032407Z
LAST-MODIFIED:20260311T032634Z
UID:10024239-1878814800-1878825600@kcparent.com
SUMMARY:Free Weekend Fun: Nouveau Notes 
DESCRIPTION:Free | Drop-in event (no registration required)   \nFun Spot: Lobby Level\, Bloch Building | 1–4 pm \nDesign your own postcard inspired by the work of Alfonse Mucha. \nGallery Activity: Gallery 128 | 1–4 pm  \nExplore how artists combined colors\, shapes and lines to create stunning creations with the help of Museum Guide volunteers.
URL:https://kcparent.com/event/free-weekend-fun-at-the-nelson-2/2029-07-15/
LOCATION:Nelson-Atkins Museum of Art\, 4525 Oak St.\, Kansas City\, Missouri\, United States
CATEGORIES:FREE,Indoor
ATTACH;FMTTYPE=image/jpeg:https://kcparent.com/wp-content/uploads/2025/07/Time-for-Art.jpg
END:VEVENT
BEGIN:VEVENT
DTSTART;TZID=America/Denver:20290717T140000
DTEND;TZID=America/Denver:20290717T180000
DTSTAMP:20260419T205309
CREATED:20251221T171503Z
LAST-MODIFIED:20251222T171836Z
UID:10017234-1878991200-1879005600@kcparent.com
SUMMARY:I AM Frozen Dessert Cafe Tuesday Happy Hour
DESCRIPTION:Buy any 2 Drinks at regular menu price and your 3rd is FREE every Tuesday 2PM-6PM @ I AM Frozen Dessert Cafe.
URL:https://kcparent.com/event/i-am-frozen-dessert-cafe-tuesday-happy-hour/2029-07-17/
LOCATION:Missouri
CATEGORIES:FREE
ATTACH;FMTTYPE=image/jpeg:https://kcparent.com/wp-content/uploads/2025/12/Screenshot_20251221_104733_Instagram.jpg
END:VEVENT
BEGIN:VEVENT
DTSTART;TZID=America/Denver:20290721T130000
DTEND;TZID=America/Denver:20290721T160000
DTSTAMP:20260419T205309
CREATED:20260311T032407Z
LAST-MODIFIED:20260311T032634Z
UID:10024240-1879333200-1879344000@kcparent.com
SUMMARY:Free Weekend Fun: Nouveau Notes 
DESCRIPTION:Free | Drop-in event (no registration required)   \nFun Spot: Lobby Level\, Bloch Building | 1–4 pm \nDesign your own postcard inspired by the work of Alfonse Mucha. \nGallery Activity: Gallery 128 | 1–4 pm  \nExplore how artists combined colors\, shapes and lines to create stunning creations with the help of Museum Guide volunteers.
URL:https://kcparent.com/event/free-weekend-fun-at-the-nelson-2/2029-07-21/
LOCATION:Nelson-Atkins Museum of Art\, 4525 Oak St.\, Kansas City\, Missouri\, United States
CATEGORIES:FREE,Indoor
ATTACH;FMTTYPE=image/jpeg:https://kcparent.com/wp-content/uploads/2025/07/Time-for-Art.jpg
END:VEVENT
BEGIN:VEVENT
DTSTART;TZID=America/Denver:20290722T130000
DTEND;TZID=America/Denver:20290722T160000
DTSTAMP:20260419T205309
CREATED:20260311T032407Z
LAST-MODIFIED:20260311T032634Z
UID:10024241-1879419600-1879430400@kcparent.com
SUMMARY:Free Weekend Fun: Nouveau Notes 
DESCRIPTION:Free | Drop-in event (no registration required)   \nFun Spot: Lobby Level\, Bloch Building | 1–4 pm \nDesign your own postcard inspired by the work of Alfonse Mucha. \nGallery Activity: Gallery 128 | 1–4 pm  \nExplore how artists combined colors\, shapes and lines to create stunning creations with the help of Museum Guide volunteers.
URL:https://kcparent.com/event/free-weekend-fun-at-the-nelson-2/2029-07-22/
LOCATION:Nelson-Atkins Museum of Art\, 4525 Oak St.\, Kansas City\, Missouri\, United States
CATEGORIES:FREE,Indoor
ATTACH;FMTTYPE=image/jpeg:https://kcparent.com/wp-content/uploads/2025/07/Time-for-Art.jpg
END:VEVENT
BEGIN:VEVENT
DTSTART;TZID=America/Denver:20290724T140000
DTEND;TZID=America/Denver:20290724T180000
DTSTAMP:20260419T205309
CREATED:20251221T171503Z
LAST-MODIFIED:20251222T171836Z
UID:10017235-1879596000-1879610400@kcparent.com
SUMMARY:I AM Frozen Dessert Cafe Tuesday Happy Hour
DESCRIPTION:Buy any 2 Drinks at regular menu price and your 3rd is FREE every Tuesday 2PM-6PM @ I AM Frozen Dessert Cafe.
URL:https://kcparent.com/event/i-am-frozen-dessert-cafe-tuesday-happy-hour/2029-07-24/
LOCATION:Missouri
CATEGORIES:FREE
ATTACH;FMTTYPE=image/jpeg:https://kcparent.com/wp-content/uploads/2025/12/Screenshot_20251221_104733_Instagram.jpg
END:VEVENT
BEGIN:VEVENT
DTSTART;TZID=America/Denver:20290728T130000
DTEND;TZID=America/Denver:20290728T160000
DTSTAMP:20260419T205309
CREATED:20260311T032407Z
LAST-MODIFIED:20260311T032634Z
UID:10024242-1879938000-1879948800@kcparent.com
SUMMARY:Free Weekend Fun: Nouveau Notes 
DESCRIPTION:Free | Drop-in event (no registration required)   \nFun Spot: Lobby Level\, Bloch Building | 1–4 pm \nDesign your own postcard inspired by the work of Alfonse Mucha. \nGallery Activity: Gallery 128 | 1–4 pm  \nExplore how artists combined colors\, shapes and lines to create stunning creations with the help of Museum Guide volunteers.
URL:https://kcparent.com/event/free-weekend-fun-at-the-nelson-2/2029-07-28/
LOCATION:Nelson-Atkins Museum of Art\, 4525 Oak St.\, Kansas City\, Missouri\, United States
CATEGORIES:FREE,Indoor
ATTACH;FMTTYPE=image/jpeg:https://kcparent.com/wp-content/uploads/2025/07/Time-for-Art.jpg
END:VEVENT
BEGIN:VEVENT
DTSTART;TZID=America/Denver:20290729T130000
DTEND;TZID=America/Denver:20290729T160000
DTSTAMP:20260419T205309
CREATED:20260311T032407Z
LAST-MODIFIED:20260311T032634Z
UID:10024243-1880024400-1880035200@kcparent.com
SUMMARY:Free Weekend Fun: Nouveau Notes 
DESCRIPTION:Free | Drop-in event (no registration required)   \nFun Spot: Lobby Level\, Bloch Building | 1–4 pm \nDesign your own postcard inspired by the work of Alfonse Mucha. \nGallery Activity: Gallery 128 | 1–4 pm  \nExplore how artists combined colors\, shapes and lines to create stunning creations with the help of Museum Guide volunteers.
URL:https://kcparent.com/event/free-weekend-fun-at-the-nelson-2/2029-07-29/
LOCATION:Nelson-Atkins Museum of Art\, 4525 Oak St.\, Kansas City\, Missouri\, United States
CATEGORIES:FREE,Indoor
ATTACH;FMTTYPE=image/jpeg:https://kcparent.com/wp-content/uploads/2025/07/Time-for-Art.jpg
END:VEVENT
BEGIN:VEVENT
DTSTART;TZID=America/Denver:20290731T140000
DTEND;TZID=America/Denver:20290731T180000
DTSTAMP:20260419T205309
CREATED:20251221T171503Z
LAST-MODIFIED:20251222T171836Z
UID:10017236-1880200800-1880215200@kcparent.com
SUMMARY:I AM Frozen Dessert Cafe Tuesday Happy Hour
DESCRIPTION:Buy any 2 Drinks at regular menu price and your 3rd is FREE every Tuesday 2PM-6PM @ I AM Frozen Dessert Cafe.
URL:https://kcparent.com/event/i-am-frozen-dessert-cafe-tuesday-happy-hour/2029-07-31/
LOCATION:Missouri
CATEGORIES:FREE
ATTACH;FMTTYPE=image/jpeg:https://kcparent.com/wp-content/uploads/2025/12/Screenshot_20251221_104733_Instagram.jpg
END:VEVENT
BEGIN:VEVENT
DTSTART;TZID=America/Denver:20290804T130000
DTEND;TZID=America/Denver:20290804T160000
DTSTAMP:20260419T205309
CREATED:20260311T032407Z
LAST-MODIFIED:20260311T032634Z
UID:10024244-1880542800-1880553600@kcparent.com
SUMMARY:Free Weekend Fun: Nouveau Notes 
DESCRIPTION:Free | Drop-in event (no registration required)   \nFun Spot: Lobby Level\, Bloch Building | 1–4 pm \nDesign your own postcard inspired by the work of Alfonse Mucha. \nGallery Activity: Gallery 128 | 1–4 pm  \nExplore how artists combined colors\, shapes and lines to create stunning creations with the help of Museum Guide volunteers.
URL:https://kcparent.com/event/free-weekend-fun-at-the-nelson-2/2029-08-04/
LOCATION:Nelson-Atkins Museum of Art\, 4525 Oak St.\, Kansas City\, Missouri\, United States
CATEGORIES:FREE,Indoor
ATTACH;FMTTYPE=image/jpeg:https://kcparent.com/wp-content/uploads/2025/07/Time-for-Art.jpg
END:VEVENT
BEGIN:VEVENT
DTSTART;TZID=America/Denver:20290805T130000
DTEND;TZID=America/Denver:20290805T160000
DTSTAMP:20260419T205309
CREATED:20260311T032407Z
LAST-MODIFIED:20260311T032634Z
UID:10024245-1880629200-1880640000@kcparent.com
SUMMARY:Free Weekend Fun: Nouveau Notes 
DESCRIPTION:Free | Drop-in event (no registration required)   \nFun Spot: Lobby Level\, Bloch Building | 1–4 pm \nDesign your own postcard inspired by the work of Alfonse Mucha. \nGallery Activity: Gallery 128 | 1–4 pm  \nExplore how artists combined colors\, shapes and lines to create stunning creations with the help of Museum Guide volunteers.
URL:https://kcparent.com/event/free-weekend-fun-at-the-nelson-2/2029-08-05/
LOCATION:Nelson-Atkins Museum of Art\, 4525 Oak St.\, Kansas City\, Missouri\, United States
CATEGORIES:FREE,Indoor
ATTACH;FMTTYPE=image/jpeg:https://kcparent.com/wp-content/uploads/2025/07/Time-for-Art.jpg
END:VEVENT
BEGIN:VEVENT
DTSTART;TZID=America/Denver:20290807T090000
DTEND;TZID=America/Denver:20290807T120000
DTSTAMP:20260419T205309
CREATED:20260113T222538Z
LAST-MODIFIED:20260403T152648Z
UID:10025077-1880787600-1880798400@kcparent.com
SUMMARY:Discovery Day at the Arboretum
DESCRIPTION:Craft time awaits on the first Tuesday of the month at the Overland Park Arboretum & Botanical Gardens. Little explorers are in for a treat as they immerse themselves in the enchanting world of nature and creativity. Each month\, a new make-and-take project unfolds on Discovery Day. Crafting supplies are included\, and the projects are available on a first-come\, first-served basis to the first 100 participants. \nThe first Tuesday of the month also happens to be Free Admission Day at the Arboretum\, so entry into the gardens and this project are all free! \n2026 projects:\nJanuary 6 – Bird binoculars\nFebruary 3 – Paint and art show\nMarch 3 – Ladybug rock painting\nApril 7- Flower press\nMay 5 – Paper bag kites\nJune 2- Paper spinner and/or Pinwheel\nJuly 7 – Grass hair planters\nAugust 4 – Nature journals\nSeptember 1 – Build a bug and/or Bug hotel\nOctober 6 – Bat rockets\nNovember 3 – Leaf suncatchers\nDecember 1 – Bean mosaic art
URL:https://kcparent.com/event/discovery-day-at-the-arboretum-11/2029-08-07/
LOCATION:Overland Park Arboretum and Botanical Gardens\, 8909 W. 179th St.\, Overland Park\, Kansas\, 66013\, United States
CATEGORIES:FREE
ATTACH;FMTTYPE=image/png:https://kcparent.com/wp-content/uploads/2026/01/Discovery-Day-12.png
END:VEVENT
BEGIN:VEVENT
DTSTART;TZID=America/Denver:20290807T140000
DTEND;TZID=America/Denver:20290807T180000
DTSTAMP:20260419T205309
CREATED:20251221T171503Z
LAST-MODIFIED:20251222T171836Z
UID:10017237-1880805600-1880820000@kcparent.com
SUMMARY:I AM Frozen Dessert Cafe Tuesday Happy Hour
DESCRIPTION:Buy any 2 Drinks at regular menu price and your 3rd is FREE every Tuesday 2PM-6PM @ I AM Frozen Dessert Cafe.
URL:https://kcparent.com/event/i-am-frozen-dessert-cafe-tuesday-happy-hour/2029-08-07/
LOCATION:Missouri
CATEGORIES:FREE
ATTACH;FMTTYPE=image/jpeg:https://kcparent.com/wp-content/uploads/2025/12/Screenshot_20251221_104733_Instagram.jpg
END:VEVENT
END:VCALENDAR