BEGIN:VCALENDAR
VERSION:2.0
PRODID:-//KC Parent - ECPv6.15.18//NONSGML v1.0//EN
CALSCALE:GREGORIAN
METHOD:PUBLISH
X-WR-CALNAME:KC Parent
X-ORIGINAL-URL:https://kcparent.com
X-WR-CALDESC:Events for KC Parent
REFRESH-INTERVAL;VALUE=DURATION:PT1H
X-Robots-Tag:noindex
X-PUBLISHED-TTL:PT1H
BEGIN:VTIMEZONE
TZID:America/Denver
BEGIN:DAYLIGHT
TZOFFSETFROM:-0700
TZOFFSETTO:-0600
TZNAME:MDT
DTSTART:20250309T090000
END:DAYLIGHT
BEGIN:STANDARD
TZOFFSETFROM:-0600
TZOFFSETTO:-0700
TZNAME:MST
DTSTART:20251102T080000
END:STANDARD
BEGIN:DAYLIGHT
TZOFFSETFROM:-0700
TZOFFSETTO:-0600
TZNAME:MDT
DTSTART:20260308T090000
END:DAYLIGHT
BEGIN:STANDARD
TZOFFSETFROM:-0600
TZOFFSETTO:-0700
TZNAME:MST
DTSTART:20261101T080000
END:STANDARD
BEGIN:DAYLIGHT
TZOFFSETFROM:-0700
TZOFFSETTO:-0600
TZNAME:MDT
DTSTART:20270314T090000
END:DAYLIGHT
BEGIN:STANDARD
TZOFFSETFROM:-0600
TZOFFSETTO:-0700
TZNAME:MST
DTSTART:20271107T080000
END:STANDARD
END:VTIMEZONE
BEGIN:VEVENT
DTSTART;VALUE=DATE:20260203
DTEND;VALUE=DATE:20260204
DTSTAMP:20260421T040105
CREATED:20260202T202115Z
LAST-MODIFIED:20260203T042826Z
UID:10019955-1770076800-1770163199@kcparent.com
SUMMARY:America Wild: National Parks Adventure
DESCRIPTION:Regnier Extreme Screen \nTHRU FEB 19 | MON — SAT 10:00am \nOne hundred years ago\, areas of great natural beauty were declared protected for eternity. A team of modern-day explorers takes an off-trail adventure through the national parks of the USA\, showing the beauty of the parks that is awe-inspiring. \nPrice: General Admission $6 \n 
URL:https://kcparent.com/event/america-wild-national-parks-adventure-2/2026-02-03/
LOCATION:Union Station\, 30 West Pershing Road\, Kansas City\, Missouri\, 64108\, United States
CATEGORIES:Movie
ATTACH;FMTTYPE=image/jpeg:https://kcparent.com/wp-content/uploads/2026/02/iStock-2195204713-1-scaled.jpg
END:VEVENT
END:VCALENDAR