BEGIN:VCALENDAR
VERSION:2.0
PRODID:-//KC Parent - ECPv6.15.18//NONSGML v1.0//EN
CALSCALE:GREGORIAN
METHOD:PUBLISH
X-WR-CALNAME:KC Parent
X-ORIGINAL-URL:https://kcparent.com
X-WR-CALDESC:Events for KC Parent
REFRESH-INTERVAL;VALUE=DURATION:PT1H
X-Robots-Tag:noindex
X-PUBLISHED-TTL:PT1H
BEGIN:VTIMEZONE
TZID:America/Denver
BEGIN:DAYLIGHT
TZOFFSETFROM:-0700
TZOFFSETTO:-0600
TZNAME:MDT
DTSTART:20250309T090000
END:DAYLIGHT
BEGIN:STANDARD
TZOFFSETFROM:-0600
TZOFFSETTO:-0700
TZNAME:MST
DTSTART:20251102T080000
END:STANDARD
BEGIN:DAYLIGHT
TZOFFSETFROM:-0700
TZOFFSETTO:-0600
TZNAME:MDT
DTSTART:20260308T090000
END:DAYLIGHT
BEGIN:STANDARD
TZOFFSETFROM:-0600
TZOFFSETTO:-0700
TZNAME:MST
DTSTART:20261101T080000
END:STANDARD
BEGIN:DAYLIGHT
TZOFFSETFROM:-0700
TZOFFSETTO:-0600
TZNAME:MDT
DTSTART:20270314T090000
END:DAYLIGHT
BEGIN:STANDARD
TZOFFSETFROM:-0600
TZOFFSETTO:-0700
TZNAME:MST
DTSTART:20271107T080000
END:STANDARD
END:VTIMEZONE
BEGIN:VEVENT
DTSTART;VALUE=DATE:20260401
DTEND;VALUE=DATE:20260424
DTSTAMP:20260420T225225
CREATED:20260330T162847Z
LAST-MODIFIED:20260330T162931Z
UID:10025013-1775001600-1776988799@kcparent.com
SUMMARY:The Super Mario Galaxy Movie
DESCRIPTION:he Super Mario Galaxy Movie is coming to our GIANT 5-story Extreme Screen. Tickets from JUST $5. \nIt’s KC’s BIGGEST SCREEN\, the best family value tickets and concessions\, and the only movie theatre along the free-to-ride KC Streetcar line. Only at Union Station! \nShowtimes daily from April 1–23\n• 12:30PM ($5 tickets)\, 4:00PM\, 7:30PM\n• April 23: 12:30PM only \nJoined by new allies like Rosalina\, Mario\, Luigi\, Princess Peach\, and Toad blast into outer space for a cosmic adventure across fantastical planets and gravity-defying worlds. \nLocation: Regnier Extreme Screen Theatre\n\nRating: PG\n\nRuntime: 1h 38m
URL:https://kcparent.com/event/the-super-mario-galaxy-movie/
LOCATION:Union Station\, 30 West Pershing Road\, Kansas City\, Missouri\, 64108\, United States
CATEGORIES:Movie
ATTACH;FMTTYPE=image/png:https://kcparent.com/wp-content/uploads/2026/03/Still-2.png
END:VEVENT
END:VCALENDAR