BEGIN:VCALENDAR
VERSION:2.0
PRODID:-//KC Parent - ECPv6.15.18//NONSGML v1.0//EN
CALSCALE:GREGORIAN
METHOD:PUBLISH
X-WR-CALNAME:KC Parent
X-ORIGINAL-URL:https://kcparent.com
X-WR-CALDESC:Events for KC Parent
REFRESH-INTERVAL;VALUE=DURATION:PT1H
X-Robots-Tag:noindex
X-PUBLISHED-TTL:PT1H
BEGIN:VTIMEZONE
TZID:America/Denver
BEGIN:DAYLIGHT
TZOFFSETFROM:-0700
TZOFFSETTO:-0600
TZNAME:MDT
DTSTART:20250309T090000
END:DAYLIGHT
BEGIN:STANDARD
TZOFFSETFROM:-0600
TZOFFSETTO:-0700
TZNAME:MST
DTSTART:20251102T080000
END:STANDARD
BEGIN:DAYLIGHT
TZOFFSETFROM:-0700
TZOFFSETTO:-0600
TZNAME:MDT
DTSTART:20260308T090000
END:DAYLIGHT
BEGIN:STANDARD
TZOFFSETFROM:-0600
TZOFFSETTO:-0700
TZNAME:MST
DTSTART:20261101T080000
END:STANDARD
BEGIN:DAYLIGHT
TZOFFSETFROM:-0700
TZOFFSETTO:-0600
TZNAME:MDT
DTSTART:20270314T090000
END:DAYLIGHT
BEGIN:STANDARD
TZOFFSETFROM:-0600
TZOFFSETTO:-0700
TZNAME:MST
DTSTART:20271107T080000
END:STANDARD
END:VTIMEZONE
BEGIN:VEVENT
DTSTART;TZID=America/Denver:20260410T083000
DTEND;TZID=America/Denver:20260410T100000
DTSTAMP:20260420T181607
CREATED:20260403T160209Z
LAST-MODIFIED:20260403T160232Z
UID:10025159-1775809800-1775815200@kcparent.com
SUMMARY:Early Childhood & Kindergarten Roundup
DESCRIPTION:4/10/2026 8:30 AM to 4/10/2026 10:00 AM \nHour-long drop off assessments for students entering grades Preschool – Kindergarten. Admissions applications required. Email admissions@barstowschool.org to register.
URL:https://kcparent.com/event/early-childhood-kindergarten-roundup/
LOCATION:The Barstow School\, 11511 State Line Rd\, Kansas City\, Missouri\, 64114\, United States
CATEGORIES:School Open House
ATTACH;FMTTYPE=image/jpeg:https://kcparent.com/wp-content/uploads/2026/04/large_text1002716_82433.jpg
END:VEVENT
END:VCALENDAR