BEGIN:VCALENDAR
VERSION:2.0
PRODID:-//KC Parent - ECPv6.15.18//NONSGML v1.0//EN
CALSCALE:GREGORIAN
METHOD:PUBLISH
X-WR-CALNAME:KC Parent
X-ORIGINAL-URL:https://kcparent.com
X-WR-CALDESC:Events for KC Parent
REFRESH-INTERVAL;VALUE=DURATION:PT1H
X-Robots-Tag:noindex
X-PUBLISHED-TTL:PT1H
BEGIN:VTIMEZONE
TZID:America/Denver
BEGIN:DAYLIGHT
TZOFFSETFROM:-0700
TZOFFSETTO:-0600
TZNAME:MDT
DTSTART:20250309T090000
END:DAYLIGHT
BEGIN:STANDARD
TZOFFSETFROM:-0600
TZOFFSETTO:-0700
TZNAME:MST
DTSTART:20251102T080000
END:STANDARD
BEGIN:DAYLIGHT
TZOFFSETFROM:-0700
TZOFFSETTO:-0600
TZNAME:MDT
DTSTART:20260308T090000
END:DAYLIGHT
BEGIN:STANDARD
TZOFFSETFROM:-0600
TZOFFSETTO:-0700
TZNAME:MST
DTSTART:20261101T080000
END:STANDARD
BEGIN:DAYLIGHT
TZOFFSETFROM:-0700
TZOFFSETTO:-0600
TZNAME:MDT
DTSTART:20270314T090000
END:DAYLIGHT
BEGIN:STANDARD
TZOFFSETFROM:-0600
TZOFFSETTO:-0700
TZNAME:MST
DTSTART:20271107T080000
END:STANDARD
END:VTIMEZONE
BEGIN:VEVENT
DTSTART;VALUE=DATE:20260313
DTEND;VALUE=DATE:20260316
DTSTAMP:20260422T165956
CREATED:20260310T142143Z
LAST-MODIFIED:20260310T142231Z
UID:10023759-1773360000-1773619199@kcparent.com
SUMMARY:Whitetail Outdoor Expo
DESCRIPTION:Missouri’s Premier Hunting & Outdoor Experience — Now Bigger Than Ever \nThe Show-Me Whitetail Outdoor Expo is Missouri’s premier destination for hunters\, outdoorsmen\, and families who live for the outdoor lifestyle. This three-day\, high-energy event brings together over 100\,000 square feet of vendors\, gear\, competitions\, and hands-on experiences dedicated exclusively to whitetail culture and outdoor pursuits. \nWhether you’re a seasoned hunter\, competitive archer\, or a family looking for an unforgettable weekend\, the Show-Me Whitetail Outdoor Expo delivers an unmatched\, all-ages experience rooted in authenticity\, education\, and community. \nEvent Highlights\n\n\nProfessional Deer Scoring – Bring your buck and have it officially scored on-site by professionals. \n\n\n3D Archery Tournament – Test your accuracy and compete alongside fellow archers in a full-scale tournament setting. \n\n\nFetch & Fish America – A family-friendly attraction featuring a 5\,000-gallon fishing tank\, live fish\, and high-flying retriever demonstrations. \n\n\nEducational Seminars & Live Demos – Learn from industry experts covering saddle hunting\, food plots\, land management\, and the latest tactics and technology. \n\n\nTop Outdoor Brands & Vendors – Shop and explore gear from leading brands including Hoyt\, Bowtech\, Expedition Archery\, Darton\, Grizzly\, Scheels\, OnX Hunt\, Victory Archery\, Morrell Targets\, and more.
URL:https://kcparent.com/event/whitetail-outdoor-expo/
LOCATION:American Royal\, 1701 American Royal Court\, Kansas City\, Missouri\, 64102\, United States
ATTACH;FMTTYPE=image/jpeg:https://kcparent.com/wp-content/uploads/2026/03/622371513_122208187214319541_149185709483936365_n.jpg
END:VEVENT
BEGIN:VEVENT
DTSTART;VALUE=DATE:20260401
DTEND;VALUE=DATE:20270101
DTSTAMP:20260422T165956
CREATED:20260403T151104Z
LAST-MODIFIED:20260403T151104Z
UID:10025034-1775001600-1798761599@kcparent.com
SUMMARY:United We Play
DESCRIPTION:FROM SANDLOTS TO STADIUMS\, FIRST FAMILIES TO YOUR FAMILY\, EXPERIENCE AN ALL-NEW\, ALL-STAR EXHIBITION CELEBRATING THE SPORTING SPIRIT.\nAs Kansas City welcomes the world for the 2026 FIFA World Cup\, the Harry S. Truman Presidential Library & Museum invites you to explore United We Play: Kicking It with the Trumans—a new exhibition showcasing the power of sports to inspire and unite us. \n\nThis original show will feature an all-star lineup—hundreds of artifacts\, photos\, videos and stories featuring the Trumans and Kansas City’s sports teams\, including the Chiefs\, the Monarchs\, Blues\, A’s\, and Royals baseball clubs\, as well as Sporting KC and the KC Current soccer teams. \nDiscover the lifelong connection between the Trumans and legendary Kansas basketball coach Phog Allen. Be inspired by President Truman’s calisthenics routine\, as demonstrated at the “Truman Athletic Club” on the USS Missouri. And re-visit Truman’s harsh critique of Coach Hank Stram’s call after the Chiefs lost to the Raiders. \n“Our new exhibition will engage both Kansas Citians and people from around the world visiting for the FIFA World Cup matches\,” said Mark Adams\, director of the Truman Library. “The Trumans loved sports. Bess was quite an athlete as a young woman and President Truman loved horseshoes\, fishing\, and swimming. Of course\, Kansas City’s football\, baseball and soccer teams are a huge source of community pride\, so this exhibition brings all those elements together in a celebration of sports.” \nUnited We Play will showcase a remarkable collection of artifacts\, souvenirs and memorabilia\, including: \n\nNFL season passes made of 14k gold presented to President Truman\nChiefs owner Lamar Hunt’s ticket to the first game played in Arrowhead Stadium\nBess Wallace Truman’s ice skates\nPresident Truman’s cap from the Kansas City Blues baseball club\nKansas City Royals jacket and George Brett commemorative bat presented to President Ronald Reagan after the 1985 World Series Championship\n2015 Kansas City Royals World Series jersey given to White House Press Secretary Josh Earnest\, a Kansas City native\nPhoto of President Truman with baseball icons Roger Maris and Mickey Mantle\nSoccer ball from the 2013 Sporting Kansas City championship team\n\n“Sports spark our passion and create joy like few other things\,” said Alex Burden\, Executive Director of the Truman Library Institute. “We believe United We Play will generate pride\, nostalgia and a deeper understanding of the Trumans’ lives and how sports can unite our community and people around the world.” \nThe exhibition opens April 1 at the Truman Library at 500 West U.S. 24 Highway in Independence\, MO. Both United We Play and The Story of US: America at 250 (opening April 20) are included with admission. \nJoin us as Kansas City–and the world–play united.
URL:https://kcparent.com/event/united-we-play/
LOCATION:Harry S. Truman Presidential Library\, 500 US Hwy. 24\, Independence\, Missouri\, United States
CATEGORIES:Sports
ATTACH;FMTTYPE=image/jpeg:https://kcparent.com/wp-content/uploads/2026/04/26-61-truman-library-united-we-play-exhibition-prep-march-27-38_55176724005_o-scaled-1.jpg
END:VEVENT
BEGIN:VEVENT
DTSTART;TZID=America/Denver:20260401T090000
DTEND;TZID=America/Denver:20260401T170000
DTSTAMP:20260422T165956
CREATED:20260309T214711Z
LAST-MODIFIED:20260309T214711Z
UID:10023755-1775034000-1775062800@kcparent.com
SUMMARY:Opening Day at Deanna Rose Children's Farmstead
DESCRIPTION:Make memories at the Farm!\nCelebrate the start of the season with farm animals\, activities\, play areas and family fun at this beloved local attraction! Deanna Rose Children’s Farmstead is the perfect place to learn\, grow and have fun. Visit more than 250 animals\, learn about growing flowers and food\, experience Native American Kanza history\, visit a one-room schoolhouse and take a stroll through Main Street to the fishing pond. \nApril 1st\, 2026\n9:00 AM – 5 PM \n—— \nChildren ages 2 and under are free.\n$5 ages 3+ \n13800 Switzer Rd.\nOverland Park\, KS 66221 \n 
URL:https://kcparent.com/event/opening-day-at-deanna-rose-childrens-farmstead/
LOCATION:Deanna Rose Children’s Farmstead\, 13800 Switzer\, Overland Park\, Kansas\, 66221\, United States
ATTACH;FMTTYPE=image/jpeg:https://kcparent.com/wp-content/uploads/2026/03/deanna.jpg
END:VEVENT
BEGIN:VEVENT
DTSTART;VALUE=DATE:20260425
DTEND;VALUE=DATE:20260426
DTSTAMP:20260422T165956
CREATED:20260417T200630Z
LAST-MODIFIED:20260417T201303Z
UID:10025461-1777075200-1777161599@kcparent.com
SUMMARY:Youth Fishing Derby
DESCRIPTION:Saturday\, April 25\, 2026\nSpend the morning away from the screens and join us for a morning of fishing and donuts at Meadowbrook Park\n\n\n\nSpend the morning away from the screens and join us for a morning of fishing and donuts at Meadowbrook Park. This event is for kids 12 and under with an adult. One pole per child. Equipment not provided. Each participant will receive a goodie bag. This reel-y fun event for ages 4-12 is $11 per person\, $12 nonresidents.
URL:https://kcparent.com/event/youth-fishing-derby-3/
LOCATION:Meadowbrook Park\, 9101 Nall Avenue\, City of Prairie Village\, Kansas\, 66207\, United States
END:VEVENT
BEGIN:VEVENT
DTSTART;TZID=America/Denver:20260425T083000
DTEND;TZID=America/Denver:20260425T100000
DTSTAMP:20260422T165956
CREATED:20260302T163634Z
LAST-MODIFIED:20260302T212629Z
UID:10023453-1777105800-1777111200@kcparent.com
SUMMARY:Kids Fishing Derby - Leawood Police
DESCRIPTION:Learn to fish at this fun and FREE family event. Hosted by the Leawood Police Department and Leawood Parks\, Recreation & Arts \nBring your own pole\, but bobbers and bait are provided. Derby and prizes for ages 12 and under\, but everyone is welcome to fish and have fun with the family! \nLight breakfast items will be available. \nTomahawk Creek Pkwy North Pond (114th St / Tomahawk Creek Pkwy\, Leawood\, KS)\nSaturday\, April 25\, 2026\nRegistration: 8:30 AM\nFishing Begins: 9:00 AM\nFishing Ends (prizes to follow): 10:00 AM
URL:https://kcparent.com/event/kids-fishing-derby-leawood-police/
LOCATION:Leawood North Pond\, 11401 Tomahawk Creek Parkway\, Leawood\, Kansas\, 66211\, United States
CATEGORIES:FREE
ATTACH;FMTTYPE=image/png:https://kcparent.com/wp-content/uploads/2026/03/2026-Fishing-Derby.png
END:VEVENT
BEGIN:VEVENT
DTSTART;TZID=America/Denver:20260502T081500
DTEND;TZID=America/Denver:20260502T103000
DTSTAMP:20260422T165956
CREATED:20260116T191134Z
LAST-MODIFIED:20260116T193957Z
UID:10019435-1777709700-1777717800@kcparent.com
SUMMARY:43rd Annual Kids Fishing Derby
DESCRIPTION:Reel in the fun at the 43rd annual Kids’ Fishing Derby! Aspiring anglers ages 2 to 15 are invited to “seas the day” and show off their fishing skills in this FREE fin-tastic family event. \nEnjoy casting contests\, raffles\, and off-the-scales excitement as you compete for prizes awarded for the three top three heaviest fish in each age group — 6 & under\, 7–10\, and 11–15. \nThe first 200 participants will receive a free fishing pole thanks to our partners at Pure Fishing! Bring your own rod\, reel\, bait\, and a bucket for weighing your catch – no pre-registration required!
URL:https://kcparent.com/event/43rd-annual-kids-fishing-derby/
LOCATION:Lake Jacomo South Boat Dock\, 9201 Beach\, Kansas City\, Missouri\, 64064\, United States
CATEGORIES:FREE
ATTACH;FMTTYPE=image/jpeg:https://kcparent.com/wp-content/uploads/2026/01/dsc_1577.jpg
END:VEVENT
BEGIN:VEVENT
DTSTART;TZID=America/Denver:20260502T081500
DTEND;TZID=America/Denver:20260502T103000
DTSTAMP:20260422T165956
CREATED:20260407T201129Z
LAST-MODIFIED:20260407T202132Z
UID:10025176-1777709700-1777717800@kcparent.com
SUMMARY:43rd Annual Kids' Fishing Derby
DESCRIPTION:Next date: Saturday\, May 02\, 2026 | 08:15 AM to 10:30 AM \nReel in the fun at the 43rd annual Kids’ Fishing Derby!Aspiring anglers ages 2 to 15 are invited to “seas the day” and show off their fishing skills in this FREE   fin-tastic family event. \nEnjoy casting contests\, raffles\, and off-the-scales excitement as you compete forprizes awarded to the    top- three heaviest fish in each age group — 6 & under\, 7–10\, and 11–15. \nThe first 200 participants will receive a free fishing pole thanks to our partners at Pure Fishing! Bring   your own rod\, reel\, bait\, and a bucket for weighing your catch – no pre-registration required!
URL:https://kcparent.com/event/43rd-annual-kids-fishing-derby-2/
LOCATION:Lake Jacomo South Boat Dock\, 9201 Beach\, Kansas City\, Missouri\, 64064\, United States
CATEGORIES:Outdoor
END:VEVENT
BEGIN:VEVENT
DTSTART;TZID=America/Denver:20260502T081500
DTEND;TZID=America/Denver:20260502T103000
DTSTAMP:20260422T165956
CREATED:20260407T211315Z
LAST-MODIFIED:20260413T135805Z
UID:10025187-1777709700-1777717800@kcparent.com
SUMMARY:43rd Annual Kids' Fishing Derby
DESCRIPTION:Reel in the fun at the 43rd annual Kids’ Fishing Derby! Aspiring anglers ages 2 to 15 are invited to “seas the day” and show off their fishing skills in this FREE fin-tastic family event. Enjoy casting contests\, raffles\, and off-the-scales excitement as you compete for prizes awarded to the top three heaviest fish in each age group — 6 & under\, 7–10\, and 11–15. The first 200 participants will receive a free fishing pole thanks to our partners at Pure Fishing! Bring your own rod\, reel\, bait\, and a bucket for weighing your catch – no pre-registration required!
URL:https://kcparent.com/event/43rd-annual-kids-fishing-derby-3/
LOCATION:Lake Jacomo South Boat Dock\, 9201 Beach\, Kansas City\, Missouri\, 64064\, United States
CATEGORIES:Family
ATTACH;FMTTYPE=image/jpeg:https://kcparent.com/wp-content/uploads/2026/04/DSC_4643-scaled.jpg
END:VEVENT
BEGIN:VEVENT
DTSTART;TZID=America/Denver:20260509T100000
DTEND;TZID=America/Denver:20260509T160000
DTSTAMP:20260422T165956
CREATED:20260331T153907Z
LAST-MODIFIED:20260403T144208Z
UID:10025024-1778320800-1778342400@kcparent.com
SUMMARY:Wildwood Open House
DESCRIPTION:Take a shot at archery\, go fishing for bass and crappie (catch and release)\, walk through the cabins and woods\, check out the treehouse\, and relax by the campfire. \nOh\, and did I mention our goats? We’ll have treats available to feed our four furry friends: Ottis\, Oakley\, Oatmeal\, and Orchard! \nArchery- $5 for 5 arrows\nFishing- FREE\nS’mores pack of 2- $2\nHiking-FREE\nFeeding goats- FREE\nWater\, soda\, and light snacks available for purchase. Bring lunch and enjoy a picnic at the pavilion!
URL:https://kcparent.com/event/wildwood-open-house/
LOCATION:Wildwood Outdoor Education Center\, 7095 W 399th St\, La Cygne\, Kansas\, 66040\, United States
CATEGORIES:Outdoor
ATTACH;FMTTYPE=image/jpeg:https://kcparent.com/wp-content/uploads/2026/03/Goats-Pic.jpg
END:VEVENT
BEGIN:VEVENT
DTSTART;TZID=America/Denver:20260613T090000
DTEND;TZID=America/Denver:20260613T120000
DTSTAMP:20260422T165956
CREATED:20260409T202748Z
LAST-MODIFIED:20260420T161224Z
UID:10025475-1781341200-1781352000@kcparent.com
SUMMARY:Youth Fishing Derby
DESCRIPTION:Grab your fishing pole and get ready to reel in some fun! Our free Youth Fishing Derby is open to kids 13 and under—no experience needed! Prizes\, giveaways\, and tons of fishy fun await. Don’t miss out! \nThis youth fishing derby will take place at Rose’s Pond in beautiful Sar-Ko-Par Trails Park. It is a catch-and-release derby. Participants will measure their fish and then place them back in the pond. Advance registration appreciated but walk ups welcome the day of the event. Bait\, tackle and poles available on first come\, first serve basis.
URL:https://kcparent.com/event/youth-fishing-derby-4/
LOCATION:Sar-Ko-Par Trails Park\,  87th Street Parkway &; Lackman Road\, Lenexa\, Kansas\, 66215\, United States
CATEGORIES:Outdoor
ATTACH;FMTTYPE=image/jpeg:https://kcparent.com/wp-content/uploads/2026/04/Youth-Fishing-Derty-1038x582-1.jpg
END:VEVENT
END:VCALENDAR