BEGIN:VCALENDAR
VERSION:2.0
PRODID:-//KC Parent - ECPv6.15.18//NONSGML v1.0//EN
CALSCALE:GREGORIAN
METHOD:PUBLISH
X-ORIGINAL-URL:https://kcparent.com
X-WR-CALDESC:Events for KC Parent
REFRESH-INTERVAL;VALUE=DURATION:PT1H
X-Robots-Tag:noindex
X-PUBLISHED-TTL:PT1H
BEGIN:VTIMEZONE
TZID:America/Denver
BEGIN:DAYLIGHT
TZOFFSETFROM:-0700
TZOFFSETTO:-0600
TZNAME:MDT
DTSTART:20250309T090000
END:DAYLIGHT
BEGIN:STANDARD
TZOFFSETFROM:-0600
TZOFFSETTO:-0700
TZNAME:MST
DTSTART:20251102T080000
END:STANDARD
BEGIN:DAYLIGHT
TZOFFSETFROM:-0700
TZOFFSETTO:-0600
TZNAME:MDT
DTSTART:20260308T090000
END:DAYLIGHT
BEGIN:STANDARD
TZOFFSETFROM:-0600
TZOFFSETTO:-0700
TZNAME:MST
DTSTART:20261101T080000
END:STANDARD
BEGIN:DAYLIGHT
TZOFFSETFROM:-0700
TZOFFSETTO:-0600
TZNAME:MDT
DTSTART:20270314T090000
END:DAYLIGHT
BEGIN:STANDARD
TZOFFSETFROM:-0600
TZOFFSETTO:-0700
TZNAME:MST
DTSTART:20271107T080000
END:STANDARD
END:VTIMEZONE
BEGIN:VEVENT
DTSTART;TZID=America/Denver:20260601T090000
DTEND;TZID=America/Denver:20260806T090000
DTSTAMP:20260422T231822
CREATED:20260411T012738Z
LAST-MODIFIED:20260413T135813Z
UID:10025191-1780304400-1786006800@kcparent.com
SUMMARY:Garden n Grow
DESCRIPTION:Get ready for a summer packed with discovery\, dirt\, and delicious harvests! In the Garden ‘n Grow program\, young growers ages 9-13 will plant\, tend\, and harvest their very own garden plot guided every step of the way by the knowledgeable and friendly Extension Master Gardeners of Greater Kansas City. Whether your child is a budding botanist or completely new to gardening\, this hands-on program builds skills\, confidence\, and a lifelong love of nature. Each session combines outdoor exploration with fun\, kid-friendly learning that brings the magic of gardening to life.\nFor more information\, please visit mggkc.adv.edu@gmail.com
URL:https://kcparent.com/event/garden-n-grow/
LOCATION:Fairview Christian Church\, 1800 Northeast 65th Street\, Kansas City\, 64118
CATEGORIES:Class or Workshop
ATTACH;FMTTYPE=image/jpeg:https://kcparent.com/wp-content/uploads/2026/04/2026GardennGrow-Flyer.jpg
END:VEVENT
BEGIN:VEVENT
DTSTART;TZID=America/Denver:20260601T100000
DTEND;TZID=America/Denver:20260601T113000
DTSTAMP:20260422T231822
CREATED:20250730T212434Z
LAST-MODIFIED:20250819T154902Z
UID:10012072-1780308000-1780313400@kcparent.com
SUMMARY:Splash With Me: Lenexa Rec Center
DESCRIPTION:Let your little ones splash\, play and build confidence in the water during this morning swim time just for them. Soft toys are welcome. Swim diapers and swim suits are required for children that are not bathroom trained. Only U.S. Coast Guard-approved flotation devices are allowed. Adult supervision is required. \nWe host Splash with Me at two locations\, Flat Rock Creek Pool in the summer and the Lenexa Rec Center year round. Program is canceled on City-observed holidays. \nTwo Locations: \nLenexa Rec Center indoor pool 17201 W. 87th St. Pkwy.\, Lenexa\, KS 66219 \nMonday through Friday\, 10 to 11:30 a.m. Call 913.477.PLAY (7529) for planned schedule modifications.  Cost: Free for Lenexa Rec Center members / $2 per person for nonmembers. \nFlat Rock Creek Pool 13120 W. 103rd St.\, Lenexa\, KS 66215 Monday through Friday\, 10 to 11:30 a.m. (June through early August only) \nCall 913.477.7100 for planned schedule modifications.  Cost: Free for outdoor pool members / $2 per person for nonmembers.
URL:https://kcparent.com/event/splash-with-me-lenexa-rec-center-164/2026-06-01/
LOCATION:Lenexa Rec Center\, 17201 W. 87th St. Pkwy.\, Lenexa\, Kansas\, 66219\, United States
CATEGORIES:Indoor
ATTACH;FMTTYPE=image/jpeg:https://kcparent.com/wp-content/uploads/2025/07/Splash-with-Me_2019_.jpg
END:VEVENT
BEGIN:VEVENT
DTSTART;TZID=America/Denver:20260601T100000
DTEND;TZID=America/Denver:20260601T140000
DTSTAMP:20260422T231822
CREATED:20250730T212345Z
LAST-MODIFIED:20260219T215457Z
UID:10022813-1780308000-1780322400@kcparent.com
SUMMARY:Toddler Time at Ceramic Cafe
DESCRIPTION:On Thursdays from 10-2\, Toddlers (5 and under) get to paint one of our selected items for just $15.
URL:https://kcparent.com/event/thursday-toddler-time-at-ceramic-cafe-23/2026-06-01/
LOCATION:Ceramic Café\, 9510 Nall Ave\, Overland Park\, Kansas\, United States
CATEGORIES:Class or Workshop
ATTACH;FMTTYPE=image/jpeg:https://kcparent.com/wp-content/uploads/2025/07/toddlertimeceramiccafe.png.jpeg
END:VEVENT
BEGIN:VEVENT
DTSTART;TZID=America/Denver:20260601T110000
DTEND;TZID=America/Denver:20260601T120000
DTSTAMP:20260422T231822
CREATED:20250824T172619Z
LAST-MODIFIED:20250922T184249Z
UID:10015009-1780311600-1780315200@kcparent.com
SUMMARY:Indoor Playground
DESCRIPTION:Mill Creek Activity Center. Toddlers can explore on soft climbing structures\, slides and sensory activities. Ages walking to 5 yrs. $6 per child.  \nAvailable Mondays and Fridays from 11 AM-12 PM. \nRegister at JCPRD.com
URL:https://kcparent.com/event/indoor-playground/2026-06-01/
LOCATION:Mill Creek Activity Center\, 6518 Vista Drive \, Kansas\, 66217\, United States
ATTACH;FMTTYPE=image/jpeg:https://kcparent.com/wp-content/uploads/2025/08/indoorplayground-.jpg
END:VEVENT
BEGIN:VEVENT
DTSTART;TZID=America/Denver:20260601T120000
DTEND;TZID=America/Denver:20260601T130000
DTSTAMP:20260422T231822
CREATED:20250824T170834Z
LAST-MODIFIED:20250905T142302Z
UID:10012244-1780315200-1780318800@kcparent.com
SUMMARY:Open Gym
DESCRIPTION:Enjoy the open gym with your toddler. $5. Register at KC360Gym.com \n 
URL:https://kcparent.com/event/open-gym/2026-06-01/
LOCATION:360 Gymnastics\, 431 N. Lindenwood Dr.\, Olathe\, Kansas\, United States
ATTACH;FMTTYPE=image/jpeg:https://kcparent.com/wp-content/uploads/2025/08/opengym360.jpg
END:VEVENT
BEGIN:VEVENT
DTSTART;TZID=America/Denver:20260601T183000
DTEND;TZID=America/Denver:20260604T203000
DTSTAMP:20260422T231822
CREATED:20260318T153516Z
LAST-MODIFIED:20260322T110855Z
UID:10024960-1780338600-1780605000@kcparent.com
SUMMARY:Kids Week - Into the Wilderness
DESCRIPTION:We’re going Into the Wilderness! Kids ages 4 through 5th grade are invited to join us June 1–4 for an exciting week of faith\, fun\, and adventure in a camping-themed environment. Through games\, snacks\, crafts\, worship\, and teaching\, kids will learn how to follow Jesus and live with kindness\, compassion\, and love. Come along as we journey into the wilderness!
URL:https://kcparent.com/event/kids-week-into-the-wilderness/
LOCATION:Legacy Christian Church
CATEGORIES:Vacation Bible School
ATTACH;FMTTYPE=image/png:https://kcparent.com/wp-content/uploads/2026/03/kidsweek26_update_nodetails-2048x1152-1.png
END:VEVENT
BEGIN:VEVENT
DTSTART;VALUE=DATE:20260602
DTEND;VALUE=DATE:20260603
DTSTAMP:20260422T231822
CREATED:20260224T172824Z
LAST-MODIFIED:20260224T172855Z
UID:10020203-1780358400-1780444799@kcparent.com
SUMMARY:Jurassic Journey
DESCRIPTION:Experience a brand-new prehistoric passage featuring animatronic dinosaurs and fossils. Learn how hands-on science reveals dinosaurs that once ruled the ancient world. \n\nNew limited-time exhibit filling nearly 5\,000 saft in Science City\n9 Animatronic Dinosaurs\nInteract with Paleontologists\, touch dinosaur bones\, compare skulls & More!\n\nFREE WITH SCIENCE CITY ADMISSION
URL:https://kcparent.com/event/jurassic-journey-2/2026-06-02/
LOCATION:Science City at Union Station\, 30 W. Pershing Rd.\, Kansas City\, Missouri\, United States
ATTACH;FMTTYPE=image/png:https://kcparent.com/wp-content/uploads/2026/02/Screenshot-2026-02-06-at-3.20.30-PM.png
END:VEVENT
BEGIN:VEVENT
DTSTART;TZID=America/Denver:20260602T090000
DTEND;TZID=America/Denver:20260602T110000
DTSTAMP:20260422T231822
CREATED:20250825T135504Z
LAST-MODIFIED:20250826T014144Z
UID:10013568-1780390800-1780398000@kcparent.com
SUMMARY:Tot Time Swim
DESCRIPTION:Toddlers will enjoy the shallow pool and play equipment. Non-members are welcome to drop-in for pool use with the purchase of a daily pass of $9. Free for PCC members. Merriam.org
URL:https://kcparent.com/event/tot-time-swim/2026-06-02/
LOCATION:Powell Community Center\, 6200 Martway St\, Kansas\, 66202\, United States
ATTACH;FMTTYPE=image/png:https://kcparent.com/wp-content/uploads/2025/08/Screenshot-2025-08-25-at-8.40.14-PM.png
END:VEVENT
BEGIN:VEVENT
DTSTART;TZID=America/Denver:20260602T090000
DTEND;TZID=America/Denver:20260602T120000
DTSTAMP:20260422T231822
CREATED:20260113T222538Z
LAST-MODIFIED:20260403T152648Z
UID:10025039-1780390800-1780401600@kcparent.com
SUMMARY:Discovery Day at the Arboretum
DESCRIPTION:Craft time awaits on the first Tuesday of the month at the Overland Park Arboretum & Botanical Gardens. Little explorers are in for a treat as they immerse themselves in the enchanting world of nature and creativity. Each month\, a new make-and-take project unfolds on Discovery Day. Crafting supplies are included\, and the projects are available on a first-come\, first-served basis to the first 100 participants. \nThe first Tuesday of the month also happens to be Free Admission Day at the Arboretum\, so entry into the gardens and this project are all free! \n2026 projects:\nJanuary 6 – Bird binoculars\nFebruary 3 – Paint and art show\nMarch 3 – Ladybug rock painting\nApril 7- Flower press\nMay 5 – Paper bag kites\nJune 2- Paper spinner and/or Pinwheel\nJuly 7 – Grass hair planters\nAugust 4 – Nature journals\nSeptember 1 – Build a bug and/or Bug hotel\nOctober 6 – Bat rockets\nNovember 3 – Leaf suncatchers\nDecember 1 – Bean mosaic art
URL:https://kcparent.com/event/discovery-day-at-the-arboretum-11/2026-06-02/
LOCATION:Overland Park Arboretum and Botanical Gardens\, 8909 W. 179th St.\, Overland Park\, Kansas\, 66013\, United States
CATEGORIES:FREE
ATTACH;FMTTYPE=image/png:https://kcparent.com/wp-content/uploads/2026/01/Discovery-Day-12.png
END:VEVENT
BEGIN:VEVENT
DTSTART;TZID=America/Denver:20260602T090000
DTEND;TZID=America/Denver:20260602T130000
DTSTAMP:20260422T231822
CREATED:20260316T165713Z
LAST-MODIFIED:20260318T142200Z
UID:10024692-1780390800-1780405200@kcparent.com
SUMMARY:Lenexa Farmers Market - Tuesdays
DESCRIPTION:Fresh fruits and vegetables\, meat\, eggs\, dairy\, baked goods\, market staples\, plants and flowers\, body care products\, ready-to-eat foods\, beverages and more. The Lenexa Farmers Market sells only products that are locally grown\, raised or made within 250 miles or throughout Kansas. Each Saturday and Tuesday during the outdoor season\, you can expect a great selection from dozens of vendors. While shopping\, enjoy the ambience with live music\, yard games and featured artists.
URL:https://kcparent.com/event/lenexa-farmers-market-tuesdays-13/2026-06-02/
LOCATION:The Commons: Lenexa Civic Campus\, 17101 W. 87th St. Pkwy.\, City of Lenexa\, Kansas\, 66219\, United States
CATEGORIES:Outdoor
ATTACH;FMTTYPE=image/jpeg:https://kcparent.com/wp-content/uploads/2026/03/Lenexa-Farmers-Market-700x500px1.jpg
END:VEVENT
BEGIN:VEVENT
DTSTART;TZID=America/Denver:20260602T093000
DTEND;TZID=America/Denver:20260602T113000
DTSTAMP:20260422T231822
CREATED:20250824T172852Z
LAST-MODIFIED:20250826T224748Z
UID:10013092-1780392600-1780399800@kcparent.com
SUMMARY:Preschool Indoor Playground
DESCRIPTION: Drive\, pull or push your favorite Little Tykes vehicles. Parents must supervise their children. $2 per child or free for members. Merriam.org \n 
URL:https://kcparent.com/event/preschool-indoor-playground-34/2026-06-02/
LOCATION:Merriam Community Center\, 6040 Slater St.\, Merriam\, Kansas\, 66202\, United States
ATTACH;FMTTYPE=image/png:https://kcparent.com/wp-content/uploads/2025/08/Screenshot-2025-08-26-at-5.45.33-PM.png
END:VEVENT
BEGIN:VEVENT
DTSTART;TZID=America/Denver:20260602T100000
DTEND;TZID=America/Denver:20260602T170000
DTSTAMP:20260422T231822
CREATED:20250730T212723Z
LAST-MODIFIED:20250805T195159Z
UID:10011135-1780394400-1780419600@kcparent.com
SUMMARY:Backyard Specialists Pay For Play
DESCRIPTION:Backyard Specialists is the premier outdoor play spot in Olathe\, and surrounding areas when you are looking for great outdoor fun! Plan a play date for your children and their friends at our amazing outdoor showroom. \nPlay-for-Play Includes:\n  \n\n\n\nHUGE Outdoor display area\, all fenced in.\n\n\n\n  \n\n\n\nPlay on our Swing Sets\, and Basketball Goals (don’t forget your basketballs) Sorry\, but the trampolines are not available for play\n\n\n\n  \n\n\n\nSnack area to enjoy a treat (you may bring your own food and drinks)\n\n\n\n  \n\n\n\n$2 Cash or $4 Credit per kid (ages 18 months & up)\n\n\n\n  \n\n\n\nAvailable Tuesday and Thursday from 10 – 5\n\n\n\n  \n  \n*Closed all major holidays.
URL:https://kcparent.com/event/backyard-specialists-pay-for-play-65/2026-06-02/
LOCATION:Backyard Specialists of KC\, 2227 E. Kansas City Road\, Olathe\, Kansas\, 66061\, United States
CATEGORIES:Indoor
ATTACH;FMTTYPE=image/webp:https://kcparent.com/wp-content/uploads/2025/07/IMG_1069.jpg.webp
END:VEVENT
BEGIN:VEVENT
DTSTART;TZID=America/Denver:20260602T140000
DTEND;TZID=America/Denver:20260602T180000
DTSTAMP:20260422T231822
CREATED:20251221T171503Z
LAST-MODIFIED:20251222T171836Z
UID:10017071-1780408800-1780423200@kcparent.com
SUMMARY:I AM Frozen Dessert Cafe Tuesday Happy Hour
DESCRIPTION:Buy any 2 Drinks at regular menu price and your 3rd is FREE every Tuesday 2PM-6PM @ I AM Frozen Dessert Cafe.
URL:https://kcparent.com/event/i-am-frozen-dessert-cafe-tuesday-happy-hour/2026-06-02/
LOCATION:Missouri
CATEGORIES:FREE
ATTACH;FMTTYPE=image/jpeg:https://kcparent.com/wp-content/uploads/2025/12/Screenshot_20251221_104733_Instagram.jpg
END:VEVENT
BEGIN:VEVENT
DTSTART;VALUE=DATE:20260603
DTEND;VALUE=DATE:20260604
DTSTAMP:20260422T231822
CREATED:20260224T172824Z
LAST-MODIFIED:20260224T172855Z
UID:10020204-1780444800-1780531199@kcparent.com
SUMMARY:Jurassic Journey
DESCRIPTION:Experience a brand-new prehistoric passage featuring animatronic dinosaurs and fossils. Learn how hands-on science reveals dinosaurs that once ruled the ancient world. \n\nNew limited-time exhibit filling nearly 5\,000 saft in Science City\n9 Animatronic Dinosaurs\nInteract with Paleontologists\, touch dinosaur bones\, compare skulls & More!\n\nFREE WITH SCIENCE CITY ADMISSION
URL:https://kcparent.com/event/jurassic-journey-2/2026-06-03/
LOCATION:Science City at Union Station\, 30 W. Pershing Rd.\, Kansas City\, Missouri\, United States
ATTACH;FMTTYPE=image/png:https://kcparent.com/wp-content/uploads/2026/02/Screenshot-2026-02-06-at-3.20.30-PM.png
END:VEVENT
BEGIN:VEVENT
DTSTART;TZID=America/Denver:20260603T090000
DTEND;TZID=America/Denver:20260603T110000
DTSTAMP:20260422T231822
CREATED:20250824T172417Z
LAST-MODIFIED:20250827T150200Z
UID:10012850-1780477200-1780484400@kcparent.com
SUMMARY:Gym for Me
DESCRIPTION:Lenexa Rec Center; Old Town Activity Center \nA fun open gym where young children can play with balls\, tunnels and other age-appropriate equipment. Price is $3 per person (including guardians).Free for Lenexa Rec Center members when hosted at the Rec Center. Lenexa.com
URL:https://kcparent.com/event/gym-for-me-67/2026-06-03/
LOCATION:Lenexa Rec Center\, 17201 W. 87th St. Pkwy.\, Lenexa\, Kansas\, 66219\, United States
ATTACH;FMTTYPE=image/jpeg:https://kcparent.com/wp-content/uploads/2025/08/gymforme.jpg
END:VEVENT
BEGIN:VEVENT
DTSTART;TZID=America/Denver:20260603T093000
DTEND;TZID=America/Denver:20260603T113000
DTSTAMP:20260422T231822
CREATED:20250825T135302Z
LAST-MODIFIED:20250827T142702Z
UID:10013457-1780479000-1780486200@kcparent.com
SUMMARY:Preschool Playground
DESCRIPTION:Interactive playtime with slides and tunnels for kids ages 9 months–6 years. $5. Register at OlatheKS.org \nEvery Wednesday\, from Oct.-March when school is in session\, space is provided for gross motor activity such as tumbling\, running\, jumping as well as sensory activities. Parent supervision required. \n 
URL:https://kcparent.com/event/preschool-playground/2026-06-03/
LOCATION:Olathe Community Center\,  1205 E Kansas City Rd\, Kansas\, United States
ATTACH;FMTTYPE=image/jpeg:https://kcparent.com/wp-content/uploads/2025/08/preschool-playground-.jpeg
END:VEVENT
BEGIN:VEVENT
DTSTART;TZID=America/Denver:20260603T100000
DTEND;TZID=America/Denver:20260603T120000
DTSTAMP:20260422T231822
CREATED:20250825T134516Z
LAST-MODIFIED:20250826T213311Z
UID:10013316-1780480800-1780488000@kcparent.com
SUMMARY:Open Play
DESCRIPTION:Join for a special storytime\, themed craft time\, and open play in the gym and playplace. KawPrairie.org
URL:https://kcparent.com/event/open-play/2026-06-03/
LOCATION:Kaw Prairie Community Church\, 9421 Meadow View Dr.\, Lenexa\, Kansas\, United States
ATTACH;FMTTYPE=image/webp:https://kcparent.com/wp-content/uploads/2025/08/storytime_craft.png.webp
END:VEVENT
BEGIN:VEVENT
DTSTART;TZID=America/Denver:20260603T101500
DTEND;TZID=America/Denver:20260603T113000
DTSTAMP:20260422T231822
CREATED:20250825T135036Z
LAST-MODIFIED:20250827T145622Z
UID:10013391-1780481700-1780486200@kcparent.com
SUMMARY:Babies and Books
DESCRIPTION:Come listen to a story with your little one\, connect with other parents and guardians\, and learn how you can make books accessible to your bitty babies. $5 per child. TheRabbithOle.org
URL:https://kcparent.com/event/babies-and-books-2/2026-06-03/
LOCATION:Rabbit hOle\, 919 E. 14th Ave.\, North Kansas City\, Missouri\, United States
ATTACH;FMTTYPE=image/webp:https://kcparent.com/wp-content/uploads/2025/08/babies-and-books.webp
END:VEVENT
BEGIN:VEVENT
DTSTART;TZID=America/Denver:20260603T120000
DTEND;TZID=America/Denver:20260603T130000
DTSTAMP:20260422T231822
CREATED:20250824T170834Z
LAST-MODIFIED:20250905T142302Z
UID:10012245-1780488000-1780491600@kcparent.com
SUMMARY:Open Gym
DESCRIPTION:Enjoy the open gym with your toddler. $5. Register at KC360Gym.com \n 
URL:https://kcparent.com/event/open-gym/2026-06-03/
LOCATION:360 Gymnastics\, 431 N. Lindenwood Dr.\, Olathe\, Kansas\, United States
ATTACH;FMTTYPE=image/jpeg:https://kcparent.com/wp-content/uploads/2025/08/opengym360.jpg
END:VEVENT
BEGIN:VEVENT
DTSTART;TZID=America/Denver:20260603T160000
DTEND;TZID=America/Denver:20260603T190000
DTSTAMP:20260422T231822
CREATED:20260210T043011Z
LAST-MODIFIED:20260216T213648Z
UID:10022525-1780502400-1780513200@kcparent.com
SUMMARY:Supervised Play + Co-Working
DESCRIPTION:Happening every Wednesday!\nThese sessions are designed for moms (or dads) to get work done while their kids play.\nKids will play in the enclosed play area with a staff member. These events are not drop-off.\nTickets are non-refundable.\n$14/child (Siblings over 7 are free. Use code “SIBLINGDEAL”.)\nMembers get 50% off.\nAttend 3 times in a row and your next visit is free!\nFood and drinks are available for purchase\, or bring your own peanut-free snacks. Story and snack included in every session!\nSocks and waivers required. We do have cute grippy socks available for purchase for only $3!\nIf you have questions\, text or DM 816.298.0955
URL:https://kcparent.com/event/supervised-play-co-working/2026-06-03/
LOCATION:Missouri
ATTACH;FMTTYPE=image/jpeg:https://kcparent.com/wp-content/uploads/2026/02/e62a7abb-91db-4937-91ff-1227ca64e3c4.jpeg
END:VEVENT
BEGIN:VEVENT
DTSTART;TZID=America/Denver:20260603T170000
DTEND;TZID=America/Denver:20260603T170000
DTSTAMP:20260422T231822
CREATED:20250731T205610Z
LAST-MODIFIED:20250801T224700Z
UID:10003521-1780506000-1780506000@kcparent.com
SUMMARY:Family Night: Lenexa Public Market
DESCRIPTION:A place to eat\, have conversation and let kids be kids. While the Lenexa Public Market is a family-friendly location every day of the week\, Wednesdays are Family Night from 5 to 8 p.m. Best part? It’s free\, no registration required (except for special events). \n\nWhat to expect:\n\nactivities that you can play at your table like coloring pages and classic board games\noutdoor yard games such as sidewalk chalk and cornhole (summer and fall)\nballoon artist who can create twisted balloon decorations of favorite characters and animals\ndinner specials from select merchants\nrotating activities like donut and cupcake decorating that may require pre-registration and purchase of tickets (view Public Market calendar for special Family Night events)
URL:https://kcparent.com/event/family-night-lenexa-public-market/2026-06-03/
LOCATION:Lenexa Public Market\, 8750 Penrose Ln.\, Lenexa\, Kansas\, 66219\, United States
ATTACH;FMTTYPE=image/jpeg:https://kcparent.com/wp-content/uploads/2025/07/events-weekly-photo-gallery-family-night-meal.jpg
END:VEVENT
BEGIN:VEVENT
DTSTART;TZID=America/Denver:20260603T170000
DTEND;TZID=America/Denver:20260603T210000
DTSTAMP:20260422T231822
CREATED:20251027T151513Z
LAST-MODIFIED:20251230T050553Z
UID:10017338-1780506000-1780520400@kcparent.com
SUMMARY:Night at the Arboretum
DESCRIPTION:Experience the Arboretum after dark! See and learn about live hawks from Operation Wildlife\, stargaze with the Astronomical Society of Kansas City\, and take a glow hike at 5 p.m. or 6:30 p.m. The evening also features family activities\, fire pits and more\, all included with regular Arboretum admission.
URL:https://kcparent.com/event/night-at-the-arboretum-5/2026-06-03/
LOCATION:Overland Park Arboretum and Botanical Gardens\, 8909 W. 179th St.\, Overland Park\, Kansas\, 66013\, United States
CATEGORIES:Outdoor
ATTACH;FMTTYPE=image/jpeg:https://kcparent.com/wp-content/uploads/2025/10/smaller-Night-at-the-Arboretum.jpg
END:VEVENT
BEGIN:VEVENT
DTSTART;VALUE=DATE:20260604
DTEND;VALUE=DATE:20260605
DTSTAMP:20260422T231822
CREATED:20260224T172824Z
LAST-MODIFIED:20260224T172855Z
UID:10020205-1780531200-1780617599@kcparent.com
SUMMARY:Jurassic Journey
DESCRIPTION:Experience a brand-new prehistoric passage featuring animatronic dinosaurs and fossils. Learn how hands-on science reveals dinosaurs that once ruled the ancient world. \n\nNew limited-time exhibit filling nearly 5\,000 saft in Science City\n9 Animatronic Dinosaurs\nInteract with Paleontologists\, touch dinosaur bones\, compare skulls & More!\n\nFREE WITH SCIENCE CITY ADMISSION
URL:https://kcparent.com/event/jurassic-journey-2/2026-06-04/
LOCATION:Science City at Union Station\, 30 W. Pershing Rd.\, Kansas City\, Missouri\, United States
ATTACH;FMTTYPE=image/png:https://kcparent.com/wp-content/uploads/2026/02/Screenshot-2026-02-06-at-3.20.30-PM.png
END:VEVENT
BEGIN:VEVENT
DTSTART;TZID=America/Denver:20260604T080000
DTEND;TZID=America/Denver:20260604T080000
DTSTAMP:20260422T231822
CREATED:20250730T212539Z
LAST-MODIFIED:20260310T145625Z
UID:10005925-1780560000-1780560000@kcparent.com
SUMMARY:Jumperoo (toddler time)
DESCRIPTION:Thursday\, 9am-10am & Sunday\, 8am-10am \nJumperoo is a special time when the park opens before normal operating hours to welcome the 5 & under jumpers and their parent/guardian to jump\, bounce\, & crawl around safely. For $10.99 + socks ($3.49/pair – required) there is access to our Deluxe attractions. Usually $22.99 + socks! This allows access to all trampolines\, our tubes & slides playground\, foam pit\, warrior course (ball pit)….& more! \nConfirm Urban Air Lenexa Special Event Schedule Here
URL:https://kcparent.com/event/jumperoo-toddler-time-29/2026-06-04/
LOCATION:Urban Air Adventure Park Lenexa\, 8540 Maurer Rd.\, Lenexa\, KS\, 66219\, United States
CATEGORIES:Indoor
ATTACH;FMTTYPE=image/png:https://kcparent.com/wp-content/uploads/2025/07/Screenshot-2025-08-03-at-6.30.28-PM.png
END:VEVENT
BEGIN:VEVENT
DTSTART;TZID=America/Denver:20260604T090000
DTEND;TZID=America/Denver:20260604T110000
DTSTAMP:20260422T231822
CREATED:20250825T135504Z
LAST-MODIFIED:20250826T014144Z
UID:10013569-1780563600-1780570800@kcparent.com
SUMMARY:Tot Time Swim
DESCRIPTION:Toddlers will enjoy the shallow pool and play equipment. Non-members are welcome to drop-in for pool use with the purchase of a daily pass of $9. Free for PCC members. Merriam.org
URL:https://kcparent.com/event/tot-time-swim/2026-06-04/
LOCATION:Powell Community Center\, 6200 Martway St\, Kansas\, 66202\, United States
ATTACH;FMTTYPE=image/png:https://kcparent.com/wp-content/uploads/2025/08/Screenshot-2025-08-25-at-8.40.14-PM.png
END:VEVENT
BEGIN:VEVENT
DTSTART;TZID=America/Denver:20260604T093000
DTEND;TZID=America/Denver:20260604T103000
DTSTAMP:20260422T231822
CREATED:20250825T140041Z
LAST-MODIFIED:20250827T145409Z
UID:10013741-1780565400-1780569000@kcparent.com
SUMMARY:WonderBaby & Me
DESCRIPTION:Weekly class for infants 3–18 months and their grown-ups\, too! Register at Wonderscope.org
URL:https://kcparent.com/event/wonderbaby-me/2026-06-04/
LOCATION:The Regnier Family Wonderscope Museum of Kansas City\, 433 East Red Bridge Road\, Kansas City\, Missouri\, United States
ATTACH;FMTTYPE=image/webp:https://kcparent.com/wp-content/uploads/2025/08/Wonder-Baby-Program-Page.webp
END:VEVENT
BEGIN:VEVENT
DTSTART;TZID=America/Denver:20260604T100000
DTEND;TZID=America/Denver:20260604T140000
DTSTAMP:20260422T231822
CREATED:20250730T212345Z
LAST-MODIFIED:20260219T215457Z
UID:10004551-1780567200-1780581600@kcparent.com
SUMMARY:Toddler Time at Ceramic Cafe
DESCRIPTION:On Thursdays from 10-2\, Toddlers (5 and under) get to paint one of our selected items for just $15.
URL:https://kcparent.com/event/thursday-toddler-time-at-ceramic-cafe-23/2026-06-04/
LOCATION:Ceramic Café\, 9510 Nall Ave\, Overland Park\, Kansas\, United States
CATEGORIES:Class or Workshop
ATTACH;FMTTYPE=image/jpeg:https://kcparent.com/wp-content/uploads/2025/07/toddlertimeceramiccafe.png.jpeg
END:VEVENT
BEGIN:VEVENT
DTSTART;TZID=America/Denver:20260604T100000
DTEND;TZID=America/Denver:20260604T170000
DTSTAMP:20260422T231822
CREATED:20250730T212723Z
LAST-MODIFIED:20250805T195159Z
UID:10011136-1780567200-1780592400@kcparent.com
SUMMARY:Backyard Specialists Pay For Play
DESCRIPTION:Backyard Specialists is the premier outdoor play spot in Olathe\, and surrounding areas when you are looking for great outdoor fun! Plan a play date for your children and their friends at our amazing outdoor showroom. \nPlay-for-Play Includes:\n  \n\n\n\nHUGE Outdoor display area\, all fenced in.\n\n\n\n  \n\n\n\nPlay on our Swing Sets\, and Basketball Goals (don’t forget your basketballs) Sorry\, but the trampolines are not available for play\n\n\n\n  \n\n\n\nSnack area to enjoy a treat (you may bring your own food and drinks)\n\n\n\n  \n\n\n\n$2 Cash or $4 Credit per kid (ages 18 months & up)\n\n\n\n  \n\n\n\nAvailable Tuesday and Thursday from 10 – 5\n\n\n\n  \n  \n*Closed all major holidays.
URL:https://kcparent.com/event/backyard-specialists-pay-for-play-65/2026-06-04/
LOCATION:Backyard Specialists of KC\, 2227 E. Kansas City Road\, Olathe\, Kansas\, 66061\, United States
CATEGORIES:Indoor
ATTACH;FMTTYPE=image/webp:https://kcparent.com/wp-content/uploads/2025/07/IMG_1069.jpg.webp
END:VEVENT
BEGIN:VEVENT
DTSTART;TZID=America/Denver:20260604T101500
DTEND;TZID=America/Denver:20260604T111500
DTSTAMP:20260422T231822
CREATED:20250730T212730Z
LAST-MODIFIED:20250803T234215Z
UID:10006663-1780568100-1780571700@kcparent.com
SUMMARY:Babies and Books
DESCRIPTION:Come listen to a story with your little one\, connect with other parents and guardians\, and learn how you can make books accessible to your bitty babies. Check-in begins at 10:00 and the program begins at 10:15 a.m. \nThis program takes place in the Goodnight Moon Room and participants will be asked to leave the following items outside the room: shoes\, food\, beverages of any kind\, non-medical strollers\, and carseats. \nRecommended for ages 0-3. \nPlease note: \n– Babies and Books tickets are $5 per child. Adults do not need tickets to accompany their child(ren). \n– Each ticket includes a $5 book voucher to use at Lucky Rabbit Books. \n– Maximum 2 tickets per order. There must be one adult present for every 2 children. \n– All adults must stay with their child(ren) for the duration of the programming and may not leave the site. \n– All purchases are final. Museum admission not included.
URL:https://kcparent.com/event/babies-and-books-9/2026-06-04/
LOCATION:Rabbit hOle\, 919 E. 14th Ave.\, North Kansas City\, Missouri\, United States
CATEGORIES:Indoor
ATTACH;FMTTYPE=image/avif:https://kcparent.com/wp-content/uploads/2025/07/BooksBabies.png.avif
END:VEVENT
BEGIN:VEVENT
DTSTART;TZID=America/Denver:20260604T140000
DTEND;TZID=America/Denver:20260604T150000
DTSTAMP:20260422T231822
CREATED:20250825T140200Z
LAST-MODIFIED:20250827T145302Z
UID:10013812-1780581600-1780585200@kcparent.com
SUMMARY:WonderBaby & Me
DESCRIPTION:Weekly class for infants 3–18 months and their grown-ups\, too! Register at Wonderscope.org
URL:https://kcparent.com/event/wonderbaby-me-2/2026-06-04/
LOCATION:The Regnier Family Wonderscope Museum of Kansas City\, 433 East Red Bridge Road\, Kansas City\, Missouri\, United States
ATTACH;FMTTYPE=image/webp:https://kcparent.com/wp-content/uploads/2025/08/Wonder-Baby-Program-Page.webp
END:VEVENT
END:VCALENDAR