BEGIN:VCALENDAR
VERSION:2.0
PRODID:-//KC Parent - ECPv6.15.18//NONSGML v1.0//EN
CALSCALE:GREGORIAN
METHOD:PUBLISH
X-ORIGINAL-URL:https://kcparent.com
X-WR-CALDESC:Events for KC Parent
REFRESH-INTERVAL;VALUE=DURATION:PT1H
X-Robots-Tag:noindex
X-PUBLISHED-TTL:PT1H
BEGIN:VTIMEZONE
TZID:America/Denver
BEGIN:DAYLIGHT
TZOFFSETFROM:-0700
TZOFFSETTO:-0600
TZNAME:MDT
DTSTART:20250309T090000
END:DAYLIGHT
BEGIN:STANDARD
TZOFFSETFROM:-0600
TZOFFSETTO:-0700
TZNAME:MST
DTSTART:20251102T080000
END:STANDARD
BEGIN:DAYLIGHT
TZOFFSETFROM:-0700
TZOFFSETTO:-0600
TZNAME:MDT
DTSTART:20260308T090000
END:DAYLIGHT
BEGIN:STANDARD
TZOFFSETFROM:-0600
TZOFFSETTO:-0700
TZNAME:MST
DTSTART:20261101T080000
END:STANDARD
BEGIN:DAYLIGHT
TZOFFSETFROM:-0700
TZOFFSETTO:-0600
TZNAME:MDT
DTSTART:20270314T090000
END:DAYLIGHT
BEGIN:STANDARD
TZOFFSETFROM:-0600
TZOFFSETTO:-0700
TZNAME:MST
DTSTART:20271107T080000
END:STANDARD
END:VTIMEZONE
BEGIN:VEVENT
DTSTART;TZID=America/Denver:20260717T110000
DTEND;TZID=America/Denver:20260717T120000
DTSTAMP:20260423T033857
CREATED:20250824T172619Z
LAST-MODIFIED:20250922T184249Z
UID:10015022-1784286000-1784289600@kcparent.com
SUMMARY:Indoor Playground
DESCRIPTION:Mill Creek Activity Center. Toddlers can explore on soft climbing structures\, slides and sensory activities. Ages walking to 5 yrs. $6 per child.  \nAvailable Mondays and Fridays from 11 AM-12 PM. \nRegister at JCPRD.com
URL:https://kcparent.com/event/indoor-playground/2026-07-17/
LOCATION:Mill Creek Activity Center\, 6518 Vista Drive \, Kansas\, 66217\, United States
ATTACH;FMTTYPE=image/jpeg:https://kcparent.com/wp-content/uploads/2025/08/indoorplayground-.jpg
END:VEVENT
BEGIN:VEVENT
DTSTART;TZID=America/Denver:20260717T120000
DTEND;TZID=America/Denver:20260717T130000
DTSTAMP:20260423T033857
CREATED:20250824T170834Z
LAST-MODIFIED:20250905T142302Z
UID:10012264-1784289600-1784293200@kcparent.com
SUMMARY:Open Gym
DESCRIPTION:Enjoy the open gym with your toddler. $5. Register at KC360Gym.com \n 
URL:https://kcparent.com/event/open-gym/2026-07-17/
LOCATION:360 Gymnastics\, 431 N. Lindenwood Dr.\, Olathe\, Kansas\, United States
ATTACH;FMTTYPE=image/jpeg:https://kcparent.com/wp-content/uploads/2025/08/opengym360.jpg
END:VEVENT
BEGIN:VEVENT
DTSTART;TZID=America/Denver:20260717T120000
DTEND;TZID=America/Denver:20260717T130000
DTSTAMP:20260423T033857
CREATED:20260208T024527Z
LAST-MODIFIED:20260209T161201Z
UID:10021922-1784289600-1784293200@kcparent.com
SUMMARY:King Arthur and the Magic Sword
DESCRIPTION:Theatre for Young America is thrilled to present King Arthur and the Magic Sword. Performed live on Union Station’s City Stage\, this classic tale\, is set in 5th Century Britain\, when the Roman Empire is in disarray and Britain warlords continually battle. Raised by Merlin the Magician\, Arthur is the only one who can wield the powerful sword\, Excalibur\, to lead his nation to victory
URL:https://kcparent.com/event/king-arthur-and-the-magic-sword-2/
LOCATION:Union Station\, 30 West Pershing Road\, Kansas City\, Missouri\, 64108\, United States
CATEGORIES:Live Performance
ATTACH;FMTTYPE=image/jpeg:https://kcparent.com/wp-content/uploads/2026/02/IMG_06204.jpeg
END:VEVENT
BEGIN:VEVENT
DTSTART;VALUE=DATE:20260718
DTEND;VALUE=DATE:20260719
DTSTAMP:20260423T033857
CREATED:20260224T172824Z
LAST-MODIFIED:20260224T172855Z
UID:10020249-1784332800-1784419199@kcparent.com
SUMMARY:Jurassic Journey
DESCRIPTION:Experience a brand-new prehistoric passage featuring animatronic dinosaurs and fossils. Learn how hands-on science reveals dinosaurs that once ruled the ancient world. \n\nNew limited-time exhibit filling nearly 5\,000 saft in Science City\n9 Animatronic Dinosaurs\nInteract with Paleontologists\, touch dinosaur bones\, compare skulls & More!\n\nFREE WITH SCIENCE CITY ADMISSION
URL:https://kcparent.com/event/jurassic-journey-2/2026-07-18/
LOCATION:Science City at Union Station\, 30 W. Pershing Rd.\, Kansas City\, Missouri\, United States
ATTACH;FMTTYPE=image/png:https://kcparent.com/wp-content/uploads/2026/02/Screenshot-2026-02-06-at-3.20.30-PM.png
END:VEVENT
BEGIN:VEVENT
DTSTART;VALUE=DATE:20260718
DTEND;VALUE=DATE:20260720
DTSTAMP:20260423T033857
CREATED:20260421T131358Z
LAST-MODIFIED:20260421T131358Z
UID:10025504-1784332800-1784505599@kcparent.com
SUMMARY:Festival of Music – Choral
DESCRIPTION:2026 Registration Is Now Open \nWorlds of Fun Festival of Music is returning in 2026! Don’t miss this chance to be part of the fun and excitement of performing at Worlds of Fun in 2026. \nDirectors are encouraged to create an account as soon as possible. Sessions fill up quickly and are only available on a first-come\, first-served basis. \nInstrumental\nMay 8\, 9\, 10\, 15\, 16 & 17 \nChoral\nMay 2 & 3
URL:https://kcparent.com/event/festival-of-music-choral/2026-07-18/
LOCATION:Worlds of Fun\, 4545 Worlds of Fun Ave\, Kansas City\, Missouri\, United States
ATTACH;FMTTYPE=image/webp:https://kcparent.com/wp-content/uploads/2026/04/festival-music.webp
END:VEVENT
BEGIN:VEVENT
DTSTART;TZID=America/Denver:20260718T080000
DTEND;TZID=America/Denver:20260718T080000
DTSTAMP:20260423T033857
CREATED:20250730T212539Z
LAST-MODIFIED:20260310T145625Z
UID:10005938-1784361600-1784361600@kcparent.com
SUMMARY:Jumperoo (toddler time)
DESCRIPTION:Thursday\, 9am-10am & Sunday\, 8am-10am \nJumperoo is a special time when the park opens before normal operating hours to welcome the 5 & under jumpers and their parent/guardian to jump\, bounce\, & crawl around safely. For $10.99 + socks ($3.49/pair – required) there is access to our Deluxe attractions. Usually $22.99 + socks! This allows access to all trampolines\, our tubes & slides playground\, foam pit\, warrior course (ball pit)….& more! \nConfirm Urban Air Lenexa Special Event Schedule Here
URL:https://kcparent.com/event/jumperoo-toddler-time-29/2026-07-18/
LOCATION:Urban Air Adventure Park Lenexa\, 8540 Maurer Rd.\, Lenexa\, KS\, 66219\, United States
CATEGORIES:Indoor
ATTACH;FMTTYPE=image/png:https://kcparent.com/wp-content/uploads/2025/07/Screenshot-2025-08-03-at-6.30.28-PM.png
END:VEVENT
BEGIN:VEVENT
DTSTART;TZID=America/Denver:20260718T080000
DTEND;TZID=America/Denver:20260718T120000
DTSTAMP:20260423T033857
CREATED:20260316T164801Z
LAST-MODIFIED:20260318T142152Z
UID:10024448-1784361600-1784376000@kcparent.com
SUMMARY:Lenexa Farmers Market - Saturdays
DESCRIPTION:Fresh fruits and vegetables\, meat\, eggs\, dairy\, baked goods\, market staples\, plants and flowers\, body care products\, ready-to-eat foods\, beverages and more. The Lenexa Farmers Market sells only products that are locally grown\, raised or made within 250 miles or throughout Kansas. Each Saturday and Tuesday during the outdoor season\, you can expect a great selection from dozens of vendors. While shopping\, enjoy the ambience with live music\, yard games and featured artists.
URL:https://kcparent.com/event/lenexa-farmers-market-saturdays/2026-07-18/
LOCATION:The Commons: Lenexa Civic Campus\, 17101 W. 87th St. Pkwy.\, City of Lenexa\, Kansas\, 66219\, United States
CATEGORIES:Outdoor
ATTACH;FMTTYPE=image/jpeg:https://kcparent.com/wp-content/uploads/2026/03/Lenexa-Farmers-Market-700x500px.jpg
END:VEVENT
BEGIN:VEVENT
DTSTART;TZID=America/Denver:20260718T100000
DTEND;TZID=America/Denver:20260718T103000
DTSTAMP:20260423T033857
CREATED:20260304T201912Z
LAST-MODIFIED:20260304T201912Z
UID:10023486-1784368800-1784370600@kcparent.com
SUMMARY:Family Storytime
DESCRIPTION:The whole family will enjoy this flexible Storytime. Hearing stories is a great way to spend time with your kids and help them foster a love of reading. Stories\, songs\, fingerplays and movement activities foster pre-reading skills. Fun for the whole family. \nSpace is limited. Pick up a free ticket at the Questions Desk when you arrive.
URL:https://kcparent.com/event/family-storytime/2026-07-18/
LOCATION:Johnson County Library – Central Resource Branch\, 9875 W 87th St\, Overland Park\, Kansas\, 66212\, United States
ATTACH;FMTTYPE=image/png:https://kcparent.com/wp-content/uploads/2026/03/Event-Family-Storytime.png
END:VEVENT
BEGIN:VEVENT
DTSTART;TZID=America/Denver:20260718T130000
DTEND;TZID=America/Denver:20260718T160000
DTSTAMP:20260423T033857
CREATED:20260311T032407Z
LAST-MODIFIED:20260311T032634Z
UID:10023926-1784379600-1784390400@kcparent.com
SUMMARY:Free Weekend Fun: Nouveau Notes 
DESCRIPTION:Free | Drop-in event (no registration required)   \nFun Spot: Lobby Level\, Bloch Building | 1–4 pm \nDesign your own postcard inspired by the work of Alfonse Mucha. \nGallery Activity: Gallery 128 | 1–4 pm  \nExplore how artists combined colors\, shapes and lines to create stunning creations with the help of Museum Guide volunteers.
URL:https://kcparent.com/event/free-weekend-fun-at-the-nelson-2/2026-07-18/
LOCATION:Nelson-Atkins Museum of Art\, 4525 Oak St.\, Kansas City\, Missouri\, United States
CATEGORIES:FREE,Indoor
ATTACH;FMTTYPE=image/jpeg:https://kcparent.com/wp-content/uploads/2025/07/Time-for-Art.jpg
END:VEVENT
BEGIN:VEVENT
DTSTART;TZID=America/Denver:20260718T140000
DTEND;TZID=America/Denver:20260718T150000
DTSTAMP:20260423T033857
CREATED:20260208T025248Z
LAST-MODIFIED:20260209T161053Z
UID:10021921-1784383200-1784386800@kcparent.com
SUMMARY:King Arthur and the Magic Sword
DESCRIPTION:Theatre for Young America is thrilled to present King Arthur and the Magic Sword. Performed live on Union Station’s City Stage\, this classic tale\, is set in 5th Century Britain\, when the Roman Empire is in disarray and Britain warlords continually battle. Raised by Merlin the Magician\, Arthur is the only one who can wield the powerful sword\, Excalibur\, to lead his nation to victory
URL:https://kcparent.com/event/king-arthur-and-the-magic-sword/
LOCATION:Union Station\, 30 West Pershing Road\, Kansas City\, Missouri\, 64108\, United States
CATEGORIES:Live Performance
ATTACH;FMTTYPE=image/jpeg:https://kcparent.com/wp-content/uploads/2026/02/IMG_06205.jpeg
END:VEVENT
BEGIN:VEVENT
DTSTART;VALUE=DATE:20260719
DTEND;VALUE=DATE:20260720
DTSTAMP:20260423T033857
CREATED:20260224T172824Z
LAST-MODIFIED:20260224T172855Z
UID:10020250-1784419200-1784505599@kcparent.com
SUMMARY:Jurassic Journey
DESCRIPTION:Experience a brand-new prehistoric passage featuring animatronic dinosaurs and fossils. Learn how hands-on science reveals dinosaurs that once ruled the ancient world. \n\nNew limited-time exhibit filling nearly 5\,000 saft in Science City\n9 Animatronic Dinosaurs\nInteract with Paleontologists\, touch dinosaur bones\, compare skulls & More!\n\nFREE WITH SCIENCE CITY ADMISSION
URL:https://kcparent.com/event/jurassic-journey-2/2026-07-19/
LOCATION:Science City at Union Station\, 30 W. Pershing Rd.\, Kansas City\, Missouri\, United States
ATTACH;FMTTYPE=image/png:https://kcparent.com/wp-content/uploads/2026/02/Screenshot-2026-02-06-at-3.20.30-PM.png
END:VEVENT
BEGIN:VEVENT
DTSTART;VALUE=DATE:20260719
DTEND;VALUE=DATE:20260721
DTSTAMP:20260423T033857
CREATED:20260421T131358Z
LAST-MODIFIED:20260421T131358Z
UID:10025505-1784419200-1784591999@kcparent.com
SUMMARY:Festival of Music – Choral
DESCRIPTION:2026 Registration Is Now Open \nWorlds of Fun Festival of Music is returning in 2026! Don’t miss this chance to be part of the fun and excitement of performing at Worlds of Fun in 2026. \nDirectors are encouraged to create an account as soon as possible. Sessions fill up quickly and are only available on a first-come\, first-served basis. \nInstrumental\nMay 8\, 9\, 10\, 15\, 16 & 17 \nChoral\nMay 2 & 3
URL:https://kcparent.com/event/festival-of-music-choral/2026-07-19/
LOCATION:Worlds of Fun\, 4545 Worlds of Fun Ave\, Kansas City\, Missouri\, United States
ATTACH;FMTTYPE=image/webp:https://kcparent.com/wp-content/uploads/2026/04/festival-music.webp
END:VEVENT
BEGIN:VEVENT
DTSTART;TZID=America/Denver:20260719T130000
DTEND;TZID=America/Denver:20260719T140000
DTSTAMP:20260423T033857
CREATED:20260331T220702Z
LAST-MODIFIED:20260417T183158Z
UID:10025212-1784466000-1784469600@kcparent.com
SUMMARY:Slime Time Sundays
DESCRIPTION:Every Sunday at 1 PM\, their studio transforms into a colorful\, glittery\, sensory-filled slime paradise! Bring the kids (or your inner kid!) for an afternoon of creativity\, unique color combos\, sparkles galore\, and now… scents! From fruity to fizzy to downright magical\, you get to customize it all. It’s messy\, fun\, and totally unforgettable — see you Sunday for Slime Time!
URL:https://kcparent.com/event/slime-time-sundays/2026-07-19/
LOCATION:Createarium Art Studio\, 110 N Bridge St\, Smithville\, MO\, 64089
CATEGORIES:Art
ATTACH;FMTTYPE=image/png:https://kcparent.com/wp-content/uploads/2026/03/Screenshot-2026-04-17-at-1.31.02-PM.png
END:VEVENT
BEGIN:VEVENT
DTSTART;TZID=America/Denver:20260719T130000
DTEND;TZID=America/Denver:20260719T160000
DTSTAMP:20260423T033857
CREATED:20260311T032407Z
LAST-MODIFIED:20260311T032634Z
UID:10023927-1784466000-1784476800@kcparent.com
SUMMARY:Free Weekend Fun: Nouveau Notes 
DESCRIPTION:Free | Drop-in event (no registration required)   \nFun Spot: Lobby Level\, Bloch Building | 1–4 pm \nDesign your own postcard inspired by the work of Alfonse Mucha. \nGallery Activity: Gallery 128 | 1–4 pm  \nExplore how artists combined colors\, shapes and lines to create stunning creations with the help of Museum Guide volunteers.
URL:https://kcparent.com/event/free-weekend-fun-at-the-nelson-2/2026-07-19/
LOCATION:Nelson-Atkins Museum of Art\, 4525 Oak St.\, Kansas City\, Missouri\, United States
CATEGORIES:FREE,Indoor
ATTACH;FMTTYPE=image/jpeg:https://kcparent.com/wp-content/uploads/2025/07/Time-for-Art.jpg
END:VEVENT
BEGIN:VEVENT
DTSTART;VALUE=DATE:20260720
DTEND;VALUE=DATE:20260721
DTSTAMP:20260423T033857
CREATED:20260224T172824Z
LAST-MODIFIED:20260224T172855Z
UID:10020251-1784505600-1784591999@kcparent.com
SUMMARY:Jurassic Journey
DESCRIPTION:Experience a brand-new prehistoric passage featuring animatronic dinosaurs and fossils. Learn how hands-on science reveals dinosaurs that once ruled the ancient world. \n\nNew limited-time exhibit filling nearly 5\,000 saft in Science City\n9 Animatronic Dinosaurs\nInteract with Paleontologists\, touch dinosaur bones\, compare skulls & More!\n\nFREE WITH SCIENCE CITY ADMISSION
URL:https://kcparent.com/event/jurassic-journey-2/2026-07-20/
LOCATION:Science City at Union Station\, 30 W. Pershing Rd.\, Kansas City\, Missouri\, United States
ATTACH;FMTTYPE=image/png:https://kcparent.com/wp-content/uploads/2026/02/Screenshot-2026-02-06-at-3.20.30-PM.png
END:VEVENT
BEGIN:VEVENT
DTSTART;TZID=America/Denver:20260720T090000
DTEND;TZID=America/Denver:20260720T110000
DTSTAMP:20260423T033857
CREATED:20250824T172417Z
LAST-MODIFIED:20250827T150200Z
UID:10012863-1784538000-1784545200@kcparent.com
SUMMARY:Gym for Me
DESCRIPTION:Lenexa Rec Center; Old Town Activity Center \nA fun open gym where young children can play with balls\, tunnels and other age-appropriate equipment. Price is $3 per person (including guardians).Free for Lenexa Rec Center members when hosted at the Rec Center. Lenexa.com
URL:https://kcparent.com/event/gym-for-me-67/2026-07-20/
LOCATION:Lenexa Rec Center\, 17201 W. 87th St. Pkwy.\, Lenexa\, Kansas\, 66219\, United States
ATTACH;FMTTYPE=image/jpeg:https://kcparent.com/wp-content/uploads/2025/08/gymforme.jpg
END:VEVENT
BEGIN:VEVENT
DTSTART;TZID=America/Denver:20260720T100000
DTEND;TZID=America/Denver:20260720T140000
DTSTAMP:20260423T033857
CREATED:20250730T212345Z
LAST-MODIFIED:20260219T215457Z
UID:10022820-1784541600-1784556000@kcparent.com
SUMMARY:Toddler Time at Ceramic Cafe
DESCRIPTION:On Thursdays from 10-2\, Toddlers (5 and under) get to paint one of our selected items for just $15.
URL:https://kcparent.com/event/thursday-toddler-time-at-ceramic-cafe-23/2026-07-20/
LOCATION:Ceramic Café\, 9510 Nall Ave\, Overland Park\, Kansas\, United States
CATEGORIES:Class or Workshop
ATTACH;FMTTYPE=image/jpeg:https://kcparent.com/wp-content/uploads/2025/07/toddlertimeceramiccafe.png.jpeg
END:VEVENT
BEGIN:VEVENT
DTSTART;TZID=America/Denver:20260720T110000
DTEND;TZID=America/Denver:20260720T120000
DTSTAMP:20260423T033857
CREATED:20250824T172619Z
LAST-MODIFIED:20250922T184249Z
UID:10015023-1784545200-1784548800@kcparent.com
SUMMARY:Indoor Playground
DESCRIPTION:Mill Creek Activity Center. Toddlers can explore on soft climbing structures\, slides and sensory activities. Ages walking to 5 yrs. $6 per child.  \nAvailable Mondays and Fridays from 11 AM-12 PM. \nRegister at JCPRD.com
URL:https://kcparent.com/event/indoor-playground/2026-07-20/
LOCATION:Mill Creek Activity Center\, 6518 Vista Drive \, Kansas\, 66217\, United States
ATTACH;FMTTYPE=image/jpeg:https://kcparent.com/wp-content/uploads/2025/08/indoorplayground-.jpg
END:VEVENT
BEGIN:VEVENT
DTSTART;TZID=America/Denver:20260720T120000
DTEND;TZID=America/Denver:20260720T130000
DTSTAMP:20260423T033857
CREATED:20250824T170834Z
LAST-MODIFIED:20250905T142302Z
UID:10012265-1784548800-1784552400@kcparent.com
SUMMARY:Open Gym
DESCRIPTION:Enjoy the open gym with your toddler. $5. Register at KC360Gym.com \n 
URL:https://kcparent.com/event/open-gym/2026-07-20/
LOCATION:360 Gymnastics\, 431 N. Lindenwood Dr.\, Olathe\, Kansas\, United States
ATTACH;FMTTYPE=image/jpeg:https://kcparent.com/wp-content/uploads/2025/08/opengym360.jpg
END:VEVENT
BEGIN:VEVENT
DTSTART;VALUE=DATE:20260721
DTEND;VALUE=DATE:20260722
DTSTAMP:20260423T033857
CREATED:20260224T172824Z
LAST-MODIFIED:20260224T172855Z
UID:10020252-1784592000-1784678399@kcparent.com
SUMMARY:Jurassic Journey
DESCRIPTION:Experience a brand-new prehistoric passage featuring animatronic dinosaurs and fossils. Learn how hands-on science reveals dinosaurs that once ruled the ancient world. \n\nNew limited-time exhibit filling nearly 5\,000 saft in Science City\n9 Animatronic Dinosaurs\nInteract with Paleontologists\, touch dinosaur bones\, compare skulls & More!\n\nFREE WITH SCIENCE CITY ADMISSION
URL:https://kcparent.com/event/jurassic-journey-2/2026-07-21/
LOCATION:Science City at Union Station\, 30 W. Pershing Rd.\, Kansas City\, Missouri\, United States
ATTACH;FMTTYPE=image/png:https://kcparent.com/wp-content/uploads/2026/02/Screenshot-2026-02-06-at-3.20.30-PM.png
END:VEVENT
BEGIN:VEVENT
DTSTART;TZID=America/Denver:20260721T090000
DTEND;TZID=America/Denver:20260721T110000
DTSTAMP:20260423T033857
CREATED:20250825T135504Z
LAST-MODIFIED:20250826T014144Z
UID:10013582-1784624400-1784631600@kcparent.com
SUMMARY:Tot Time Swim
DESCRIPTION:Toddlers will enjoy the shallow pool and play equipment. Non-members are welcome to drop-in for pool use with the purchase of a daily pass of $9. Free for PCC members. Merriam.org
URL:https://kcparent.com/event/tot-time-swim/2026-07-21/
LOCATION:Powell Community Center\, 6200 Martway St\, Kansas\, 66202\, United States
ATTACH;FMTTYPE=image/png:https://kcparent.com/wp-content/uploads/2025/08/Screenshot-2025-08-25-at-8.40.14-PM.png
END:VEVENT
BEGIN:VEVENT
DTSTART;TZID=America/Denver:20260721T090000
DTEND;TZID=America/Denver:20260721T130000
DTSTAMP:20260423T033857
CREATED:20260316T165713Z
LAST-MODIFIED:20260318T142200Z
UID:10024699-1784624400-1784638800@kcparent.com
SUMMARY:Lenexa Farmers Market - Tuesdays
DESCRIPTION:Fresh fruits and vegetables\, meat\, eggs\, dairy\, baked goods\, market staples\, plants and flowers\, body care products\, ready-to-eat foods\, beverages and more. The Lenexa Farmers Market sells only products that are locally grown\, raised or made within 250 miles or throughout Kansas. Each Saturday and Tuesday during the outdoor season\, you can expect a great selection from dozens of vendors. While shopping\, enjoy the ambience with live music\, yard games and featured artists.
URL:https://kcparent.com/event/lenexa-farmers-market-tuesdays-13/2026-07-21/
LOCATION:The Commons: Lenexa Civic Campus\, 17101 W. 87th St. Pkwy.\, City of Lenexa\, Kansas\, 66219\, United States
CATEGORIES:Outdoor
ATTACH;FMTTYPE=image/jpeg:https://kcparent.com/wp-content/uploads/2026/03/Lenexa-Farmers-Market-700x500px1.jpg
END:VEVENT
BEGIN:VEVENT
DTSTART;TZID=America/Denver:20260721T093000
DTEND;TZID=America/Denver:20260721T113000
DTSTAMP:20260423T033857
CREATED:20250824T172852Z
LAST-MODIFIED:20250826T224748Z
UID:10013099-1784626200-1784633400@kcparent.com
SUMMARY:Preschool Indoor Playground
DESCRIPTION: Drive\, pull or push your favorite Little Tykes vehicles. Parents must supervise their children. $2 per child or free for members. Merriam.org \n 
URL:https://kcparent.com/event/preschool-indoor-playground-34/2026-07-21/
LOCATION:Merriam Community Center\, 6040 Slater St.\, Merriam\, Kansas\, 66202\, United States
ATTACH;FMTTYPE=image/png:https://kcparent.com/wp-content/uploads/2025/08/Screenshot-2025-08-26-at-5.45.33-PM.png
END:VEVENT
BEGIN:VEVENT
DTSTART;TZID=America/Denver:20260721T100000
DTEND;TZID=America/Denver:20260721T170000
DTSTAMP:20260423T033857
CREATED:20250730T212723Z
LAST-MODIFIED:20250805T195159Z
UID:10011149-1784628000-1784653200@kcparent.com
SUMMARY:Backyard Specialists Pay For Play
DESCRIPTION:Backyard Specialists is the premier outdoor play spot in Olathe\, and surrounding areas when you are looking for great outdoor fun! Plan a play date for your children and their friends at our amazing outdoor showroom. \nPlay-for-Play Includes:\n  \n\n\n\nHUGE Outdoor display area\, all fenced in.\n\n\n\n  \n\n\n\nPlay on our Swing Sets\, and Basketball Goals (don’t forget your basketballs) Sorry\, but the trampolines are not available for play\n\n\n\n  \n\n\n\nSnack area to enjoy a treat (you may bring your own food and drinks)\n\n\n\n  \n\n\n\n$2 Cash or $4 Credit per kid (ages 18 months & up)\n\n\n\n  \n\n\n\nAvailable Tuesday and Thursday from 10 – 5\n\n\n\n  \n  \n*Closed all major holidays.
URL:https://kcparent.com/event/backyard-specialists-pay-for-play-65/2026-07-21/
LOCATION:Backyard Specialists of KC\, 2227 E. Kansas City Road\, Olathe\, Kansas\, 66061\, United States
CATEGORIES:Indoor
ATTACH;FMTTYPE=image/webp:https://kcparent.com/wp-content/uploads/2025/07/IMG_1069.jpg.webp
END:VEVENT
BEGIN:VEVENT
DTSTART;TZID=America/Denver:20260721T140000
DTEND;TZID=America/Denver:20260721T180000
DTSTAMP:20260423T033857
CREATED:20251221T171503Z
LAST-MODIFIED:20251222T171836Z
UID:10017078-1784642400-1784656800@kcparent.com
SUMMARY:I AM Frozen Dessert Cafe Tuesday Happy Hour
DESCRIPTION:Buy any 2 Drinks at regular menu price and your 3rd is FREE every Tuesday 2PM-6PM @ I AM Frozen Dessert Cafe.
URL:https://kcparent.com/event/i-am-frozen-dessert-cafe-tuesday-happy-hour/2026-07-21/
LOCATION:Missouri
CATEGORIES:FREE
ATTACH;FMTTYPE=image/jpeg:https://kcparent.com/wp-content/uploads/2025/12/Screenshot_20251221_104733_Instagram.jpg
END:VEVENT
BEGIN:VEVENT
DTSTART;VALUE=DATE:20260722
DTEND;VALUE=DATE:20260723
DTSTAMP:20260423T033857
CREATED:20260224T172824Z
LAST-MODIFIED:20260224T172855Z
UID:10020253-1784678400-1784764799@kcparent.com
SUMMARY:Jurassic Journey
DESCRIPTION:Experience a brand-new prehistoric passage featuring animatronic dinosaurs and fossils. Learn how hands-on science reveals dinosaurs that once ruled the ancient world. \n\nNew limited-time exhibit filling nearly 5\,000 saft in Science City\n9 Animatronic Dinosaurs\nInteract with Paleontologists\, touch dinosaur bones\, compare skulls & More!\n\nFREE WITH SCIENCE CITY ADMISSION
URL:https://kcparent.com/event/jurassic-journey-2/2026-07-22/
LOCATION:Science City at Union Station\, 30 W. Pershing Rd.\, Kansas City\, Missouri\, United States
ATTACH;FMTTYPE=image/png:https://kcparent.com/wp-content/uploads/2026/02/Screenshot-2026-02-06-at-3.20.30-PM.png
END:VEVENT
BEGIN:VEVENT
DTSTART;TZID=America/Denver:20260722T090000
DTEND;TZID=America/Denver:20260722T110000
DTSTAMP:20260423T033857
CREATED:20250824T172417Z
LAST-MODIFIED:20250827T150200Z
UID:10012864-1784710800-1784718000@kcparent.com
SUMMARY:Gym for Me
DESCRIPTION:Lenexa Rec Center; Old Town Activity Center \nA fun open gym where young children can play with balls\, tunnels and other age-appropriate equipment. Price is $3 per person (including guardians).Free for Lenexa Rec Center members when hosted at the Rec Center. Lenexa.com
URL:https://kcparent.com/event/gym-for-me-67/2026-07-22/
LOCATION:Lenexa Rec Center\, 17201 W. 87th St. Pkwy.\, Lenexa\, Kansas\, 66219\, United States
ATTACH;FMTTYPE=image/jpeg:https://kcparent.com/wp-content/uploads/2025/08/gymforme.jpg
END:VEVENT
BEGIN:VEVENT
DTSTART;TZID=America/Denver:20260722T093000
DTEND;TZID=America/Denver:20260722T113000
DTSTAMP:20260423T033857
CREATED:20250825T135302Z
LAST-MODIFIED:20250827T142702Z
UID:10013464-1784712600-1784719800@kcparent.com
SUMMARY:Preschool Playground
DESCRIPTION:Interactive playtime with slides and tunnels for kids ages 9 months–6 years. $5. Register at OlatheKS.org \nEvery Wednesday\, from Oct.-March when school is in session\, space is provided for gross motor activity such as tumbling\, running\, jumping as well as sensory activities. Parent supervision required. \n 
URL:https://kcparent.com/event/preschool-playground/2026-07-22/
LOCATION:Olathe Community Center\,  1205 E Kansas City Rd\, Kansas\, United States
ATTACH;FMTTYPE=image/jpeg:https://kcparent.com/wp-content/uploads/2025/08/preschool-playground-.jpeg
END:VEVENT
BEGIN:VEVENT
DTSTART;TZID=America/Denver:20260722T100000
DTEND;TZID=America/Denver:20260722T120000
DTSTAMP:20260423T033857
CREATED:20250825T134516Z
LAST-MODIFIED:20250826T213311Z
UID:10013323-1784714400-1784721600@kcparent.com
SUMMARY:Open Play
DESCRIPTION:Join for a special storytime\, themed craft time\, and open play in the gym and playplace. KawPrairie.org
URL:https://kcparent.com/event/open-play/2026-07-22/
LOCATION:Kaw Prairie Community Church\, 9421 Meadow View Dr.\, Lenexa\, Kansas\, United States
ATTACH;FMTTYPE=image/webp:https://kcparent.com/wp-content/uploads/2025/08/storytime_craft.png.webp
END:VEVENT
BEGIN:VEVENT
DTSTART;TZID=America/Denver:20260722T101500
DTEND;TZID=America/Denver:20260722T113000
DTSTAMP:20260423T033857
CREATED:20250825T135036Z
LAST-MODIFIED:20250827T145622Z
UID:10013398-1784715300-1784719800@kcparent.com
SUMMARY:Babies and Books
DESCRIPTION:Come listen to a story with your little one\, connect with other parents and guardians\, and learn how you can make books accessible to your bitty babies. $5 per child. TheRabbithOle.org
URL:https://kcparent.com/event/babies-and-books-2/2026-07-22/
LOCATION:Rabbit hOle\, 919 E. 14th Ave.\, North Kansas City\, Missouri\, United States
ATTACH;FMTTYPE=image/webp:https://kcparent.com/wp-content/uploads/2025/08/babies-and-books.webp
END:VEVENT
END:VCALENDAR