BEGIN:VCALENDAR
VERSION:2.0
PRODID:-//KC Parent - ECPv6.15.18//NONSGML v1.0//EN
CALSCALE:GREGORIAN
METHOD:PUBLISH
X-WR-CALNAME:KC Parent
X-ORIGINAL-URL:https://kcparent.com
X-WR-CALDESC:Events for KC Parent
REFRESH-INTERVAL;VALUE=DURATION:PT1H
X-Robots-Tag:noindex
X-PUBLISHED-TTL:PT1H
BEGIN:VTIMEZONE
TZID:America/Denver
BEGIN:DAYLIGHT
TZOFFSETFROM:-0700
TZOFFSETTO:-0600
TZNAME:MDT
DTSTART:20240310T090000
END:DAYLIGHT
BEGIN:STANDARD
TZOFFSETFROM:-0600
TZOFFSETTO:-0700
TZNAME:MST
DTSTART:20241103T080000
END:STANDARD
BEGIN:DAYLIGHT
TZOFFSETFROM:-0700
TZOFFSETTO:-0600
TZNAME:MDT
DTSTART:20250309T090000
END:DAYLIGHT
BEGIN:STANDARD
TZOFFSETFROM:-0600
TZOFFSETTO:-0700
TZNAME:MST
DTSTART:20251102T080000
END:STANDARD
BEGIN:DAYLIGHT
TZOFFSETFROM:-0700
TZOFFSETTO:-0600
TZNAME:MDT
DTSTART:20260308T090000
END:DAYLIGHT
BEGIN:STANDARD
TZOFFSETFROM:-0600
TZOFFSETTO:-0700
TZNAME:MST
DTSTART:20261101T080000
END:STANDARD
END:VTIMEZONE
BEGIN:VEVENT
DTSTART;TZID=America/Denver:20250401T090000
DTEND;TZID=America/Denver:20250401T170000
DTSTAMP:20260423T025616
CREATED:20250314T204053Z
LAST-MODIFIED:20250621T165145Z
UID:10001257-1743498000-1743526800@kcparent.com
SUMMARY:Opening Day for Deanna Rose Children's Farmstead
DESCRIPTION:Deanna Rose Children’s Farmstead opens for the 2025 season on Tuesday\, April 1 at 9 a.m. \nJoin us for a season filled with farmyard fun\, live entertainment\, hands-on activities and plenty of adorable animals. Families can explore playgrounds\, ride pedal tractors\, go fishing\, take a wagon ride\, try gem mining and meet more than 250 animals\, including a new batch of baby goats ready for bottle feeding. \nPlus\, this year brings exciting updates\, including a brand-new slide structure and monthly sensory-friendly early admission days May through August. \nOpening Day activities include: \n– 10 a.m.-noon – Face painters at Gayle’s Outpost \n– 11 a.m.-2 p.m. – SevenDays Kindness handing out kindness stickers\, cards and bookmarks in the entry building \n– 1 p.m. – Mr. Stinky Feet performs at Gayle’s Outpost \n– Master Gardeners will be handing out zinnia seeds in the entry building (while supplies last) \nCome celebrate the start of another unforgettable season at the Farmstead. We can’t wait to see you!
URL:https://kcparent.com/event/opening-day-for-deanna-rose-childrens-farmstead/
LOCATION:Powell Gardens\, 1609 NW US Hwy. 50\, Kingsville\, Missouri\, 64061\, United States
CATEGORIES:Accessible,Live Performance,Outdoor
END:VEVENT
BEGIN:VEVENT
DTSTART;TZID=America/Denver:20250426T083000
DTEND;TZID=America/Denver:20250426T103000
DTSTAMP:20260423T025616
CREATED:20250304T190751Z
LAST-MODIFIED:20250621T170035Z
UID:10001984-1745656200-1745663400@kcparent.com
SUMMARY:Youth Fishing Derby (hosted by the Leawood Police Department
DESCRIPTION:The Leawood Police Department is hosting a Kids Fishing Derby for ages 12 and under at Ironwoods Park (14701 Mission Road). Bring the entire family to this fun\, FREE event where children can learn to fish in the lake stocked with a variety of fish. Registration starts at 8:30\, fishing is from 9-10\, and prizes to follow! \n \nBring your pole! Bobbers and bait will be provided. Light breakfast items will be available.
URL:https://kcparent.com/event/youth-fishing-derby-hosted-by-the-leawood-police-department/
LOCATION:Ironwoods Park\, 14701 Mission Road\, Leawood\, Kansas\, 66224\, United States
CATEGORIES:Accessible,FREE,Outdoor
END:VEVENT
BEGIN:VEVENT
DTSTART;TZID=America/Denver:20250426T100000
DTEND;TZID=America/Denver:20250426T150000
DTSTAMP:20260423T025616
CREATED:20250310T213454Z
LAST-MODIFIED:20250621T164614Z
UID:10000797-1745661600-1745679600@kcparent.com
SUMMARY:Get Outdoors Day
DESCRIPTION:Explore the many varied ways to GET OUTDOORS and enjoy nature in Raytown!  Visitors are welcome to come\, use our equipment and try all of the activities at this year’s event for FREE to include: Fishing\, rock climbing\, birding and more!  Free fishing poles to the first 100 children. \n\nActivities from 10 a.m. – 3 p.m. at Kenagy Park\, 7834 Raytown Rd\, in Raytown\, MO. This event is open to all ages. Families are encouraged to attend. This FREE event is in partnership with the Missouri Department of Conservation (MDC) and Raytown Parks and Recreation.
URL:https://kcparent.com/event/get-outdoors-day/
LOCATION:C. Lee Kenagy Park\, 7834 Raytown Rd\, Raytown\, Missouri\, 64138\, United States
CATEGORIES:Accessible,FREE,Outdoor
END:VEVENT
BEGIN:VEVENT
DTSTART;TZID=America/Denver:20250426T100000
DTEND;TZID=America/Denver:20250426T150000
DTSTAMP:20260423T025616
CREATED:20250415T210914Z
LAST-MODIFIED:20250621T164614Z
UID:10000798-1745661600-1745679600@kcparent.com
SUMMARY:Get Outdoors Day
DESCRIPTION:The Missouri Department of Conservation is partnering with Raytown Parks and Recreation to offer this celebration of the outdoors in our community. Activities include live animals\, fishing\, food trucks\, rock climbing\, biking\, Smokey Bear\, birding\, and so much more. See you there!
URL:https://kcparent.com/event/get-outdoors-day-2/
LOCATION:C. Lee Kenagy Park\, 7834 Raytown Rd\, Raytown\, Missouri\, 64138\, United States
CATEGORIES:Accessible,FREE,Outdoor
END:VEVENT
BEGIN:VEVENT
DTSTART;TZID=America/Denver:20250426T100000
DTEND;TZID=America/Denver:20250426T150000
DTSTAMP:20260423T025616
CREATED:20250423T195704Z
LAST-MODIFIED:20250621T164615Z
UID:10000799-1745661600-1745679600@kcparent.com
SUMMARY:Get Outdoors Day
DESCRIPTION:
URL:https://kcparent.com/event/get-outdoors-day-3/
LOCATION:Roe Park\, 10400 Roe\, Overland Park\, Kansas\, United States
CATEGORIES:Accessible
END:VEVENT
END:VCALENDAR