BEGIN:VCALENDAR
VERSION:2.0
PRODID:-//KC Parent - ECPv6.15.18//NONSGML v1.0//EN
CALSCALE:GREGORIAN
METHOD:PUBLISH
X-WR-CALNAME:KC Parent
X-ORIGINAL-URL:https://kcparent.com
X-WR-CALDESC:Events for KC Parent
REFRESH-INTERVAL;VALUE=DURATION:PT1H
X-Robots-Tag:noindex
X-PUBLISHED-TTL:PT1H
BEGIN:VTIMEZONE
TZID:America/Denver
BEGIN:DAYLIGHT
TZOFFSETFROM:-0700
TZOFFSETTO:-0600
TZNAME:MDT
DTSTART:20240310T090000
END:DAYLIGHT
BEGIN:STANDARD
TZOFFSETFROM:-0600
TZOFFSETTO:-0700
TZNAME:MST
DTSTART:20241103T080000
END:STANDARD
BEGIN:DAYLIGHT
TZOFFSETFROM:-0700
TZOFFSETTO:-0600
TZNAME:MDT
DTSTART:20250309T090000
END:DAYLIGHT
BEGIN:STANDARD
TZOFFSETFROM:-0600
TZOFFSETTO:-0700
TZNAME:MST
DTSTART:20251102T080000
END:STANDARD
BEGIN:DAYLIGHT
TZOFFSETFROM:-0700
TZOFFSETTO:-0600
TZNAME:MDT
DTSTART:20260308T090000
END:DAYLIGHT
BEGIN:STANDARD
TZOFFSETFROM:-0600
TZOFFSETTO:-0700
TZNAME:MST
DTSTART:20261101T080000
END:STANDARD
END:VTIMEZONE
BEGIN:VEVENT
DTSTART;TZID=America/Denver:20250503T210000
DTEND;TZID=America/Denver:20250503T223000
DTSTAMP:20260423T012051
CREATED:20250214T153322Z
LAST-MODIFIED:20250621T163814Z
UID:10000121-1746306000-1746311400@kcparent.com
SUMMARY:42nd Annual Kids Fishing Derby
DESCRIPTION:Kids ages 2 to 15 show off their angling skills at this fun-filled family event. The first 200 will receive a free fishing pole from Pure Fishing.  Activities include casting clinics\, fishing demonstrations\, and prizes for the top three heaviest fish in each age category: ages 6 and under\, ages 7 to 10\,  and ages 11 to 15.  \n\nPlease bring your own fishing rod and reel\, bait and a bucket to transport your fish for weighing.  Register on-site.  Pre-registration is not required.
URL:https://kcparent.com/event/42nd-annual-kids-fishing-derby-2/
LOCATION:Lake Jacomo South Boat Dock\, 9201 Beach\, Kansas City\, Missouri\, 64064\, United States
CATEGORIES:Accessible,FREE,Outdoor
END:VEVENT
END:VCALENDAR