BEGIN:VCALENDAR
VERSION:2.0
PRODID:-//KC Parent - ECPv6.15.18//NONSGML v1.0//EN
CALSCALE:GREGORIAN
METHOD:PUBLISH
X-ORIGINAL-URL:https://kcparent.com
X-WR-CALDESC:Events for KC Parent
REFRESH-INTERVAL;VALUE=DURATION:PT1H
X-Robots-Tag:noindex
X-PUBLISHED-TTL:PT1H
BEGIN:VTIMEZONE
TZID:America/Chicago
BEGIN:DAYLIGHT
TZOFFSETFROM:-0600
TZOFFSETTO:-0500
TZNAME:CDT
DTSTART:20240310T080000
END:DAYLIGHT
BEGIN:STANDARD
TZOFFSETFROM:-0500
TZOFFSETTO:-0600
TZNAME:CST
DTSTART:20241103T070000
END:STANDARD
BEGIN:DAYLIGHT
TZOFFSETFROM:-0600
TZOFFSETTO:-0500
TZNAME:CDT
DTSTART:20250309T080000
END:DAYLIGHT
BEGIN:STANDARD
TZOFFSETFROM:-0500
TZOFFSETTO:-0600
TZNAME:CST
DTSTART:20251102T070000
END:STANDARD
BEGIN:DAYLIGHT
TZOFFSETFROM:-0600
TZOFFSETTO:-0500
TZNAME:CDT
DTSTART:20260308T080000
END:DAYLIGHT
BEGIN:STANDARD
TZOFFSETFROM:-0500
TZOFFSETTO:-0600
TZNAME:CST
DTSTART:20261101T070000
END:STANDARD
END:VTIMEZONE
BEGIN:VEVENT
DTSTART;TZID=America/Chicago:20250831T160000
DTEND;TZID=America/Chicago:20250831T210000
DTSTAMP:20260422T203145
CREATED:20250814T221128Z
LAST-MODIFIED:20250814T221128Z
UID:10011603-1756656000-1756674000@kcparent.com
SUMMARY:KC’s 2nd Annual Natsu Matsuri (Japanese Summer Festival)
DESCRIPTION:Natsu Matsuri(夏祭り) which translates to “summer festival” in Japanese\, is an annual event that takes place across Japan in the summer months of July to September. These festivals are a celebration of Japanese culture and customs\, and feature a variety of activities and performances. \nOur Natsu Matsuri KC will showcase Japanese owned + related businesses\, Japanese artists and organizations\, as well as traditional games such as the water balloon fishing(水ヨーヨー釣り) and the goldfish scooping(金魚すくい) and more! \nThis is a family & kids friendly outdoor festival. Please bring a lawn chair and/or picnic blankets to enjoy the summer weather with us! Please be prepared for potential excessive heat. \nGeneral Admission is $5 in advance ($7 on the day of the event)\, children under 12 enter free.\nGame Pass will guarantee kids 12 and under ONE prize at each game\, and will let them have unlimited plays. Must return to the back of the line per play. \nAll funds raised will be directly put towards future Japanese community events such as Shinnen-kai\, O-Hanami\, and other cultural events hosted by Yukari KC Inc. \nYukari KC is a registered 501 (c)(3) Non-Profit.\nTickets are required! \nVendor and Organization List:\nCheck out our website for an updated list. \nPerformances by Three Trails Taiko\, Tatsumaki Yosakoi\, Shodo by Miho JOI Coordinator. \nThe festival venue is sponsored by KC Craft Ramen\, Level One Game Shop\, Jinya Ramen Bar\, Build Up! Hobby Store.
URL:https://kcparent.com/event/kcs-2nd-annual-natsu-matsuri-japanese-summer-festival/
LOCATION:Merriam Marketplace\, 5740 Merriam Dr.\, Merriam\, Kansas\, 66203\, United States
CATEGORIES:Festival,Kansas City Family Events,Live Performance,Outdoor
ATTACH;FMTTYPE=image/jpeg:https://kcparent.com/wp-content/uploads/2025/08/natsu_matsuri_flyer_IG-Post-scaled.jpg
ORGANIZER;CN="Yukari KC":MAILTO:info@yukarikc.org
END:VEVENT
END:VCALENDAR