BEGIN:VCALENDAR
VERSION:2.0
PRODID:-//KC Parent - ECPv6.15.18//NONSGML v1.0//EN
CALSCALE:GREGORIAN
METHOD:PUBLISH
X-WR-CALNAME:KC Parent
X-ORIGINAL-URL:https://kcparent.com
X-WR-CALDESC:Events for KC Parent
REFRESH-INTERVAL;VALUE=DURATION:PT1H
X-Robots-Tag:noindex
X-PUBLISHED-TTL:PT1H
BEGIN:VTIMEZONE
TZID:America/Denver
BEGIN:DAYLIGHT
TZOFFSETFROM:-0700
TZOFFSETTO:-0600
TZNAME:MDT
DTSTART:20240310T090000
END:DAYLIGHT
BEGIN:STANDARD
TZOFFSETFROM:-0600
TZOFFSETTO:-0700
TZNAME:MST
DTSTART:20241103T080000
END:STANDARD
BEGIN:DAYLIGHT
TZOFFSETFROM:-0700
TZOFFSETTO:-0600
TZNAME:MDT
DTSTART:20250309T090000
END:DAYLIGHT
BEGIN:STANDARD
TZOFFSETFROM:-0600
TZOFFSETTO:-0700
TZNAME:MST
DTSTART:20251102T080000
END:STANDARD
BEGIN:DAYLIGHT
TZOFFSETFROM:-0700
TZOFFSETTO:-0600
TZNAME:MDT
DTSTART:20260308T090000
END:DAYLIGHT
BEGIN:STANDARD
TZOFFSETFROM:-0600
TZOFFSETTO:-0700
TZNAME:MST
DTSTART:20261101T080000
END:STANDARD
END:VTIMEZONE
BEGIN:VEVENT
DTSTART;TZID=America/Denver:20250601T000000
DTEND;TZID=America/Denver:20250601T000000
DTSTAMP:20260419T090653
CREATED:20210208T181200Z
LAST-MODIFIED:20250621T164113Z
UID:10000384-1748736000-1748736000@kcparent.com
SUMMARY:Cedar Cove: Public Tours
DESCRIPTION:Come meet our feline friends! Experience Cedar Cove Feline Conservatory with an experienced guide. See these epic animals and learn about their characteristics and behaviors! \nCedar Cove is a non-profit conservation and education center committed to the care and preservation of wildlife species and their habitats while educating the public on the importance of maintaining healthy ecosystems and the impending dangers of ecological collapse. \nEntrance and exit will be outside our main building\, but we have 2 restrooms in the building so you will be allowed in the building to use them but not allowed in the building otherwise. \nChildren 3 and under FREE and do not count towards group total! \nSaturday:\n\n \n\nTours starting every half hour\, beginning at 11:00. Groups will be limited to (20).\n \nGates Closed and Last Tour starts at 1:30pm\n \n12:30\, 1:00 and 1:30 tours will watch 2:00 pm feeding.\n\n\n\n \nSunday:\n\n \n\nTours starting every half hour\, beginning at 11:00. Groups will be limited to (20).\n \nGates Closed and Last Tour starts at 1:30pm\n \n12:30\, 1:00 and 1:30 tours will watch 2:00 pm feeding.\n\n\n
URL:https://kcparent.com/event/cedar-cove-public-tours-44/
LOCATION:KC Wheel\, 2485 Jefferson Street\, Kansas City\, Missouri\, United States
CATEGORIES:Accessible,Outdoor
END:VEVENT
BEGIN:VEVENT
DTSTART;TZID=America/Denver:20250517T000000
DTEND;TZID=America/Denver:20250520T000000
DTSTAMP:20260419T090653
CREATED:20250505T211907Z
LAST-MODIFIED:20250621T170032Z
UID:10001980-1747440000-1747699200@kcparent.com
SUMMARY:Woof Fest
DESCRIPTION:Bring Your Best Friend\, Ride the KC Wheel\, and Support a Great Cause!   \nDogs deserve the best – and that includes a spin on the KC Wheel! Join us for Woof Fest\, a four-day celebration of furry friends\, fresh air\, and feel-good vibes at the KC Wheel! We’re rolling out the red carpet for dogs and their humans with pet-friendly fun\, yummy treats\, and a portion of every ticket supporting pet adoption and welfare in Kansas City. \n \n\nWoof Fest runs Saturday\, May 17\, through Tuesday\, May 20 (National Pet Rescue Day). See you soon\, KC! \n \n\nTicket Details  ️ \n– Admission is $30 per person and includes a ride on the KC Wheel for up to two dogs. Owners must accompany their dog(s) on the ride. \n– Admission also includes a 6″ x 8″ souvenir photo to remember your special day! \n– Your admission ticket is inclusive of a $10 donation to Great Plains SPCA. Thank you for making a difference!
URL:https://kcparent.com/event/woof-fest/
LOCATION:KC Wheel\, 2485 Jefferson Street\, Kansas City\, Missouri\, United States
CATEGORIES:Accessible,Festival,Outdoor
END:VEVENT
END:VCALENDAR