BEGIN:VCALENDAR
VERSION:2.0
PRODID:-//KC Parent - ECPv6.15.18//NONSGML v1.0//EN
CALSCALE:GREGORIAN
METHOD:PUBLISH
X-WR-CALNAME:KC Parent
X-ORIGINAL-URL:https://kcparent.com
X-WR-CALDESC:Events for KC Parent
REFRESH-INTERVAL;VALUE=DURATION:PT1H
X-Robots-Tag:noindex
X-PUBLISHED-TTL:PT1H
BEGIN:VTIMEZONE
TZID:America/Denver
BEGIN:DAYLIGHT
TZOFFSETFROM:-0700
TZOFFSETTO:-0600
TZNAME:MDT
DTSTART:20240310T090000
END:DAYLIGHT
BEGIN:STANDARD
TZOFFSETFROM:-0600
TZOFFSETTO:-0700
TZNAME:MST
DTSTART:20241103T080000
END:STANDARD
BEGIN:DAYLIGHT
TZOFFSETFROM:-0700
TZOFFSETTO:-0600
TZNAME:MDT
DTSTART:20250309T090000
END:DAYLIGHT
BEGIN:STANDARD
TZOFFSETFROM:-0600
TZOFFSETTO:-0700
TZNAME:MST
DTSTART:20251102T080000
END:STANDARD
BEGIN:DAYLIGHT
TZOFFSETFROM:-0700
TZOFFSETTO:-0600
TZNAME:MDT
DTSTART:20260308T090000
END:DAYLIGHT
BEGIN:STANDARD
TZOFFSETFROM:-0600
TZOFFSETTO:-0700
TZNAME:MST
DTSTART:20261101T080000
END:STANDARD
BEGIN:DAYLIGHT
TZOFFSETFROM:-0700
TZOFFSETTO:-0600
TZNAME:MDT
DTSTART:20270314T090000
END:DAYLIGHT
BEGIN:STANDARD
TZOFFSETFROM:-0600
TZOFFSETTO:-0700
TZNAME:MST
DTSTART:20271107T080000
END:STANDARD
END:VTIMEZONE
BEGIN:VEVENT
DTSTART;TZID=America/Denver:20260323T100000
DTEND;TZID=America/Denver:20260323T120000
DTSTAMP:20260425T140715
CREATED:20260320T215008Z
LAST-MODIFIED:20260327T141328Z
UID:10024991-1774260000-1774267200@kcparent.com
SUMMARY:Open Jump
DESCRIPTION:Join us for an Open Jump to wrap up Spring Break! Don’t forget your socks and water bottle!\nRegister online at https://www.pumpitupparty.com/overland-park-ks/calendar/\nGet Out Pass (formerly Pogo Pass) admissions are limited to the first 20 per session. If you have a pass and can’t get it with it\, we will offer a nice discount AND you can save your pass for another visit!
URL:https://kcparent.com/event/open-jump/
LOCATION:Pump It Up\, 8510 W 135th St\, Overland Park\, Kansas\, United States
CATEGORIES:Indoor
ATTACH;FMTTYPE=image/png:https://kcparent.com/wp-content/uploads/2026/03/PIU_Open-Jump-2.png
END:VEVENT
BEGIN:VEVENT
DTSTART;TZID=America/Denver:20250815T183000
DTEND;TZID=America/Denver:20250815T203000
DTSTAMP:20260425T140715
CREATED:20250730T212535Z
LAST-MODIFIED:20250801T140855Z
UID:10003268-1755282600-1755289800@kcparent.com
SUMMARY:Kanga's Back to School Bash
DESCRIPTION:Join us for an unforgettable end-of-summer celebration! Kanga’s Back-to-School Bash is August 15th from 6:30 PM to 8:30 PM. \n\nSay goodbye to summer with hugs\, high-fives\, and photos with Kanga\, KC Wolf\, Bluey\, and Spiderman! But that’s just the beginning…there’ll be face painting\, balloon art\, play & music! \n\n* Only $19.99 per child – Adults are FREE (no ticket needed!) \n* Grab your tickets now online\, in-store\, or by phone – they’re going fast! \n\nLet’s make some memories before the school bell rings! Advance tickets are available now at our website (https://ecom.roller.app/kangasindoorplaycenterindependence/checkout/en-us/product/1407097?date=2025-08-15) or at the door on the day of the event.
URL:https://kcparent.com/event/kangas-back-to-school-bash/
LOCATION:Kanga’s Indoor Playcenter and Cafe\, 19700\, Suite G Jackson Rd\, Independence\, Missouri\, United States
CATEGORIES:Accessible,Indoor
END:VEVENT
BEGIN:VEVENT
DTSTART;TZID=America/Denver:20250517T100000
DTEND;TZID=America/Denver:20250517T113000
DTSTAMP:20260425T140715
CREATED:20241218T183147Z
LAST-MODIFIED:20250621T164503Z
UID:10000703-1747476000-1747481400@kcparent.com
SUMMARY:Enchanted Tea Party with the Animals
DESCRIPTION:Join our woodland animals for an enchanted tea party at the nature center! Wear your favorite princess dress\, fairy outfit\, or whatever makes you feel magical! We will provide the enchanted animals\, cookies\, tea\, and other yummy snacks. It’s the perfect thing to do with your little ones this Mother’s Day weekend. Children under the age of 2 are free.
URL:https://kcparent.com/event/enchanted-tea-party-with-the-animals/
LOCATION:Kanga’s Indoor Playcenter and Cafe\, 19700\, Suite G Jackson Rd\, Independence\, Missouri\, United States
CATEGORIES:Accessible,Indoor
END:VEVENT
BEGIN:VEVENT
DTSTART;TZID=America/Denver:20250504T131500
DTEND;TZID=America/Denver:20250504T151500
DTSTAMP:20260425T140715
CREATED:20250402T194112Z
LAST-MODIFIED:20250621T164837Z
UID:10000998-1746364500-1746371700@kcparent.com
SUMMARY:Kid's Day at Children's Mercy Park
DESCRIPTION:It’s Kid’s Day at Children’s Mercy Park on April 13 when Sporting KC takes on the Portland Timbers. Kickoff is set for 1:15. Come early to enjoy all the pre-game kid-friendly games\, giveaways and activities!
URL:https://kcparent.com/event/kids-day-at-childrens-mercy-park-2/
LOCATION:Kids Empire Olathe\, 11941 S Strang Line Rd\, Olathe\, Kansas\, United States
CATEGORIES:Accessible,Sporting Event
END:VEVENT
END:VCALENDAR