BEGIN:VCALENDAR
VERSION:2.0
PRODID:-//KC Parent - ECPv6.15.18//NONSGML v1.0//EN
CALSCALE:GREGORIAN
METHOD:PUBLISH
X-ORIGINAL-URL:https://kcparent.com
X-WR-CALDESC:Events for KC Parent
REFRESH-INTERVAL;VALUE=DURATION:PT1H
X-Robots-Tag:noindex
X-PUBLISHED-TTL:PT1H
BEGIN:VTIMEZONE
TZID:America/Denver
BEGIN:DAYLIGHT
TZOFFSETFROM:-0700
TZOFFSETTO:-0600
TZNAME:MDT
DTSTART:20250309T090000
END:DAYLIGHT
BEGIN:STANDARD
TZOFFSETFROM:-0600
TZOFFSETTO:-0700
TZNAME:MST
DTSTART:20251102T080000
END:STANDARD
BEGIN:DAYLIGHT
TZOFFSETFROM:-0700
TZOFFSETTO:-0600
TZNAME:MDT
DTSTART:20260308T090000
END:DAYLIGHT
BEGIN:STANDARD
TZOFFSETFROM:-0600
TZOFFSETTO:-0700
TZNAME:MST
DTSTART:20261101T080000
END:STANDARD
BEGIN:DAYLIGHT
TZOFFSETFROM:-0700
TZOFFSETTO:-0600
TZNAME:MDT
DTSTART:20270314T090000
END:DAYLIGHT
BEGIN:STANDARD
TZOFFSETFROM:-0600
TZOFFSETTO:-0700
TZNAME:MST
DTSTART:20271107T080000
END:STANDARD
END:VTIMEZONE
BEGIN:VEVENT
DTSTART;TZID=America/Denver:20260430T100000
DTEND;TZID=America/Denver:20260430T170000
DTSTAMP:20260423T133140
CREATED:20250730T212723Z
LAST-MODIFIED:20250805T195159Z
UID:10011126-1777543200-1777568400@kcparent.com
SUMMARY:Backyard Specialists Pay For Play
DESCRIPTION:Backyard Specialists is the premier outdoor play spot in Olathe\, and surrounding areas when you are looking for great outdoor fun! Plan a play date for your children and their friends at our amazing outdoor showroom. \nPlay-for-Play Includes:\n  \n\n\n\nHUGE Outdoor display area\, all fenced in.\n\n\n\n  \n\n\n\nPlay on our Swing Sets\, and Basketball Goals (don’t forget your basketballs) Sorry\, but the trampolines are not available for play\n\n\n\n  \n\n\n\nSnack area to enjoy a treat (you may bring your own food and drinks)\n\n\n\n  \n\n\n\n$2 Cash or $4 Credit per kid (ages 18 months & up)\n\n\n\n  \n\n\n\nAvailable Tuesday and Thursday from 10 – 5\n\n\n\n  \n  \n*Closed all major holidays.
URL:https://kcparent.com/event/backyard-specialists-pay-for-play-65/2026-04-30/
LOCATION:Backyard Specialists of KC\, 2227 E. Kansas City Road\, Olathe\, Kansas\, 66061\, United States
CATEGORIES:Indoor
ATTACH;FMTTYPE=image/webp:https://kcparent.com/wp-content/uploads/2025/07/IMG_1069.jpg.webp
END:VEVENT
BEGIN:VEVENT
DTSTART;TZID=America/Denver:20260430T101500
DTEND;TZID=America/Denver:20260430T111500
DTSTAMP:20260423T133140
CREATED:20250730T212730Z
LAST-MODIFIED:20250803T234215Z
UID:10006658-1777544100-1777547700@kcparent.com
SUMMARY:Babies and Books
DESCRIPTION:Come listen to a story with your little one\, connect with other parents and guardians\, and learn how you can make books accessible to your bitty babies. Check-in begins at 10:00 and the program begins at 10:15 a.m. \nThis program takes place in the Goodnight Moon Room and participants will be asked to leave the following items outside the room: shoes\, food\, beverages of any kind\, non-medical strollers\, and carseats. \nRecommended for ages 0-3. \nPlease note: \n– Babies and Books tickets are $5 per child. Adults do not need tickets to accompany their child(ren). \n– Each ticket includes a $5 book voucher to use at Lucky Rabbit Books. \n– Maximum 2 tickets per order. There must be one adult present for every 2 children. \n– All adults must stay with their child(ren) for the duration of the programming and may not leave the site. \n– All purchases are final. Museum admission not included.
URL:https://kcparent.com/event/babies-and-books-9/2026-04-30/
LOCATION:Rabbit hOle\, 919 E. 14th Ave.\, North Kansas City\, Missouri\, United States
CATEGORIES:Indoor
ATTACH;FMTTYPE=image/avif:https://kcparent.com/wp-content/uploads/2025/07/BooksBabies.png.avif
END:VEVENT
BEGIN:VEVENT
DTSTART;TZID=America/Denver:20260430T140000
DTEND;TZID=America/Denver:20260430T150000
DTSTAMP:20260423T133140
CREATED:20250825T140200Z
LAST-MODIFIED:20250827T145302Z
UID:10013807-1777557600-1777561200@kcparent.com
SUMMARY:WonderBaby & Me
DESCRIPTION:Weekly class for infants 3–18 months and their grown-ups\, too! Register at Wonderscope.org
URL:https://kcparent.com/event/wonderbaby-me-2/2026-04-30/
LOCATION:The Regnier Family Wonderscope Museum of Kansas City\, 433 East Red Bridge Road\, Kansas City\, Missouri\, United States
ATTACH;FMTTYPE=image/webp:https://kcparent.com/wp-content/uploads/2025/08/Wonder-Baby-Program-Page.webp
END:VEVENT
BEGIN:VEVENT
DTSTART;TZID=America/Denver:20260430T170000
DTEND;TZID=America/Denver:20260430T193000
DTSTAMP:20260423T133140
CREATED:20260324T211216Z
LAST-MODIFIED:20260327T141306Z
UID:10024997-1777568400-1777577400@kcparent.com
SUMMARY:Drop-in History: Reconstruction in Missouri
DESCRIPTION:Celebrate the United States’ 250th birthday by exploring Missouri’s stories right where they happened at the Wornall/Majors House Museums. This six-part series of free\, drop-in programs invites you to wander\, engage\, and chat your way through hands-on history experiences. \nDrop-In History: Reconstruction in Missouri arrives April 30. Delve into this less-talked-about era\, marked by tense efforts to heal from war’s devastation in Kansas City and across Missouri. Explore informational signs about the period\, a WMHM curator’s exhibit on Exodusters in Hell’s Half Acre\, and a new fictional work taking place in the period by Tom Owens. \nAt 5:30\, Mr. Dave will host an elementary storytime. \nAt 6:30 p.m.\, the Alexander/Madison Chapter of KC Buffalo Soldiers presents From Slaves to Soldiers at the front of the house. \nAdvance registration is appreciated\, but not required.
URL:https://kcparent.com/event/drop-in-history-reconstruction-in-missouri/
LOCATION:John Wornall House Museum\, 6115 Wornall Rd.\, Kansas City\, Missouri\, United States
CATEGORIES:FREE
ATTACH;FMTTYPE=image/png:https://kcparent.com/wp-content/uploads/2026/03/5.png
END:VEVENT
BEGIN:VEVENT
DTSTART;TZID=America/Denver:20260430T180000
DTEND;TZID=America/Denver:20260430T190000
DTSTAMP:20260423T133140
CREATED:20260409T182545Z
LAST-MODIFIED:20260420T161158Z
UID:10025471-1777572000-1777575600@kcparent.com
SUMMARY:Nelson-Atkins presents Joe Quesada: From Mucha to Marvel
DESCRIPTION:Alphonse Mucha’s iconic style bridged fine art and popular culture. From the sinuous lines of Art Nouveau to the visual language of modern comics\, Alphonse Mucha’s influence continues to shape how stories are told through images. \nLegendary comic artist and former Marvel Editor-in-Chief\, Joe Quesada\, explores Mucha’s lasting impact on visual storytelling. Drawing on his own career and artistic perspective\, Quesada offers a fresh lens on Mucha’s legacy. Quesada will be joined in conversation by Dr. Aimee Marcereau DeGalan\, the Senior Curator of European Art at the Nelson-Atkins and site curator for the exhibition\, Timeless Mucha. \nThis program is presented in collaboration with KC Design Week.
URL:https://kcparent.com/event/nelson-atkins-presents-joe-quesada-from-mucha-to-marvel/
LOCATION:Nelson-Atkins Museum of Art\, 4525 Oak St.\, Kansas City\, Missouri\, United States
CATEGORIES:Museums
ATTACH;FMTTYPE=image/jpeg:https://kcparent.com/wp-content/uploads/2026/04/Nelson-Atkins-presents-Joe-Quesada-From-Mucha-to-Marvel.jpg
END:VEVENT
BEGIN:VEVENT
DTSTART;TZID=America/Denver:20260430T183000
DTEND;TZID=America/Denver:20260430T200000
DTSTAMP:20260423T133140
CREATED:20260331T174145Z
LAST-MODIFIED:20260403T143639Z
UID:10025029-1777573800-1777579200@kcparent.com
SUMMARY:A Talk On The Wild Side: Saving Giraffes
DESCRIPTION:Attend a conservation talk at the Kansas City Zoo & Aquarium! Hear from Susan Myers\, Kayla Walisch\, and Aggrey Chemwa from Save Giraffes Now as they discuss their work to help giraffes live freely and safely in the woodlands and savannas of their native habitat. \nLearn how the Zoo is partnering with Save Giraffes Now on unique co-existence projects in Kenya\, including a research study of the Lukenya Railroad underpass and the funding of two crucial water pans on the Olosira Community Conservancy. The Athi-Kapiti Region of Kenya serves as a wildlife corridor connecting the Nairobi National Park to National Parks\, and giraffes are greatly impacted as habitat loss and human population growth are the biggest factors in their conservation struggle. This presentation will highlight how this organization is developing practical solutions to human-wildlife conflict to support giraffe populations! \nGeneral admission tickets are $15\, Friends of the Zoo (FOTZ) member tickets are $10\, and student tickets are $5.\nVIP tickets are $40 for adults and $20 for children. Join us from 5 to 6 pm for a reception\, meet & greet with the speakers\, appetizers\, and complimentary beverages.
URL:https://kcparent.com/event/a-talk-on-the-wild-side-saving-giraffes/
LOCATION:Kansas City Zoo & Aquarium\, 6800 Zoo Dr.\, Kansas City\, MO\, 64132\, United States
CATEGORIES:Zoos & Aquariums
ATTACH;FMTTYPE=image/png:https://kcparent.com/wp-content/uploads/2026/03/Talk-on-the-Wild-Side-Giraffe-800x400-1.png
END:VEVENT
END:VCALENDAR