BEGIN:VCALENDAR
VERSION:2.0
PRODID:-//KC Parent - ECPv6.15.18//NONSGML v1.0//EN
CALSCALE:GREGORIAN
METHOD:PUBLISH
X-ORIGINAL-URL:https://kcparent.com
X-WR-CALDESC:Events for KC Parent
REFRESH-INTERVAL;VALUE=DURATION:PT1H
X-Robots-Tag:noindex
X-PUBLISHED-TTL:PT1H
BEGIN:VTIMEZONE
TZID:America/Denver
BEGIN:DAYLIGHT
TZOFFSETFROM:-0700
TZOFFSETTO:-0600
TZNAME:MDT
DTSTART:20250309T090000
END:DAYLIGHT
BEGIN:STANDARD
TZOFFSETFROM:-0600
TZOFFSETTO:-0700
TZNAME:MST
DTSTART:20251102T080000
END:STANDARD
BEGIN:DAYLIGHT
TZOFFSETFROM:-0700
TZOFFSETTO:-0600
TZNAME:MDT
DTSTART:20260308T090000
END:DAYLIGHT
BEGIN:STANDARD
TZOFFSETFROM:-0600
TZOFFSETTO:-0700
TZNAME:MST
DTSTART:20261101T080000
END:STANDARD
BEGIN:DAYLIGHT
TZOFFSETFROM:-0700
TZOFFSETTO:-0600
TZNAME:MDT
DTSTART:20270314T090000
END:DAYLIGHT
BEGIN:STANDARD
TZOFFSETFROM:-0600
TZOFFSETTO:-0700
TZNAME:MST
DTSTART:20271107T080000
END:STANDARD
END:VTIMEZONE
BEGIN:VEVENT
DTSTART;TZID=America/Denver:20260518T120000
DTEND;TZID=America/Denver:20260518T130000
DTSTAMP:20260419T010029
CREATED:20250824T170834Z
LAST-MODIFIED:20250905T142302Z
UID:10012238-1779105600-1779109200@kcparent.com
SUMMARY:Open Gym
DESCRIPTION:Enjoy the open gym with your toddler. $5. Register at KC360Gym.com \n 
URL:https://kcparent.com/event/open-gym/2026-05-18/
LOCATION:360 Gymnastics\, 431 N. Lindenwood Dr.\, Olathe\, Kansas\, United States
ATTACH;FMTTYPE=image/jpeg:https://kcparent.com/wp-content/uploads/2025/08/opengym360.jpg
END:VEVENT
BEGIN:VEVENT
DTSTART;TZID=America/Denver:20260520T120000
DTEND;TZID=America/Denver:20260520T130000
DTSTAMP:20260419T010029
CREATED:20250824T170834Z
LAST-MODIFIED:20250905T142302Z
UID:10012239-1779278400-1779282000@kcparent.com
SUMMARY:Open Gym
DESCRIPTION:Enjoy the open gym with your toddler. $5. Register at KC360Gym.com \n 
URL:https://kcparent.com/event/open-gym/2026-05-20/
LOCATION:360 Gymnastics\, 431 N. Lindenwood Dr.\, Olathe\, Kansas\, United States
ATTACH;FMTTYPE=image/jpeg:https://kcparent.com/wp-content/uploads/2025/08/opengym360.jpg
END:VEVENT
BEGIN:VEVENT
DTSTART;TZID=America/Denver:20260522T120000
DTEND;TZID=America/Denver:20260522T130000
DTSTAMP:20260419T010029
CREATED:20250824T170834Z
LAST-MODIFIED:20250905T142302Z
UID:10012240-1779451200-1779454800@kcparent.com
SUMMARY:Open Gym
DESCRIPTION:Enjoy the open gym with your toddler. $5. Register at KC360Gym.com \n 
URL:https://kcparent.com/event/open-gym/2026-05-22/
LOCATION:360 Gymnastics\, 431 N. Lindenwood Dr.\, Olathe\, Kansas\, United States
ATTACH;FMTTYPE=image/jpeg:https://kcparent.com/wp-content/uploads/2025/08/opengym360.jpg
END:VEVENT
BEGIN:VEVENT
DTSTART;TZID=America/Denver:20260525T120000
DTEND;TZID=America/Denver:20260525T130000
DTSTAMP:20260419T010029
CREATED:20250824T170834Z
LAST-MODIFIED:20250905T142302Z
UID:10012241-1779710400-1779714000@kcparent.com
SUMMARY:Open Gym
DESCRIPTION:Enjoy the open gym with your toddler. $5. Register at KC360Gym.com \n 
URL:https://kcparent.com/event/open-gym/2026-05-25/
LOCATION:360 Gymnastics\, 431 N. Lindenwood Dr.\, Olathe\, Kansas\, United States
ATTACH;FMTTYPE=image/jpeg:https://kcparent.com/wp-content/uploads/2025/08/opengym360.jpg
END:VEVENT
BEGIN:VEVENT
DTSTART;TZID=America/Denver:20260527T120000
DTEND;TZID=America/Denver:20260527T130000
DTSTAMP:20260419T010029
CREATED:20250824T170834Z
LAST-MODIFIED:20250905T142302Z
UID:10012242-1779883200-1779886800@kcparent.com
SUMMARY:Open Gym
DESCRIPTION:Enjoy the open gym with your toddler. $5. Register at KC360Gym.com \n 
URL:https://kcparent.com/event/open-gym/2026-05-27/
LOCATION:360 Gymnastics\, 431 N. Lindenwood Dr.\, Olathe\, Kansas\, United States
ATTACH;FMTTYPE=image/jpeg:https://kcparent.com/wp-content/uploads/2025/08/opengym360.jpg
END:VEVENT
BEGIN:VEVENT
DTSTART;TZID=America/Denver:20260529T120000
DTEND;TZID=America/Denver:20260529T130000
DTSTAMP:20260419T010029
CREATED:20250824T170834Z
LAST-MODIFIED:20250905T142302Z
UID:10012243-1780056000-1780059600@kcparent.com
SUMMARY:Open Gym
DESCRIPTION:Enjoy the open gym with your toddler. $5. Register at KC360Gym.com \n 
URL:https://kcparent.com/event/open-gym/2026-05-29/
LOCATION:360 Gymnastics\, 431 N. Lindenwood Dr.\, Olathe\, Kansas\, United States
ATTACH;FMTTYPE=image/jpeg:https://kcparent.com/wp-content/uploads/2025/08/opengym360.jpg
END:VEVENT
BEGIN:VEVENT
DTSTART;TZID=America/Denver:20260601T120000
DTEND;TZID=America/Denver:20260601T130000
DTSTAMP:20260419T010029
CREATED:20250824T170834Z
LAST-MODIFIED:20250905T142302Z
UID:10012244-1780315200-1780318800@kcparent.com
SUMMARY:Open Gym
DESCRIPTION:Enjoy the open gym with your toddler. $5. Register at KC360Gym.com \n 
URL:https://kcparent.com/event/open-gym/2026-06-01/
LOCATION:360 Gymnastics\, 431 N. Lindenwood Dr.\, Olathe\, Kansas\, United States
ATTACH;FMTTYPE=image/jpeg:https://kcparent.com/wp-content/uploads/2025/08/opengym360.jpg
END:VEVENT
BEGIN:VEVENT
DTSTART;TZID=America/Denver:20260603T120000
DTEND;TZID=America/Denver:20260603T130000
DTSTAMP:20260419T010029
CREATED:20250824T170834Z
LAST-MODIFIED:20250905T142302Z
UID:10012245-1780488000-1780491600@kcparent.com
SUMMARY:Open Gym
DESCRIPTION:Enjoy the open gym with your toddler. $5. Register at KC360Gym.com \n 
URL:https://kcparent.com/event/open-gym/2026-06-03/
LOCATION:360 Gymnastics\, 431 N. Lindenwood Dr.\, Olathe\, Kansas\, United States
ATTACH;FMTTYPE=image/jpeg:https://kcparent.com/wp-content/uploads/2025/08/opengym360.jpg
END:VEVENT
BEGIN:VEVENT
DTSTART;TZID=America/Denver:20260605T120000
DTEND;TZID=America/Denver:20260605T130000
DTSTAMP:20260419T010029
CREATED:20250824T170834Z
LAST-MODIFIED:20250905T142302Z
UID:10012246-1780660800-1780664400@kcparent.com
SUMMARY:Open Gym
DESCRIPTION:Enjoy the open gym with your toddler. $5. Register at KC360Gym.com \n 
URL:https://kcparent.com/event/open-gym/2026-06-05/
LOCATION:360 Gymnastics\, 431 N. Lindenwood Dr.\, Olathe\, Kansas\, United States
ATTACH;FMTTYPE=image/jpeg:https://kcparent.com/wp-content/uploads/2025/08/opengym360.jpg
END:VEVENT
BEGIN:VEVENT
DTSTART;TZID=America/Denver:20260608T120000
DTEND;TZID=America/Denver:20260608T130000
DTSTAMP:20260419T010029
CREATED:20250824T170834Z
LAST-MODIFIED:20250905T142302Z
UID:10012247-1780920000-1780923600@kcparent.com
SUMMARY:Open Gym
DESCRIPTION:Enjoy the open gym with your toddler. $5. Register at KC360Gym.com \n 
URL:https://kcparent.com/event/open-gym/2026-06-08/
LOCATION:360 Gymnastics\, 431 N. Lindenwood Dr.\, Olathe\, Kansas\, United States
ATTACH;FMTTYPE=image/jpeg:https://kcparent.com/wp-content/uploads/2025/08/opengym360.jpg
END:VEVENT
BEGIN:VEVENT
DTSTART;TZID=America/Denver:20260610T120000
DTEND;TZID=America/Denver:20260610T130000
DTSTAMP:20260419T010029
CREATED:20250824T170834Z
LAST-MODIFIED:20250905T142302Z
UID:10012248-1781092800-1781096400@kcparent.com
SUMMARY:Open Gym
DESCRIPTION:Enjoy the open gym with your toddler. $5. Register at KC360Gym.com \n 
URL:https://kcparent.com/event/open-gym/2026-06-10/
LOCATION:360 Gymnastics\, 431 N. Lindenwood Dr.\, Olathe\, Kansas\, United States
ATTACH;FMTTYPE=image/jpeg:https://kcparent.com/wp-content/uploads/2025/08/opengym360.jpg
END:VEVENT
BEGIN:VEVENT
DTSTART;TZID=America/Denver:20260612T120000
DTEND;TZID=America/Denver:20260612T130000
DTSTAMP:20260419T010029
CREATED:20250824T170834Z
LAST-MODIFIED:20250905T142302Z
UID:10012249-1781265600-1781269200@kcparent.com
SUMMARY:Open Gym
DESCRIPTION:Enjoy the open gym with your toddler. $5. Register at KC360Gym.com \n 
URL:https://kcparent.com/event/open-gym/2026-06-12/
LOCATION:360 Gymnastics\, 431 N. Lindenwood Dr.\, Olathe\, Kansas\, United States
ATTACH;FMTTYPE=image/jpeg:https://kcparent.com/wp-content/uploads/2025/08/opengym360.jpg
END:VEVENT
BEGIN:VEVENT
DTSTART;TZID=America/Denver:20260615T120000
DTEND;TZID=America/Denver:20260615T130000
DTSTAMP:20260419T010029
CREATED:20250824T170834Z
LAST-MODIFIED:20250905T142302Z
UID:10012250-1781524800-1781528400@kcparent.com
SUMMARY:Open Gym
DESCRIPTION:Enjoy the open gym with your toddler. $5. Register at KC360Gym.com \n 
URL:https://kcparent.com/event/open-gym/2026-06-15/
LOCATION:360 Gymnastics\, 431 N. Lindenwood Dr.\, Olathe\, Kansas\, United States
ATTACH;FMTTYPE=image/jpeg:https://kcparent.com/wp-content/uploads/2025/08/opengym360.jpg
END:VEVENT
BEGIN:VEVENT
DTSTART;TZID=America/Denver:20260617T120000
DTEND;TZID=America/Denver:20260617T130000
DTSTAMP:20260419T010029
CREATED:20250824T170834Z
LAST-MODIFIED:20250905T142302Z
UID:10012251-1781697600-1781701200@kcparent.com
SUMMARY:Open Gym
DESCRIPTION:Enjoy the open gym with your toddler. $5. Register at KC360Gym.com \n 
URL:https://kcparent.com/event/open-gym/2026-06-17/
LOCATION:360 Gymnastics\, 431 N. Lindenwood Dr.\, Olathe\, Kansas\, United States
ATTACH;FMTTYPE=image/jpeg:https://kcparent.com/wp-content/uploads/2025/08/opengym360.jpg
END:VEVENT
BEGIN:VEVENT
DTSTART;TZID=America/Denver:20260619T120000
DTEND;TZID=America/Denver:20260619T130000
DTSTAMP:20260419T010029
CREATED:20250824T170834Z
LAST-MODIFIED:20250905T142302Z
UID:10012252-1781870400-1781874000@kcparent.com
SUMMARY:Open Gym
DESCRIPTION:Enjoy the open gym with your toddler. $5. Register at KC360Gym.com \n 
URL:https://kcparent.com/event/open-gym/2026-06-19/
LOCATION:360 Gymnastics\, 431 N. Lindenwood Dr.\, Olathe\, Kansas\, United States
ATTACH;FMTTYPE=image/jpeg:https://kcparent.com/wp-content/uploads/2025/08/opengym360.jpg
END:VEVENT
BEGIN:VEVENT
DTSTART;TZID=America/Denver:20260622T120000
DTEND;TZID=America/Denver:20260622T130000
DTSTAMP:20260419T010029
CREATED:20250824T170834Z
LAST-MODIFIED:20250905T142302Z
UID:10012253-1782129600-1782133200@kcparent.com
SUMMARY:Open Gym
DESCRIPTION:Enjoy the open gym with your toddler. $5. Register at KC360Gym.com \n 
URL:https://kcparent.com/event/open-gym/2026-06-22/
LOCATION:360 Gymnastics\, 431 N. Lindenwood Dr.\, Olathe\, Kansas\, United States
ATTACH;FMTTYPE=image/jpeg:https://kcparent.com/wp-content/uploads/2025/08/opengym360.jpg
END:VEVENT
BEGIN:VEVENT
DTSTART;TZID=America/Denver:20260624T120000
DTEND;TZID=America/Denver:20260624T130000
DTSTAMP:20260419T010029
CREATED:20250824T170834Z
LAST-MODIFIED:20250905T142302Z
UID:10012254-1782302400-1782306000@kcparent.com
SUMMARY:Open Gym
DESCRIPTION:Enjoy the open gym with your toddler. $5. Register at KC360Gym.com \n 
URL:https://kcparent.com/event/open-gym/2026-06-24/
LOCATION:360 Gymnastics\, 431 N. Lindenwood Dr.\, Olathe\, Kansas\, United States
ATTACH;FMTTYPE=image/jpeg:https://kcparent.com/wp-content/uploads/2025/08/opengym360.jpg
END:VEVENT
BEGIN:VEVENT
DTSTART;TZID=America/Denver:20260626T120000
DTEND;TZID=America/Denver:20260626T130000
DTSTAMP:20260419T010029
CREATED:20250824T170834Z
LAST-MODIFIED:20250905T142302Z
UID:10012255-1782475200-1782478800@kcparent.com
SUMMARY:Open Gym
DESCRIPTION:Enjoy the open gym with your toddler. $5. Register at KC360Gym.com \n 
URL:https://kcparent.com/event/open-gym/2026-06-26/
LOCATION:360 Gymnastics\, 431 N. Lindenwood Dr.\, Olathe\, Kansas\, United States
ATTACH;FMTTYPE=image/jpeg:https://kcparent.com/wp-content/uploads/2025/08/opengym360.jpg
END:VEVENT
BEGIN:VEVENT
DTSTART;TZID=America/Denver:20260629T120000
DTEND;TZID=America/Denver:20260629T130000
DTSTAMP:20260419T010029
CREATED:20250824T170834Z
LAST-MODIFIED:20250905T142302Z
UID:10012256-1782734400-1782738000@kcparent.com
SUMMARY:Open Gym
DESCRIPTION:Enjoy the open gym with your toddler. $5. Register at KC360Gym.com \n 
URL:https://kcparent.com/event/open-gym/2026-06-29/
LOCATION:360 Gymnastics\, 431 N. Lindenwood Dr.\, Olathe\, Kansas\, United States
ATTACH;FMTTYPE=image/jpeg:https://kcparent.com/wp-content/uploads/2025/08/opengym360.jpg
END:VEVENT
BEGIN:VEVENT
DTSTART;TZID=America/Denver:20260701T120000
DTEND;TZID=America/Denver:20260701T130000
DTSTAMP:20260419T010029
CREATED:20250824T170834Z
LAST-MODIFIED:20250905T142302Z
UID:10012257-1782907200-1782910800@kcparent.com
SUMMARY:Open Gym
DESCRIPTION:Enjoy the open gym with your toddler. $5. Register at KC360Gym.com \n 
URL:https://kcparent.com/event/open-gym/2026-07-01/
LOCATION:360 Gymnastics\, 431 N. Lindenwood Dr.\, Olathe\, Kansas\, United States
ATTACH;FMTTYPE=image/jpeg:https://kcparent.com/wp-content/uploads/2025/08/opengym360.jpg
END:VEVENT
BEGIN:VEVENT
DTSTART;TZID=America/Denver:20260703T120000
DTEND;TZID=America/Denver:20260703T130000
DTSTAMP:20260419T010029
CREATED:20250824T170834Z
LAST-MODIFIED:20250905T142302Z
UID:10012258-1783080000-1783083600@kcparent.com
SUMMARY:Open Gym
DESCRIPTION:Enjoy the open gym with your toddler. $5. Register at KC360Gym.com \n 
URL:https://kcparent.com/event/open-gym/2026-07-03/
LOCATION:360 Gymnastics\, 431 N. Lindenwood Dr.\, Olathe\, Kansas\, United States
ATTACH;FMTTYPE=image/jpeg:https://kcparent.com/wp-content/uploads/2025/08/opengym360.jpg
END:VEVENT
BEGIN:VEVENT
DTSTART;TZID=America/Denver:20260706T120000
DTEND;TZID=America/Denver:20260706T130000
DTSTAMP:20260419T010029
CREATED:20250824T170834Z
LAST-MODIFIED:20250905T142302Z
UID:10012259-1783339200-1783342800@kcparent.com
SUMMARY:Open Gym
DESCRIPTION:Enjoy the open gym with your toddler. $5. Register at KC360Gym.com \n 
URL:https://kcparent.com/event/open-gym/2026-07-06/
LOCATION:360 Gymnastics\, 431 N. Lindenwood Dr.\, Olathe\, Kansas\, United States
ATTACH;FMTTYPE=image/jpeg:https://kcparent.com/wp-content/uploads/2025/08/opengym360.jpg
END:VEVENT
BEGIN:VEVENT
DTSTART;TZID=America/Denver:20260708T120000
DTEND;TZID=America/Denver:20260708T130000
DTSTAMP:20260419T010029
CREATED:20250824T170834Z
LAST-MODIFIED:20250905T142302Z
UID:10012260-1783512000-1783515600@kcparent.com
SUMMARY:Open Gym
DESCRIPTION:Enjoy the open gym with your toddler. $5. Register at KC360Gym.com \n 
URL:https://kcparent.com/event/open-gym/2026-07-08/
LOCATION:360 Gymnastics\, 431 N. Lindenwood Dr.\, Olathe\, Kansas\, United States
ATTACH;FMTTYPE=image/jpeg:https://kcparent.com/wp-content/uploads/2025/08/opengym360.jpg
END:VEVENT
BEGIN:VEVENT
DTSTART;TZID=America/Denver:20260710T120000
DTEND;TZID=America/Denver:20260710T130000
DTSTAMP:20260419T010029
CREATED:20250824T170834Z
LAST-MODIFIED:20250905T142302Z
UID:10012261-1783684800-1783688400@kcparent.com
SUMMARY:Open Gym
DESCRIPTION:Enjoy the open gym with your toddler. $5. Register at KC360Gym.com \n 
URL:https://kcparent.com/event/open-gym/2026-07-10/
LOCATION:360 Gymnastics\, 431 N. Lindenwood Dr.\, Olathe\, Kansas\, United States
ATTACH;FMTTYPE=image/jpeg:https://kcparent.com/wp-content/uploads/2025/08/opengym360.jpg
END:VEVENT
BEGIN:VEVENT
DTSTART;TZID=America/Denver:20260713T120000
DTEND;TZID=America/Denver:20260713T130000
DTSTAMP:20260419T010029
CREATED:20250824T170834Z
LAST-MODIFIED:20250905T142302Z
UID:10012262-1783944000-1783947600@kcparent.com
SUMMARY:Open Gym
DESCRIPTION:Enjoy the open gym with your toddler. $5. Register at KC360Gym.com \n 
URL:https://kcparent.com/event/open-gym/2026-07-13/
LOCATION:360 Gymnastics\, 431 N. Lindenwood Dr.\, Olathe\, Kansas\, United States
ATTACH;FMTTYPE=image/jpeg:https://kcparent.com/wp-content/uploads/2025/08/opengym360.jpg
END:VEVENT
BEGIN:VEVENT
DTSTART;TZID=America/Denver:20260715T120000
DTEND;TZID=America/Denver:20260715T130000
DTSTAMP:20260419T010029
CREATED:20250824T170834Z
LAST-MODIFIED:20250905T142302Z
UID:10012263-1784116800-1784120400@kcparent.com
SUMMARY:Open Gym
DESCRIPTION:Enjoy the open gym with your toddler. $5. Register at KC360Gym.com \n 
URL:https://kcparent.com/event/open-gym/2026-07-15/
LOCATION:360 Gymnastics\, 431 N. Lindenwood Dr.\, Olathe\, Kansas\, United States
ATTACH;FMTTYPE=image/jpeg:https://kcparent.com/wp-content/uploads/2025/08/opengym360.jpg
END:VEVENT
BEGIN:VEVENT
DTSTART;TZID=America/Denver:20260717T120000
DTEND;TZID=America/Denver:20260717T130000
DTSTAMP:20260419T010029
CREATED:20250824T170834Z
LAST-MODIFIED:20250905T142302Z
UID:10012264-1784289600-1784293200@kcparent.com
SUMMARY:Open Gym
DESCRIPTION:Enjoy the open gym with your toddler. $5. Register at KC360Gym.com \n 
URL:https://kcparent.com/event/open-gym/2026-07-17/
LOCATION:360 Gymnastics\, 431 N. Lindenwood Dr.\, Olathe\, Kansas\, United States
ATTACH;FMTTYPE=image/jpeg:https://kcparent.com/wp-content/uploads/2025/08/opengym360.jpg
END:VEVENT
BEGIN:VEVENT
DTSTART;TZID=America/Denver:20260720T120000
DTEND;TZID=America/Denver:20260720T130000
DTSTAMP:20260419T010029
CREATED:20250824T170834Z
LAST-MODIFIED:20250905T142302Z
UID:10012265-1784548800-1784552400@kcparent.com
SUMMARY:Open Gym
DESCRIPTION:Enjoy the open gym with your toddler. $5. Register at KC360Gym.com \n 
URL:https://kcparent.com/event/open-gym/2026-07-20/
LOCATION:360 Gymnastics\, 431 N. Lindenwood Dr.\, Olathe\, Kansas\, United States
ATTACH;FMTTYPE=image/jpeg:https://kcparent.com/wp-content/uploads/2025/08/opengym360.jpg
END:VEVENT
BEGIN:VEVENT
DTSTART;TZID=America/Denver:20260722T120000
DTEND;TZID=America/Denver:20260722T130000
DTSTAMP:20260419T010029
CREATED:20250824T170834Z
LAST-MODIFIED:20250905T142302Z
UID:10012266-1784721600-1784725200@kcparent.com
SUMMARY:Open Gym
DESCRIPTION:Enjoy the open gym with your toddler. $5. Register at KC360Gym.com \n 
URL:https://kcparent.com/event/open-gym/2026-07-22/
LOCATION:360 Gymnastics\, 431 N. Lindenwood Dr.\, Olathe\, Kansas\, United States
ATTACH;FMTTYPE=image/jpeg:https://kcparent.com/wp-content/uploads/2025/08/opengym360.jpg
END:VEVENT
BEGIN:VEVENT
DTSTART;TZID=America/Denver:20260724T120000
DTEND;TZID=America/Denver:20260724T130000
DTSTAMP:20260419T010029
CREATED:20250824T170834Z
LAST-MODIFIED:20250905T142302Z
UID:10012267-1784894400-1784898000@kcparent.com
SUMMARY:Open Gym
DESCRIPTION:Enjoy the open gym with your toddler. $5. Register at KC360Gym.com \n 
URL:https://kcparent.com/event/open-gym/2026-07-24/
LOCATION:360 Gymnastics\, 431 N. Lindenwood Dr.\, Olathe\, Kansas\, United States
ATTACH;FMTTYPE=image/jpeg:https://kcparent.com/wp-content/uploads/2025/08/opengym360.jpg
END:VEVENT
END:VCALENDAR