BEGIN:VCALENDAR
VERSION:2.0
PRODID:-//KC Parent - ECPv6.15.18//NONSGML v1.0//EN
CALSCALE:GREGORIAN
METHOD:PUBLISH
X-WR-CALNAME:KC Parent
X-ORIGINAL-URL:https://kcparent.com
X-WR-CALDESC:Events for KC Parent
REFRESH-INTERVAL;VALUE=DURATION:PT1H
X-Robots-Tag:noindex
X-PUBLISHED-TTL:PT1H
BEGIN:VTIMEZONE
TZID:America/Denver
BEGIN:DAYLIGHT
TZOFFSETFROM:-0700
TZOFFSETTO:-0600
TZNAME:MDT
DTSTART:20250309T090000
END:DAYLIGHT
BEGIN:STANDARD
TZOFFSETFROM:-0600
TZOFFSETTO:-0700
TZNAME:MST
DTSTART:20251102T080000
END:STANDARD
BEGIN:DAYLIGHT
TZOFFSETFROM:-0700
TZOFFSETTO:-0600
TZNAME:MDT
DTSTART:20260308T090000
END:DAYLIGHT
BEGIN:STANDARD
TZOFFSETFROM:-0600
TZOFFSETTO:-0700
TZNAME:MST
DTSTART:20261101T080000
END:STANDARD
BEGIN:DAYLIGHT
TZOFFSETFROM:-0700
TZOFFSETTO:-0600
TZNAME:MDT
DTSTART:20270314T090000
END:DAYLIGHT
BEGIN:STANDARD
TZOFFSETFROM:-0600
TZOFFSETTO:-0700
TZNAME:MST
DTSTART:20271107T080000
END:STANDARD
END:VTIMEZONE
BEGIN:VEVENT
DTSTART;TZID=America/Denver:20260812T120000
DTEND;TZID=America/Denver:20260812T130000
DTSTAMP:20260421T020619
CREATED:20250824T170834Z
LAST-MODIFIED:20250905T142302Z
UID:10012275-1786536000-1786539600@kcparent.com
SUMMARY:Open Gym
DESCRIPTION:Enjoy the open gym with your toddler. $5. Register at KC360Gym.com \n 
URL:https://kcparent.com/event/open-gym/2026-08-12/
LOCATION:360 Gymnastics\, 431 N. Lindenwood Dr.\, Olathe\, Kansas\, United States
ATTACH;FMTTYPE=image/jpeg:https://kcparent.com/wp-content/uploads/2025/08/opengym360.jpg
END:VEVENT
BEGIN:VEVENT
DTSTART;TZID=America/Denver:20260814T120000
DTEND;TZID=America/Denver:20260814T130000
DTSTAMP:20260421T020619
CREATED:20250824T170834Z
LAST-MODIFIED:20250905T142302Z
UID:10012276-1786708800-1786712400@kcparent.com
SUMMARY:Open Gym
DESCRIPTION:Enjoy the open gym with your toddler. $5. Register at KC360Gym.com \n 
URL:https://kcparent.com/event/open-gym/2026-08-14/
LOCATION:360 Gymnastics\, 431 N. Lindenwood Dr.\, Olathe\, Kansas\, United States
ATTACH;FMTTYPE=image/jpeg:https://kcparent.com/wp-content/uploads/2025/08/opengym360.jpg
END:VEVENT
BEGIN:VEVENT
DTSTART;TZID=America/Denver:20260817T120000
DTEND;TZID=America/Denver:20260817T130000
DTSTAMP:20260421T020619
CREATED:20250824T170834Z
LAST-MODIFIED:20250905T142302Z
UID:10012277-1786968000-1786971600@kcparent.com
SUMMARY:Open Gym
DESCRIPTION:Enjoy the open gym with your toddler. $5. Register at KC360Gym.com \n 
URL:https://kcparent.com/event/open-gym/2026-08-17/
LOCATION:360 Gymnastics\, 431 N. Lindenwood Dr.\, Olathe\, Kansas\, United States
ATTACH;FMTTYPE=image/jpeg:https://kcparent.com/wp-content/uploads/2025/08/opengym360.jpg
END:VEVENT
BEGIN:VEVENT
DTSTART;TZID=America/Denver:20260819T120000
DTEND;TZID=America/Denver:20260819T130000
DTSTAMP:20260421T020619
CREATED:20250824T170834Z
LAST-MODIFIED:20250905T142302Z
UID:10012278-1787140800-1787144400@kcparent.com
SUMMARY:Open Gym
DESCRIPTION:Enjoy the open gym with your toddler. $5. Register at KC360Gym.com \n 
URL:https://kcparent.com/event/open-gym/2026-08-19/
LOCATION:360 Gymnastics\, 431 N. Lindenwood Dr.\, Olathe\, Kansas\, United States
ATTACH;FMTTYPE=image/jpeg:https://kcparent.com/wp-content/uploads/2025/08/opengym360.jpg
END:VEVENT
BEGIN:VEVENT
DTSTART;TZID=America/Denver:20260821T120000
DTEND;TZID=America/Denver:20260821T130000
DTSTAMP:20260421T020619
CREATED:20250824T170834Z
LAST-MODIFIED:20250905T142302Z
UID:10012279-1787313600-1787317200@kcparent.com
SUMMARY:Open Gym
DESCRIPTION:Enjoy the open gym with your toddler. $5. Register at KC360Gym.com \n 
URL:https://kcparent.com/event/open-gym/2026-08-21/
LOCATION:360 Gymnastics\, 431 N. Lindenwood Dr.\, Olathe\, Kansas\, United States
ATTACH;FMTTYPE=image/jpeg:https://kcparent.com/wp-content/uploads/2025/08/opengym360.jpg
END:VEVENT
BEGIN:VEVENT
DTSTART;TZID=America/Denver:20260824T120000
DTEND;TZID=America/Denver:20260824T130000
DTSTAMP:20260421T020619
CREATED:20250824T170834Z
LAST-MODIFIED:20250905T142302Z
UID:10012280-1787572800-1787576400@kcparent.com
SUMMARY:Open Gym
DESCRIPTION:Enjoy the open gym with your toddler. $5. Register at KC360Gym.com \n 
URL:https://kcparent.com/event/open-gym/2026-08-24/
LOCATION:360 Gymnastics\, 431 N. Lindenwood Dr.\, Olathe\, Kansas\, United States
ATTACH;FMTTYPE=image/jpeg:https://kcparent.com/wp-content/uploads/2025/08/opengym360.jpg
END:VEVENT
BEGIN:VEVENT
DTSTART;TZID=America/Denver:20260826T120000
DTEND;TZID=America/Denver:20260826T130000
DTSTAMP:20260421T020619
CREATED:20250824T170834Z
LAST-MODIFIED:20250905T142302Z
UID:10012281-1787745600-1787749200@kcparent.com
SUMMARY:Open Gym
DESCRIPTION:Enjoy the open gym with your toddler. $5. Register at KC360Gym.com \n 
URL:https://kcparent.com/event/open-gym/2026-08-26/
LOCATION:360 Gymnastics\, 431 N. Lindenwood Dr.\, Olathe\, Kansas\, United States
ATTACH;FMTTYPE=image/jpeg:https://kcparent.com/wp-content/uploads/2025/08/opengym360.jpg
END:VEVENT
BEGIN:VEVENT
DTSTART;TZID=America/Denver:20260828T120000
DTEND;TZID=America/Denver:20260828T130000
DTSTAMP:20260421T020619
CREATED:20250824T170834Z
LAST-MODIFIED:20250905T142302Z
UID:10012282-1787918400-1787922000@kcparent.com
SUMMARY:Open Gym
DESCRIPTION:Enjoy the open gym with your toddler. $5. Register at KC360Gym.com \n 
URL:https://kcparent.com/event/open-gym/2026-08-28/
LOCATION:360 Gymnastics\, 431 N. Lindenwood Dr.\, Olathe\, Kansas\, United States
ATTACH;FMTTYPE=image/jpeg:https://kcparent.com/wp-content/uploads/2025/08/opengym360.jpg
END:VEVENT
BEGIN:VEVENT
DTSTART;TZID=America/Denver:20260831T120000
DTEND;TZID=America/Denver:20260831T130000
DTSTAMP:20260421T020619
CREATED:20250824T170834Z
LAST-MODIFIED:20250905T142302Z
UID:10012283-1788177600-1788181200@kcparent.com
SUMMARY:Open Gym
DESCRIPTION:Enjoy the open gym with your toddler. $5. Register at KC360Gym.com \n 
URL:https://kcparent.com/event/open-gym/2026-08-31/
LOCATION:360 Gymnastics\, 431 N. Lindenwood Dr.\, Olathe\, Kansas\, United States
ATTACH;FMTTYPE=image/jpeg:https://kcparent.com/wp-content/uploads/2025/08/opengym360.jpg
END:VEVENT
BEGIN:VEVENT
DTSTART;TZID=America/Denver:20260902T120000
DTEND;TZID=America/Denver:20260902T130000
DTSTAMP:20260421T020619
CREATED:20250824T170834Z
LAST-MODIFIED:20250905T142302Z
UID:10012284-1788350400-1788354000@kcparent.com
SUMMARY:Open Gym
DESCRIPTION:Enjoy the open gym with your toddler. $5. Register at KC360Gym.com \n 
URL:https://kcparent.com/event/open-gym/2026-09-02/
LOCATION:360 Gymnastics\, 431 N. Lindenwood Dr.\, Olathe\, Kansas\, United States
ATTACH;FMTTYPE=image/jpeg:https://kcparent.com/wp-content/uploads/2025/08/opengym360.jpg
END:VEVENT
BEGIN:VEVENT
DTSTART;TZID=America/Denver:20260904T120000
DTEND;TZID=America/Denver:20260904T130000
DTSTAMP:20260421T020619
CREATED:20250824T170834Z
LAST-MODIFIED:20250905T142302Z
UID:10012285-1788523200-1788526800@kcparent.com
SUMMARY:Open Gym
DESCRIPTION:Enjoy the open gym with your toddler. $5. Register at KC360Gym.com \n 
URL:https://kcparent.com/event/open-gym/2026-09-04/
LOCATION:360 Gymnastics\, 431 N. Lindenwood Dr.\, Olathe\, Kansas\, United States
ATTACH;FMTTYPE=image/jpeg:https://kcparent.com/wp-content/uploads/2025/08/opengym360.jpg
END:VEVENT
BEGIN:VEVENT
DTSTART;TZID=America/Denver:20260907T120000
DTEND;TZID=America/Denver:20260907T130000
DTSTAMP:20260421T020619
CREATED:20250824T170834Z
LAST-MODIFIED:20250905T142302Z
UID:10012286-1788782400-1788786000@kcparent.com
SUMMARY:Open Gym
DESCRIPTION:Enjoy the open gym with your toddler. $5. Register at KC360Gym.com \n 
URL:https://kcparent.com/event/open-gym/2026-09-07/
LOCATION:360 Gymnastics\, 431 N. Lindenwood Dr.\, Olathe\, Kansas\, United States
ATTACH;FMTTYPE=image/jpeg:https://kcparent.com/wp-content/uploads/2025/08/opengym360.jpg
END:VEVENT
BEGIN:VEVENT
DTSTART;TZID=America/Denver:20260909T120000
DTEND;TZID=America/Denver:20260909T130000
DTSTAMP:20260421T020619
CREATED:20250824T170834Z
LAST-MODIFIED:20250905T142302Z
UID:10012287-1788955200-1788958800@kcparent.com
SUMMARY:Open Gym
DESCRIPTION:Enjoy the open gym with your toddler. $5. Register at KC360Gym.com \n 
URL:https://kcparent.com/event/open-gym/2026-09-09/
LOCATION:360 Gymnastics\, 431 N. Lindenwood Dr.\, Olathe\, Kansas\, United States
ATTACH;FMTTYPE=image/jpeg:https://kcparent.com/wp-content/uploads/2025/08/opengym360.jpg
END:VEVENT
BEGIN:VEVENT
DTSTART;TZID=America/Denver:20260911T120000
DTEND;TZID=America/Denver:20260911T130000
DTSTAMP:20260421T020619
CREATED:20250824T170834Z
LAST-MODIFIED:20250905T142302Z
UID:10012288-1789128000-1789131600@kcparent.com
SUMMARY:Open Gym
DESCRIPTION:Enjoy the open gym with your toddler. $5. Register at KC360Gym.com \n 
URL:https://kcparent.com/event/open-gym/2026-09-11/
LOCATION:360 Gymnastics\, 431 N. Lindenwood Dr.\, Olathe\, Kansas\, United States
ATTACH;FMTTYPE=image/jpeg:https://kcparent.com/wp-content/uploads/2025/08/opengym360.jpg
END:VEVENT
BEGIN:VEVENT
DTSTART;TZID=America/Denver:20260914T120000
DTEND;TZID=America/Denver:20260914T130000
DTSTAMP:20260421T020619
CREATED:20250824T170834Z
LAST-MODIFIED:20250905T142302Z
UID:10012289-1789387200-1789390800@kcparent.com
SUMMARY:Open Gym
DESCRIPTION:Enjoy the open gym with your toddler. $5. Register at KC360Gym.com \n 
URL:https://kcparent.com/event/open-gym/2026-09-14/
LOCATION:360 Gymnastics\, 431 N. Lindenwood Dr.\, Olathe\, Kansas\, United States
ATTACH;FMTTYPE=image/jpeg:https://kcparent.com/wp-content/uploads/2025/08/opengym360.jpg
END:VEVENT
BEGIN:VEVENT
DTSTART;TZID=America/Denver:20260916T120000
DTEND;TZID=America/Denver:20260916T130000
DTSTAMP:20260421T020619
CREATED:20250824T170834Z
LAST-MODIFIED:20250905T142302Z
UID:10012290-1789560000-1789563600@kcparent.com
SUMMARY:Open Gym
DESCRIPTION:Enjoy the open gym with your toddler. $5. Register at KC360Gym.com \n 
URL:https://kcparent.com/event/open-gym/2026-09-16/
LOCATION:360 Gymnastics\, 431 N. Lindenwood Dr.\, Olathe\, Kansas\, United States
ATTACH;FMTTYPE=image/jpeg:https://kcparent.com/wp-content/uploads/2025/08/opengym360.jpg
END:VEVENT
BEGIN:VEVENT
DTSTART;TZID=America/Denver:20260918T120000
DTEND;TZID=America/Denver:20260918T130000
DTSTAMP:20260421T020619
CREATED:20250824T170834Z
LAST-MODIFIED:20250905T142302Z
UID:10012291-1789732800-1789736400@kcparent.com
SUMMARY:Open Gym
DESCRIPTION:Enjoy the open gym with your toddler. $5. Register at KC360Gym.com \n 
URL:https://kcparent.com/event/open-gym/2026-09-18/
LOCATION:360 Gymnastics\, 431 N. Lindenwood Dr.\, Olathe\, Kansas\, United States
ATTACH;FMTTYPE=image/jpeg:https://kcparent.com/wp-content/uploads/2025/08/opengym360.jpg
END:VEVENT
BEGIN:VEVENT
DTSTART;TZID=America/Denver:20260921T120000
DTEND;TZID=America/Denver:20260921T130000
DTSTAMP:20260421T020619
CREATED:20250824T170834Z
LAST-MODIFIED:20250905T142302Z
UID:10012292-1789992000-1789995600@kcparent.com
SUMMARY:Open Gym
DESCRIPTION:Enjoy the open gym with your toddler. $5. Register at KC360Gym.com \n 
URL:https://kcparent.com/event/open-gym/2026-09-21/
LOCATION:360 Gymnastics\, 431 N. Lindenwood Dr.\, Olathe\, Kansas\, United States
ATTACH;FMTTYPE=image/jpeg:https://kcparent.com/wp-content/uploads/2025/08/opengym360.jpg
END:VEVENT
BEGIN:VEVENT
DTSTART;TZID=America/Denver:20260923T120000
DTEND;TZID=America/Denver:20260923T130000
DTSTAMP:20260421T020619
CREATED:20250824T170834Z
LAST-MODIFIED:20250905T142302Z
UID:10012293-1790164800-1790168400@kcparent.com
SUMMARY:Open Gym
DESCRIPTION:Enjoy the open gym with your toddler. $5. Register at KC360Gym.com \n 
URL:https://kcparent.com/event/open-gym/2026-09-23/
LOCATION:360 Gymnastics\, 431 N. Lindenwood Dr.\, Olathe\, Kansas\, United States
ATTACH;FMTTYPE=image/jpeg:https://kcparent.com/wp-content/uploads/2025/08/opengym360.jpg
END:VEVENT
BEGIN:VEVENT
DTSTART;TZID=America/Denver:20260925T120000
DTEND;TZID=America/Denver:20260925T130000
DTSTAMP:20260421T020619
CREATED:20250824T170834Z
LAST-MODIFIED:20250905T142302Z
UID:10012294-1790337600-1790341200@kcparent.com
SUMMARY:Open Gym
DESCRIPTION:Enjoy the open gym with your toddler. $5. Register at KC360Gym.com \n 
URL:https://kcparent.com/event/open-gym/2026-09-25/
LOCATION:360 Gymnastics\, 431 N. Lindenwood Dr.\, Olathe\, Kansas\, United States
ATTACH;FMTTYPE=image/jpeg:https://kcparent.com/wp-content/uploads/2025/08/opengym360.jpg
END:VEVENT
BEGIN:VEVENT
DTSTART;TZID=America/Denver:20260928T120000
DTEND;TZID=America/Denver:20260928T130000
DTSTAMP:20260421T020619
CREATED:20250824T170834Z
LAST-MODIFIED:20250905T142302Z
UID:10012295-1790596800-1790600400@kcparent.com
SUMMARY:Open Gym
DESCRIPTION:Enjoy the open gym with your toddler. $5. Register at KC360Gym.com \n 
URL:https://kcparent.com/event/open-gym/2026-09-28/
LOCATION:360 Gymnastics\, 431 N. Lindenwood Dr.\, Olathe\, Kansas\, United States
ATTACH;FMTTYPE=image/jpeg:https://kcparent.com/wp-content/uploads/2025/08/opengym360.jpg
END:VEVENT
BEGIN:VEVENT
DTSTART;TZID=America/Denver:20260930T120000
DTEND;TZID=America/Denver:20260930T130000
DTSTAMP:20260421T020619
CREATED:20250824T170834Z
LAST-MODIFIED:20250905T142302Z
UID:10012296-1790769600-1790773200@kcparent.com
SUMMARY:Open Gym
DESCRIPTION:Enjoy the open gym with your toddler. $5. Register at KC360Gym.com \n 
URL:https://kcparent.com/event/open-gym/2026-09-30/
LOCATION:360 Gymnastics\, 431 N. Lindenwood Dr.\, Olathe\, Kansas\, United States
ATTACH;FMTTYPE=image/jpeg:https://kcparent.com/wp-content/uploads/2025/08/opengym360.jpg
END:VEVENT
BEGIN:VEVENT
DTSTART;TZID=America/Denver:20261002T120000
DTEND;TZID=America/Denver:20261002T130000
DTSTAMP:20260421T020619
CREATED:20250824T170834Z
LAST-MODIFIED:20250905T142302Z
UID:10012297-1790942400-1790946000@kcparent.com
SUMMARY:Open Gym
DESCRIPTION:Enjoy the open gym with your toddler. $5. Register at KC360Gym.com \n 
URL:https://kcparent.com/event/open-gym/2026-10-02/
LOCATION:360 Gymnastics\, 431 N. Lindenwood Dr.\, Olathe\, Kansas\, United States
ATTACH;FMTTYPE=image/jpeg:https://kcparent.com/wp-content/uploads/2025/08/opengym360.jpg
END:VEVENT
BEGIN:VEVENT
DTSTART;TZID=America/Denver:20261005T120000
DTEND;TZID=America/Denver:20261005T130000
DTSTAMP:20260421T020619
CREATED:20250824T170834Z
LAST-MODIFIED:20250905T142302Z
UID:10012298-1791201600-1791205200@kcparent.com
SUMMARY:Open Gym
DESCRIPTION:Enjoy the open gym with your toddler. $5. Register at KC360Gym.com \n 
URL:https://kcparent.com/event/open-gym/2026-10-05/
LOCATION:360 Gymnastics\, 431 N. Lindenwood Dr.\, Olathe\, Kansas\, United States
ATTACH;FMTTYPE=image/jpeg:https://kcparent.com/wp-content/uploads/2025/08/opengym360.jpg
END:VEVENT
BEGIN:VEVENT
DTSTART;TZID=America/Denver:20261007T120000
DTEND;TZID=America/Denver:20261007T130000
DTSTAMP:20260421T020619
CREATED:20250824T170834Z
LAST-MODIFIED:20250905T142302Z
UID:10012299-1791374400-1791378000@kcparent.com
SUMMARY:Open Gym
DESCRIPTION:Enjoy the open gym with your toddler. $5. Register at KC360Gym.com \n 
URL:https://kcparent.com/event/open-gym/2026-10-07/
LOCATION:360 Gymnastics\, 431 N. Lindenwood Dr.\, Olathe\, Kansas\, United States
ATTACH;FMTTYPE=image/jpeg:https://kcparent.com/wp-content/uploads/2025/08/opengym360.jpg
END:VEVENT
BEGIN:VEVENT
DTSTART;TZID=America/Denver:20261009T120000
DTEND;TZID=America/Denver:20261009T130000
DTSTAMP:20260421T020619
CREATED:20250824T170834Z
LAST-MODIFIED:20250905T142302Z
UID:10012300-1791547200-1791550800@kcparent.com
SUMMARY:Open Gym
DESCRIPTION:Enjoy the open gym with your toddler. $5. Register at KC360Gym.com \n 
URL:https://kcparent.com/event/open-gym/2026-10-09/
LOCATION:360 Gymnastics\, 431 N. Lindenwood Dr.\, Olathe\, Kansas\, United States
ATTACH;FMTTYPE=image/jpeg:https://kcparent.com/wp-content/uploads/2025/08/opengym360.jpg
END:VEVENT
BEGIN:VEVENT
DTSTART;TZID=America/Denver:20261012T120000
DTEND;TZID=America/Denver:20261012T130000
DTSTAMP:20260421T020619
CREATED:20250824T170834Z
LAST-MODIFIED:20250905T142302Z
UID:10012301-1791806400-1791810000@kcparent.com
SUMMARY:Open Gym
DESCRIPTION:Enjoy the open gym with your toddler. $5. Register at KC360Gym.com \n 
URL:https://kcparent.com/event/open-gym/2026-10-12/
LOCATION:360 Gymnastics\, 431 N. Lindenwood Dr.\, Olathe\, Kansas\, United States
ATTACH;FMTTYPE=image/jpeg:https://kcparent.com/wp-content/uploads/2025/08/opengym360.jpg
END:VEVENT
BEGIN:VEVENT
DTSTART;TZID=America/Denver:20261014T120000
DTEND;TZID=America/Denver:20261014T130000
DTSTAMP:20260421T020619
CREATED:20250824T170834Z
LAST-MODIFIED:20250905T142302Z
UID:10012302-1791979200-1791982800@kcparent.com
SUMMARY:Open Gym
DESCRIPTION:Enjoy the open gym with your toddler. $5. Register at KC360Gym.com \n 
URL:https://kcparent.com/event/open-gym/2026-10-14/
LOCATION:360 Gymnastics\, 431 N. Lindenwood Dr.\, Olathe\, Kansas\, United States
ATTACH;FMTTYPE=image/jpeg:https://kcparent.com/wp-content/uploads/2025/08/opengym360.jpg
END:VEVENT
BEGIN:VEVENT
DTSTART;TZID=America/Denver:20261016T120000
DTEND;TZID=America/Denver:20261016T130000
DTSTAMP:20260421T020619
CREATED:20250824T170834Z
LAST-MODIFIED:20250905T142302Z
UID:10012303-1792152000-1792155600@kcparent.com
SUMMARY:Open Gym
DESCRIPTION:Enjoy the open gym with your toddler. $5. Register at KC360Gym.com \n 
URL:https://kcparent.com/event/open-gym/2026-10-16/
LOCATION:360 Gymnastics\, 431 N. Lindenwood Dr.\, Olathe\, Kansas\, United States
ATTACH;FMTTYPE=image/jpeg:https://kcparent.com/wp-content/uploads/2025/08/opengym360.jpg
END:VEVENT
BEGIN:VEVENT
DTSTART;TZID=America/Denver:20261019T120000
DTEND;TZID=America/Denver:20261019T130000
DTSTAMP:20260421T020619
CREATED:20250824T170834Z
LAST-MODIFIED:20250905T142302Z
UID:10012304-1792411200-1792414800@kcparent.com
SUMMARY:Open Gym
DESCRIPTION:Enjoy the open gym with your toddler. $5. Register at KC360Gym.com \n 
URL:https://kcparent.com/event/open-gym/2026-10-19/
LOCATION:360 Gymnastics\, 431 N. Lindenwood Dr.\, Olathe\, Kansas\, United States
ATTACH;FMTTYPE=image/jpeg:https://kcparent.com/wp-content/uploads/2025/08/opengym360.jpg
END:VEVENT
END:VCALENDAR