BEGIN:VCALENDAR
VERSION:2.0
PRODID:-//KC Parent - ECPv6.15.18//NONSGML v1.0//EN
CALSCALE:GREGORIAN
METHOD:PUBLISH
X-WR-CALNAME:KC Parent
X-ORIGINAL-URL:https://kcparent.com
X-WR-CALDESC:Events for KC Parent
REFRESH-INTERVAL;VALUE=DURATION:PT1H
X-Robots-Tag:noindex
X-PUBLISHED-TTL:PT1H
BEGIN:VTIMEZONE
TZID:America/Denver
BEGIN:DAYLIGHT
TZOFFSETFROM:-0700
TZOFFSETTO:-0600
TZNAME:MDT
DTSTART:20250309T090000
END:DAYLIGHT
BEGIN:STANDARD
TZOFFSETFROM:-0600
TZOFFSETTO:-0700
TZNAME:MST
DTSTART:20251102T080000
END:STANDARD
BEGIN:DAYLIGHT
TZOFFSETFROM:-0700
TZOFFSETTO:-0600
TZNAME:MDT
DTSTART:20260308T090000
END:DAYLIGHT
BEGIN:STANDARD
TZOFFSETFROM:-0600
TZOFFSETTO:-0700
TZNAME:MST
DTSTART:20261101T080000
END:STANDARD
BEGIN:DAYLIGHT
TZOFFSETFROM:-0700
TZOFFSETTO:-0600
TZNAME:MDT
DTSTART:20270314T090000
END:DAYLIGHT
BEGIN:STANDARD
TZOFFSETFROM:-0600
TZOFFSETTO:-0700
TZNAME:MST
DTSTART:20271107T080000
END:STANDARD
END:VTIMEZONE
BEGIN:VEVENT
DTSTART;TZID=America/Denver:20260403T183000
DTEND;TZID=America/Denver:20260403T193000
DTSTAMP:20260419T083014
CREATED:20260330T033622Z
LAST-MODIFIED:20260330T033622Z
UID:10025009-1775241000-1775244600@kcparent.com
SUMMARY:Christ's Passion
DESCRIPTION:Join us for “Christ’s Passion: His Final Hours\,” a powerful service that brings together the events of Maundy Thursday and Good Friday. This service guides us through Jesus’ last night with his disciples\, his arrest in Gethsemane\, his trial\, and his crucifixion. Through scripture\, song\, and prayer\, we will experience the depth of Christ’s love and the sacrifice of the cross\, as we walk with our Lord through these decisive hours that changed the world. \nService Locations & Times: \n\nLeawood (Foundry): Thursday\, Apr. 2 | 6:30 PM or Fri. Apr. 3 | 6:30 PM\nAll Other Locations: Thursday Apr. 2 | 6:30 PM\nOnline: Friday\, Apr. 3 | 6:30 PM
URL:https://kcparent.com/event/christs-passion/2026-04-03/
LOCATION:All Resurrection Churches
ATTACH;FMTTYPE=image/webp:https://kcparent.com/wp-content/uploads/2026/03/christ.webp
END:VEVENT
BEGIN:VEVENT
DTSTART;TZID=America/Denver:20260402T183000
DTEND;TZID=America/Denver:20260402T193000
DTSTAMP:20260419T083014
CREATED:20260330T033622Z
LAST-MODIFIED:20260330T033622Z
UID:10025008-1775154600-1775158200@kcparent.com
SUMMARY:Christ's Passion
DESCRIPTION:Join us for “Christ’s Passion: His Final Hours\,” a powerful service that brings together the events of Maundy Thursday and Good Friday. This service guides us through Jesus’ last night with his disciples\, his arrest in Gethsemane\, his trial\, and his crucifixion. Through scripture\, song\, and prayer\, we will experience the depth of Christ’s love and the sacrifice of the cross\, as we walk with our Lord through these decisive hours that changed the world. \nService Locations & Times: \n\nLeawood (Foundry): Thursday\, Apr. 2 | 6:30 PM or Fri. Apr. 3 | 6:30 PM\nAll Other Locations: Thursday Apr. 2 | 6:30 PM\nOnline: Friday\, Apr. 3 | 6:30 PM
URL:https://kcparent.com/event/christs-passion/2026-04-02/
LOCATION:All Resurrection Churches
ATTACH;FMTTYPE=image/webp:https://kcparent.com/wp-content/uploads/2026/03/christ.webp
END:VEVENT
BEGIN:VEVENT
DTSTART;TZID=America/Denver:20260329T110000
DTEND;TZID=America/Denver:20260329T130000
DTSTAMP:20260419T083014
CREATED:20260309T212316Z
LAST-MODIFIED:20260309T212316Z
UID:10023751-1774782000-1774789200@kcparent.com
SUMMARY:Easter Egg-Venture
DESCRIPTION:Hop on over to your Resurrection location on Saturday\, March 28 for our egg-citing Easter Egg-Venture! This FREE\, family-friendly celebration features an egg hunt\, meaningful crafts\, and engaging activities that everyone will enjoy. Bring your basket and invite your friends to join in the fun. No registration necessary to attend! \nSaturday\, March 28 \n10 AM to Noon | Leawood\, Downtown\, Overland Park\, Brookside\, Lee’s Summit \n2 – 4 PM | West\, Blue Springs\, Spring Hill \nSunday\, March 29 \nAfter 10 AM worship | Liberty
URL:https://kcparent.com/event/easter-egg-venture-3/2026-03-29/
LOCATION:All Resurrection Churches
ATTACH;FMTTYPE=image/jpeg:https://kcparent.com/wp-content/uploads/2026/03/egg-scaled.jpg
END:VEVENT
BEGIN:VEVENT
DTSTART;TZID=America/Denver:20260328T140000
DTEND;TZID=America/Denver:20260328T160000
DTSTAMP:20260419T083014
CREATED:20260309T212316Z
LAST-MODIFIED:20260309T212316Z
UID:10023750-1774706400-1774713600@kcparent.com
SUMMARY:Easter Egg-Venture
DESCRIPTION:Hop on over to your Resurrection location on Saturday\, March 28 for our egg-citing Easter Egg-Venture! This FREE\, family-friendly celebration features an egg hunt\, meaningful crafts\, and engaging activities that everyone will enjoy. Bring your basket and invite your friends to join in the fun. No registration necessary to attend! \nSaturday\, March 28 \n10 AM to Noon | Leawood\, Downtown\, Overland Park\, Brookside\, Lee’s Summit \n2 – 4 PM | West\, Blue Springs\, Spring Hill \nSunday\, March 29 \nAfter 10 AM worship | Liberty
URL:https://kcparent.com/event/easter-egg-venture-3/2026-03-28/2/
LOCATION:All Resurrection Churches
ATTACH;FMTTYPE=image/jpeg:https://kcparent.com/wp-content/uploads/2026/03/egg-scaled.jpg
END:VEVENT
BEGIN:VEVENT
DTSTART;TZID=America/Denver:20260328T100000
DTEND;TZID=America/Denver:20260328T120000
DTSTAMP:20260419T083014
CREATED:20260309T212316Z
LAST-MODIFIED:20260309T212316Z
UID:10023749-1774692000-1774699200@kcparent.com
SUMMARY:Easter Egg-Venture
DESCRIPTION:Hop on over to your Resurrection location on Saturday\, March 28 for our egg-citing Easter Egg-Venture! This FREE\, family-friendly celebration features an egg hunt\, meaningful crafts\, and engaging activities that everyone will enjoy. Bring your basket and invite your friends to join in the fun. No registration necessary to attend! \nSaturday\, March 28 \n10 AM to Noon | Leawood\, Downtown\, Overland Park\, Brookside\, Lee’s Summit \n2 – 4 PM | West\, Blue Springs\, Spring Hill \nSunday\, March 29 \nAfter 10 AM worship | Liberty
URL:https://kcparent.com/event/easter-egg-venture-3/2026-03-28/1/
LOCATION:All Resurrection Churches
ATTACH;FMTTYPE=image/jpeg:https://kcparent.com/wp-content/uploads/2026/03/egg-scaled.jpg
END:VEVENT
END:VCALENDAR