BEGIN:VCALENDAR
VERSION:2.0
PRODID:-//KC Parent - ECPv6.15.18//NONSGML v1.0//EN
CALSCALE:GREGORIAN
METHOD:PUBLISH
X-ORIGINAL-URL:https://kcparent.com
X-WR-CALDESC:Events for KC Parent
REFRESH-INTERVAL;VALUE=DURATION:PT1H
X-Robots-Tag:noindex
X-PUBLISHED-TTL:PT1H
BEGIN:VTIMEZONE
TZID:America/Denver
BEGIN:DAYLIGHT
TZOFFSETFROM:-0700
TZOFFSETTO:-0600
TZNAME:MDT
DTSTART:20240310T090000
END:DAYLIGHT
BEGIN:STANDARD
TZOFFSETFROM:-0600
TZOFFSETTO:-0700
TZNAME:MST
DTSTART:20241103T080000
END:STANDARD
BEGIN:DAYLIGHT
TZOFFSETFROM:-0700
TZOFFSETTO:-0600
TZNAME:MDT
DTSTART:20250309T090000
END:DAYLIGHT
BEGIN:STANDARD
TZOFFSETFROM:-0600
TZOFFSETTO:-0700
TZNAME:MST
DTSTART:20251102T080000
END:STANDARD
BEGIN:DAYLIGHT
TZOFFSETFROM:-0700
TZOFFSETTO:-0600
TZNAME:MDT
DTSTART:20260308T090000
END:DAYLIGHT
BEGIN:STANDARD
TZOFFSETFROM:-0600
TZOFFSETTO:-0700
TZNAME:MST
DTSTART:20261101T080000
END:STANDARD
END:VTIMEZONE
BEGIN:VEVENT
DTSTART;TZID=America/Denver:20251018T130000
DTEND;TZID=America/Denver:20251018T143000
DTSTAMP:20260424T040919
CREATED:20250925T163951Z
LAST-MODIFIED:20250925T163951Z
UID:10015190-1760792400-1760797800@kcparent.com
SUMMARY:Monsters\, Mummies and Mutts
DESCRIPTION:Join us for a HOWL-ing good time at the Blue Springs Dog Park! Monsters\, Mummies and Mutts invites all dog lovers to bring their furry friends for an afternoon of spooky fun. Dress up your pup in their best costume and enjoy activities like the costume contest and trick-or-treat trail. There will be prizes\, treats and plenty of opportunities for your dog(s) to socialize and play. The small dog costume contest begins at 1:30 p.m. and the large dog costume contest begins at 1:45 p.m. This is a free event!
URL:https://kcparent.com/event/monsters-mummies-and-mutts/
LOCATION:Blue Springs Dog Park\, 1049 NE 20th St.\, Blue Springs\, Missouri\, 64015\, United States
ATTACH;FMTTYPE=image/png:https://kcparent.com/wp-content/uploads/2025/09/Screenshot-2025-09-25-at-11.34.51-AM.png
END:VEVENT
END:VCALENDAR