BEGIN:VCALENDAR
VERSION:2.0
PRODID:-//KC Parent - ECPv6.15.18//NONSGML v1.0//EN
CALSCALE:GREGORIAN
METHOD:PUBLISH
X-ORIGINAL-URL:https://kcparent.com
X-WR-CALDESC:Events for KC Parent
REFRESH-INTERVAL;VALUE=DURATION:PT1H
X-Robots-Tag:noindex
X-PUBLISHED-TTL:PT1H
BEGIN:VTIMEZONE
TZID:America/Denver
BEGIN:DAYLIGHT
TZOFFSETFROM:-0700
TZOFFSETTO:-0600
TZNAME:MDT
DTSTART:20240310T090000
END:DAYLIGHT
BEGIN:STANDARD
TZOFFSETFROM:-0600
TZOFFSETTO:-0700
TZNAME:MST
DTSTART:20241103T080000
END:STANDARD
BEGIN:DAYLIGHT
TZOFFSETFROM:-0700
TZOFFSETTO:-0600
TZNAME:MDT
DTSTART:20250309T090000
END:DAYLIGHT
BEGIN:STANDARD
TZOFFSETFROM:-0600
TZOFFSETTO:-0700
TZNAME:MST
DTSTART:20251102T080000
END:STANDARD
BEGIN:DAYLIGHT
TZOFFSETFROM:-0700
TZOFFSETTO:-0600
TZNAME:MDT
DTSTART:20260308T090000
END:DAYLIGHT
BEGIN:STANDARD
TZOFFSETFROM:-0600
TZOFFSETTO:-0700
TZNAME:MST
DTSTART:20261101T080000
END:STANDARD
END:VTIMEZONE
BEGIN:VEVENT
DTSTART;TZID=America/Denver:20251122T100000
DTEND;TZID=America/Denver:20251122T110000
DTSTAMP:20260421T195859
CREATED:20251107T182322Z
LAST-MODIFIED:20251107T182322Z
UID:10016180-1763805600-1763809200@kcparent.com
SUMMARY:Conservation Families: Nature Gratitude Hunt
DESCRIPTION:What nature are you most thankful for? Search the trails near the Nature Center to find hidden “pumpkins” of knowledge about special things only the natural world can do for us. Collect four gratitude pumpkins to redeem for a special prize. Program will be all outdoors\, weather permitting. If wind chill gets below 25 degrees or if there is rain/sleet program will be cancelled. \n 
URL:https://kcparent.com/event/conservation-families-nature-gratitude-hunt/
LOCATION:Burr Oak Woods Nature Center\, 1401 NW Park Rd.\, Blue Springs\, Missouri\, United States
ATTACH;FMTTYPE=image/jpeg:https://kcparent.com/wp-content/uploads/2025/11/8-Brickyard-HillWeb.jpg
END:VEVENT
BEGIN:VEVENT
DTSTART;TZID=America/Denver:20251119T100000
DTEND;TZID=America/Denver:20251119T110000
DTSTAMP:20260421T195859
CREATED:20251107T182216Z
LAST-MODIFIED:20251107T182216Z
UID:10016179-1763546400-1763550000@kcparent.com
SUMMARY:Little Acorns: Leaf Printing
DESCRIPTION:Little Acorns unite to celebrate the season of the leaf! Leaves come in all shapes and sizes. They come from one of the most important organisms in Missouri\, trees! There may be thousands of different species of trees of which we will explore only a handful. Come learn and play at Burr Oak Woods Nature Center! \nAll registrants for this event must be between 3 and 5 years of age by 11/19/2025. \n 
URL:https://kcparent.com/event/little-acorns-leaf-printing/
LOCATION:Burr Oak Woods Nature Center\, 1401 NW Park Rd.\, Blue Springs\, Missouri\, United States
ATTACH;FMTTYPE=image/avif:https://kcparent.com/wp-content/uploads/2025/11/jpeg-web-three-creek-ca-0122_crop.avif
END:VEVENT
BEGIN:VEVENT
DTSTART;TZID=America/Denver:20251112T100000
DTEND;TZID=America/Denver:20251112T110000
DTSTAMP:20260421T195859
CREATED:20251107T181917Z
LAST-MODIFIED:20251107T181917Z
UID:10016178-1762941600-1762945200@kcparent.com
SUMMARY:Babes in the Woods: Fall Scavenger Hunt Hike
DESCRIPTION:Fall can be a great time to explore habitats. Bring your little one to a fun scavenger hike in the colorful fall forest of Burr Oak Woods. Adventure with a naturalist or on your own. \nAll registrants for this event must be between 0 and 3 years of age by 11/12/2025. \n 
URL:https://kcparent.com/event/babes-in-the-woods-fall-scavenger-hunt-hike/
LOCATION:Burr Oak Woods Nature Center\, 1401 NW Park Rd.\, Blue Springs\, Missouri\, United States
ATTACH;FMTTYPE=image/jpeg:https://kcparent.com/wp-content/uploads/2025/11/8-Brickyard-HillWeb.jpg
END:VEVENT
BEGIN:VEVENT
DTSTART;TZID=America/Denver:20250829T140000
DTEND;TZID=America/Denver:20250829T150000
DTSTAMP:20260421T195859
CREATED:20250730T212628Z
LAST-MODIFIED:20250801T140720Z
UID:10003433-1756476000-1756479600@kcparent.com
SUMMARY:Critter Feeding
DESCRIPTION:Discover what’s for dinner at Burr Oak Woods as the captive amphibians\, fish\, and turtles enjoy their feast every Tuesday and Friday. The snakes are fed on the second and fourth Wednesday.
URL:https://kcparent.com/event/critter-feeding-58/
LOCATION:Burr Oak Woods Nature Center\, 1401 NW Park Rd.\, Blue Springs\, Missouri\, United States
CATEGORIES:Class or Workshop,FREE,Indoor
END:VEVENT
BEGIN:VEVENT
DTSTART;TZID=America/Denver:20250827T140000
DTEND;TZID=America/Denver:20250827T150000
DTSTAMP:20260421T195859
CREATED:20250730T212434Z
LAST-MODIFIED:20250801T140722Z
UID:10003410-1756303200-1756306800@kcparent.com
SUMMARY:Snake Feeding
DESCRIPTION:Discover what’s for dinner at Burr Oak Woods as the captive amphibians\, fish\, and turtles enjoy their feast every Tuesday and Friday. The snakes are fed on the second and fourth Wednesday.
URL:https://kcparent.com/event/snake-feeding-15/
LOCATION:Burr Oak Woods Nature Center\, 1401 NW Park Rd.\, Blue Springs\, Missouri\, United States
CATEGORIES:Class or Workshop,FREE,Indoor
END:VEVENT
BEGIN:VEVENT
DTSTART;TZID=America/Denver:20250826T140000
DTEND;TZID=America/Denver:20250826T150000
DTSTAMP:20260421T195859
CREATED:20250730T212628Z
LAST-MODIFIED:20250801T140720Z
UID:10003400-1756216800-1756220400@kcparent.com
SUMMARY:Critter Feeding
DESCRIPTION:Discover what’s for dinner at Burr Oak Woods as the captive amphibians\, fish\, and turtles enjoy their feast every Tuesday and Friday. The snakes are fed on the second and fourth Wednesday.
URL:https://kcparent.com/event/critter-feeding-59/
LOCATION:Burr Oak Woods Nature Center\, 1401 NW Park Rd.\, Blue Springs\, Missouri\, United States
CATEGORIES:Class or Workshop,FREE,Indoor
END:VEVENT
BEGIN:VEVENT
DTSTART;TZID=America/Denver:20250822T140000
DTEND;TZID=America/Denver:20250822T150000
DTSTAMP:20260421T195859
CREATED:20250730T212629Z
LAST-MODIFIED:20250801T140719Z
UID:10003356-1755871200-1755874800@kcparent.com
SUMMARY:Critter Feeding
DESCRIPTION:Discover what’s for dinner at Burr Oak Woods as the captive amphibians\, fish\, and turtles enjoy their feast every Tuesday and Friday. The snakes are fed on the second and fourth Wednesday.
URL:https://kcparent.com/event/critter-feeding-60/
LOCATION:Burr Oak Woods Nature Center\, 1401 NW Park Rd.\, Blue Springs\, Missouri\, United States
CATEGORIES:Class or Workshop,FREE,Indoor
END:VEVENT
BEGIN:VEVENT
DTSTART;TZID=America/Denver:20250819T140000
DTEND;TZID=America/Denver:20250819T150000
DTSTAMP:20260421T195859
CREATED:20250730T212630Z
LAST-MODIFIED:20250801T140718Z
UID:10003319-1755612000-1755615600@kcparent.com
SUMMARY:Critter Feeding
DESCRIPTION:Discover what’s for dinner at Burr Oak Woods as the captive amphibians\, fish\, and turtles enjoy their feast every Tuesday and Friday. The snakes are fed on the second and fourth Wednesday.
URL:https://kcparent.com/event/critter-feeding-61/
LOCATION:Burr Oak Woods Nature Center\, 1401 NW Park Rd.\, Blue Springs\, Missouri\, United States
CATEGORIES:Class or Workshop,FREE,Indoor
END:VEVENT
BEGIN:VEVENT
DTSTART;TZID=America/Denver:20250815T140000
DTEND;TZID=America/Denver:20250815T150000
DTSTAMP:20260421T195859
CREATED:20250730T212630Z
LAST-MODIFIED:20250801T140717Z
UID:10003263-1755266400-1755270000@kcparent.com
SUMMARY:Critter Feeding
DESCRIPTION:Discover what’s for dinner at Burr Oak Woods as the captive amphibians\, fish\, and turtles enjoy their feast every Tuesday and Friday. The snakes are fed on the second and fourth Wednesday.
URL:https://kcparent.com/event/critter-feeding-62/
LOCATION:Burr Oak Woods Nature Center\, 1401 NW Park Rd.\, Blue Springs\, Missouri\, United States
CATEGORIES:Class or Workshop,FREE,Indoor
END:VEVENT
BEGIN:VEVENT
DTSTART;TZID=America/Denver:20250813T140000
DTEND;TZID=America/Denver:20250813T150000
DTSTAMP:20260421T195859
CREATED:20250730T212436Z
LAST-MODIFIED:20250801T140721Z
UID:10003237-1755093600-1755097200@kcparent.com
SUMMARY:Snake Feeding
DESCRIPTION:Discover what’s for dinner at Burr Oak Woods as the captive amphibians\, fish\, and turtles enjoy their feast every Tuesday and Friday. The snakes are fed on the second and fourth Wednesday.
URL:https://kcparent.com/event/snake-feeding-16/
LOCATION:Burr Oak Woods Nature Center\, 1401 NW Park Rd.\, Blue Springs\, Missouri\, United States
CATEGORIES:Class or Workshop,FREE,Indoor
END:VEVENT
BEGIN:VEVENT
DTSTART;TZID=America/Denver:20250812T140000
DTEND;TZID=America/Denver:20250812T150000
DTSTAMP:20260421T195859
CREATED:20250730T212632Z
LAST-MODIFIED:20250801T140716Z
UID:10003222-1755007200-1755010800@kcparent.com
SUMMARY:Critter Feeding
DESCRIPTION:Discover what’s for dinner at Burr Oak Woods as the captive amphibians\, fish\, and turtles enjoy their feast every Tuesday and Friday. The snakes are fed on the second and fourth Wednesday.
URL:https://kcparent.com/event/critter-feeding-64/
LOCATION:Burr Oak Woods Nature Center\, 1401 NW Park Rd.\, Blue Springs\, Missouri\, United States
CATEGORIES:Class or Workshop,FREE,Indoor
END:VEVENT
BEGIN:VEVENT
DTSTART;TZID=America/Denver:20250808T140000
DTEND;TZID=America/Denver:20250808T150000
DTSTAMP:20260421T195859
CREATED:20250730T212631Z
LAST-MODIFIED:20250801T140715Z
UID:10003162-1754661600-1754665200@kcparent.com
SUMMARY:Critter Feeding
DESCRIPTION:Discover what’s for dinner at Burr Oak Woods as the captive amphibians\, fish\, and turtles enjoy their feast every Tuesday and Friday. The snakes are fed on the second and fourth Wednesday.
URL:https://kcparent.com/event/critter-feeding-63/
LOCATION:Burr Oak Woods Nature Center\, 1401 NW Park Rd.\, Blue Springs\, Missouri\, United States
CATEGORIES:Class or Workshop,FREE,Indoor
END:VEVENT
BEGIN:VEVENT
DTSTART;TZID=America/Denver:20250805T140000
DTEND;TZID=America/Denver:20250805T150000
DTSTAMP:20260421T195859
CREATED:20250730T212632Z
LAST-MODIFIED:20250801T140714Z
UID:10003113-1754402400-1754406000@kcparent.com
SUMMARY:Critter Feeding
DESCRIPTION:Discover what’s for dinner at Burr Oak Woods as the captive amphibians\, fish\, and turtles enjoy their feast every Tuesday and Friday. The snakes are fed on the second and fourth Wednesday.
URL:https://kcparent.com/event/critter-feeding-65/
LOCATION:Burr Oak Woods Nature Center\, 1401 NW Park Rd.\, Blue Springs\, Missouri\, United States
CATEGORIES:Class or Workshop,FREE,Indoor
END:VEVENT
BEGIN:VEVENT
DTSTART;TZID=America/Denver:20250801T140000
DTEND;TZID=America/Denver:20250801T150000
DTSTAMP:20260421T195859
CREATED:20250730T212633Z
LAST-MODIFIED:20250801T140712Z
UID:10003038-1754056800-1754060400@kcparent.com
SUMMARY:Critter Feeding
DESCRIPTION:Discover what’s for dinner at Burr Oak Woods as the captive amphibians\, fish\, and turtles enjoy their feast every Tuesday and Friday. The snakes are fed on the second and fourth Wednesday.
URL:https://kcparent.com/event/critter-feeding-66/
LOCATION:Burr Oak Woods Nature Center\, 1401 NW Park Rd.\, Blue Springs\, Missouri\, United States
CATEGORIES:Class or Workshop,FREE,Indoor
END:VEVENT
BEGIN:VEVENT
DTSTART;TZID=America/Denver:20250606T103000
DTEND;TZID=America/Denver:20250606T120000
DTSTAMP:20260421T195859
CREATED:20220810T202550Z
LAST-MODIFIED:20250621T164221Z
UID:10000479-1749205800-1749211200@kcparent.com
SUMMARY:Creative Storytime
DESCRIPTION:Do you have a pre-schooler that just LOVES TO PAINT? Ceramic Cafe offers a fun story and paint time every Friday. We read a book\, then the kids get to paint a ceramic item that goes along with the story and finish with a snack. What a deal and a fun way to share a creative activity with a little one.  We start at 10:30 on Fridays. No reservations needed unless you want to come with a large group.  
URL:https://kcparent.com/event/creative-storytime-23/
LOCATION:Burr Oak Woods Nature Center\, 1401 NW Park Rd.\, Blue Springs\, Missouri\, United States
CATEGORIES:Accessible,Class or Workshop,Story Time
END:VEVENT
BEGIN:VEVENT
DTSTART;TZID=America/Denver:20250603T140000
DTEND;TZID=America/Denver:20250603T150000
DTSTAMP:20260421T195859
CREATED:20231227T173304Z
LAST-MODIFIED:20250621T164252Z
UID:10000523-1748959200-1748962800@kcparent.com
SUMMARY:Critter Feeding
DESCRIPTION:Discover what’s for dinner at Burr Oak Woods as the captive amphibians\, fish\, and turtles enjoy their feast every Tuesday and Friday. The snakes are fed on the second and fourth Wednesday.
URL:https://kcparent.com/event/critter-feeding-44/
LOCATION:Burr Oak Woods Nature Center\, 1401 NW Park Rd.\, Blue Springs\, Missouri\, United States
CATEGORIES:Accessible,Class or Workshop,FREE,Indoor
END:VEVENT
BEGIN:VEVENT
DTSTART;TZID=America/Denver:20250530T140000
DTEND;TZID=America/Denver:20250530T150000
DTSTAMP:20260421T195859
CREATED:20231227T173304Z
LAST-MODIFIED:20250621T164251Z
UID:10000522-1748613600-1748617200@kcparent.com
SUMMARY:Critter Feeding
DESCRIPTION:Discover what’s for dinner at Burr Oak Woods as the captive amphibians\, fish\, and turtles enjoy their feast every Tuesday and Friday. The snakes are fed on the second and fourth Wednesday.
URL:https://kcparent.com/event/critter-feeding-43/
LOCATION:Burr Oak Woods Nature Center\, 1401 NW Park Rd.\, Blue Springs\, Missouri\, United States
CATEGORIES:Accessible,Class or Workshop,FREE,Indoor
END:VEVENT
BEGIN:VEVENT
DTSTART;TZID=America/Denver:20250527T140000
DTEND;TZID=America/Denver:20250527T150000
DTSTAMP:20260421T195859
CREATED:20231227T173304Z
LAST-MODIFIED:20250621T164250Z
UID:10000521-1748354400-1748358000@kcparent.com
SUMMARY:Critter Feeding
DESCRIPTION:Discover what’s for dinner at Burr Oak Woods as the captive amphibians\, fish\, and turtles enjoy their feast every Tuesday and Friday. The snakes are fed on the second and fourth Wednesday.
URL:https://kcparent.com/event/critter-feeding-42/
LOCATION:Burr Oak Woods Nature Center\, 1401 NW Park Rd.\, Blue Springs\, Missouri\, United States
CATEGORIES:Accessible,Class or Workshop,FREE,Indoor
END:VEVENT
BEGIN:VEVENT
DTSTART;TZID=America/Denver:20250523T140000
DTEND;TZID=America/Denver:20250523T150000
DTSTAMP:20260421T195859
CREATED:20231227T173304Z
LAST-MODIFIED:20250621T164250Z
UID:10000520-1748008800-1748012400@kcparent.com
SUMMARY:Critter Feeding
DESCRIPTION:Discover what’s for dinner at Burr Oak Woods as the captive amphibians\, fish\, and turtles enjoy their feast every Tuesday and Friday. The snakes are fed on the second and fourth Wednesday.
URL:https://kcparent.com/event/critter-feeding-41/
LOCATION:Burr Oak Woods Nature Center\, 1401 NW Park Rd.\, Blue Springs\, Missouri\, United States
CATEGORIES:Accessible,Class or Workshop,FREE,Indoor
END:VEVENT
BEGIN:VEVENT
DTSTART;TZID=America/Denver:20250520T140000
DTEND;TZID=America/Denver:20250520T150000
DTSTAMP:20260421T195859
CREATED:20231227T173304Z
LAST-MODIFIED:20250621T164249Z
UID:10000519-1747749600-1747753200@kcparent.com
SUMMARY:Critter Feeding
DESCRIPTION:Discover what’s for dinner at Burr Oak Woods as the captive amphibians\, fish\, and turtles enjoy their feast every Tuesday and Friday. The snakes are fed on the second and fourth Wednesday.
URL:https://kcparent.com/event/critter-feeding-40/
LOCATION:Burr Oak Woods Nature Center\, 1401 NW Park Rd.\, Blue Springs\, Missouri\, United States
CATEGORIES:Accessible,Class or Workshop,FREE,Indoor
END:VEVENT
BEGIN:VEVENT
DTSTART;TZID=America/Denver:20250516T140000
DTEND;TZID=America/Denver:20250516T150000
DTSTAMP:20260421T195859
CREATED:20231227T173304Z
LAST-MODIFIED:20250621T164249Z
UID:10000518-1747404000-1747407600@kcparent.com
SUMMARY:Critter Feeding
DESCRIPTION:Discover what’s for dinner at Burr Oak Woods as the captive amphibians\, fish\, and turtles enjoy their feast every Tuesday and Friday. The snakes are fed on the second and fourth Wednesday.
URL:https://kcparent.com/event/critter-feeding-39/
LOCATION:Burr Oak Woods Nature Center\, 1401 NW Park Rd.\, Blue Springs\, Missouri\, United States
CATEGORIES:Accessible,Class or Workshop,FREE,Indoor
END:VEVENT
BEGIN:VEVENT
DTSTART;TZID=America/Denver:20250514T140000
DTEND;TZID=America/Denver:20250514T150000
DTSTAMP:20260421T195859
CREATED:20231227T173341Z
LAST-MODIFIED:20250621T165426Z
UID:10001485-1747231200-1747234800@kcparent.com
SUMMARY:Snake Feeding
DESCRIPTION:Discover what’s for dinner at Burr Oak Woods as the captive amphibians\, fish\, and turtles enjoy their feast every Tuesday and Friday. The snakes are fed on the second and fourth Wednesday.
URL:https://kcparent.com/event/snake-feeding-9/
LOCATION:Burr Oak Woods Nature Center\, 1401 NW Park Rd.\, Blue Springs\, Missouri\, United States
CATEGORIES:Accessible,Class or Workshop,FREE,Indoor
END:VEVENT
BEGIN:VEVENT
DTSTART;TZID=America/Denver:20250513T140000
DTEND;TZID=America/Denver:20250513T150000
DTSTAMP:20260421T195859
CREATED:20231227T173304Z
LAST-MODIFIED:20250621T164248Z
UID:10000517-1747144800-1747148400@kcparent.com
SUMMARY:Critter Feeding
DESCRIPTION:Discover what’s for dinner at Burr Oak Woods as the captive amphibians\, fish\, and turtles enjoy their feast every Tuesday and Friday. The snakes are fed on the second and fourth Wednesday.
URL:https://kcparent.com/event/critter-feeding-38/
LOCATION:Burr Oak Woods Nature Center\, 1401 NW Park Rd.\, Blue Springs\, Missouri\, United States
CATEGORIES:Accessible,Class or Workshop,FREE,Indoor
END:VEVENT
BEGIN:VEVENT
DTSTART;TZID=America/Denver:20250509T140000
DTEND;TZID=America/Denver:20250509T150000
DTSTAMP:20260421T195859
CREATED:20231227T173304Z
LAST-MODIFIED:20250621T164247Z
UID:10000516-1746799200-1746802800@kcparent.com
SUMMARY:Critter Feeding
DESCRIPTION:Discover what’s for dinner at Burr Oak Woods as the captive amphibians\, fish\, and turtles enjoy their feast every Tuesday and Friday. The snakes are fed on the second and fourth Wednesday.
URL:https://kcparent.com/event/critter-feeding-37/
LOCATION:Burr Oak Woods Nature Center\, 1401 NW Park Rd.\, Blue Springs\, Missouri\, United States
CATEGORIES:Accessible,Class or Workshop,FREE,Indoor
END:VEVENT
BEGIN:VEVENT
DTSTART;TZID=America/Denver:20250506T140000
DTEND;TZID=America/Denver:20250506T150000
DTSTAMP:20260421T195859
CREATED:20231227T173304Z
LAST-MODIFIED:20250621T164247Z
UID:10000515-1746540000-1746543600@kcparent.com
SUMMARY:Critter Feeding
DESCRIPTION:Discover what’s for dinner at Burr Oak Woods as the captive amphibians\, fish\, and turtles enjoy their feast every Tuesday and Friday. The snakes are fed on the second and fourth Wednesday.
URL:https://kcparent.com/event/critter-feeding-36/
LOCATION:Burr Oak Woods Nature Center\, 1401 NW Park Rd.\, Blue Springs\, Missouri\, United States
CATEGORIES:Accessible,Class or Workshop,FREE,Indoor
END:VEVENT
BEGIN:VEVENT
DTSTART;TZID=America/Denver:20250502T140000
DTEND;TZID=America/Denver:20250502T150000
DTSTAMP:20260421T195859
CREATED:20231227T173304Z
LAST-MODIFIED:20250621T164246Z
UID:10000514-1746194400-1746198000@kcparent.com
SUMMARY:Critter Feeding
DESCRIPTION:Discover what’s for dinner at Burr Oak Woods as the captive amphibians\, fish\, and turtles enjoy their feast every Tuesday and Friday. The snakes are fed on the second and fourth Wednesday.
URL:https://kcparent.com/event/critter-feeding-35/
LOCATION:Burr Oak Woods Nature Center\, 1401 NW Park Rd.\, Blue Springs\, Missouri\, United States
CATEGORIES:Accessible,Class or Workshop,FREE,Indoor
END:VEVENT
BEGIN:VEVENT
DTSTART;TZID=America/Denver:20250429T140000
DTEND;TZID=America/Denver:20250429T150000
DTSTAMP:20260421T195859
CREATED:20231227T173304Z
LAST-MODIFIED:20250621T164245Z
UID:10000513-1745935200-1745938800@kcparent.com
SUMMARY:Critter Feeding
DESCRIPTION:Discover what’s for dinner at Burr Oak Woods as the captive amphibians\, fish\, and turtles enjoy their feast every Tuesday and Friday. The snakes are fed on the second and fourth Wednesday.
URL:https://kcparent.com/event/critter-feeding-34/
LOCATION:Burr Oak Woods Nature Center\, 1401 NW Park Rd.\, Blue Springs\, Missouri\, United States
CATEGORIES:Accessible,Class or Workshop,FREE,Indoor
END:VEVENT
BEGIN:VEVENT
DTSTART;TZID=America/Denver:20250425T140000
DTEND;TZID=America/Denver:20250425T150000
DTSTAMP:20260421T195859
CREATED:20231227T173304Z
LAST-MODIFIED:20250621T164244Z
UID:10000512-1745589600-1745593200@kcparent.com
SUMMARY:Critter Feeding
DESCRIPTION:Discover what’s for dinner at Burr Oak Woods as the captive amphibians\, fish\, and turtles enjoy their feast every Tuesday and Friday. The snakes are fed on the second and fourth Wednesday.
URL:https://kcparent.com/event/critter-feeding-33/
LOCATION:Burr Oak Woods Nature Center\, 1401 NW Park Rd.\, Blue Springs\, Missouri\, United States
CATEGORIES:Accessible,Class or Workshop,FREE,Indoor
END:VEVENT
BEGIN:VEVENT
DTSTART;TZID=America/Denver:20250423T140000
DTEND;TZID=America/Denver:20250423T150000
DTSTAMP:20260421T195859
CREATED:20231227T173434Z
LAST-MODIFIED:20250621T165426Z
UID:10001484-1745416800-1745420400@kcparent.com
SUMMARY:Snake Feeding
DESCRIPTION:Discover what’s for dinner at Burr Oak Woods as the captive amphibians\, fish\, and turtles enjoy their feast every Tuesday and Friday. The snakes are fed on the second and fourth Wednesday.
URL:https://kcparent.com/event/snake-feeding-8/
LOCATION:Burr Oak Woods Nature Center\, 1401 NW Park Rd.\, Blue Springs\, Missouri\, United States
CATEGORIES:Accessible,Class or Workshop,FREE,Indoor
END:VEVENT
BEGIN:VEVENT
DTSTART;TZID=America/Denver:20250422T140000
DTEND;TZID=America/Denver:20250422T150000
DTSTAMP:20260421T195859
CREATED:20231227T173304Z
LAST-MODIFIED:20250621T164244Z
UID:10000511-1745330400-1745334000@kcparent.com
SUMMARY:Critter Feeding
DESCRIPTION:Discover what’s for dinner at Burr Oak Woods as the captive amphibians\, fish\, and turtles enjoy their feast every Tuesday and Friday. The snakes are fed on the second and fourth Wednesday.
URL:https://kcparent.com/event/critter-feeding-32/
LOCATION:Burr Oak Woods Nature Center\, 1401 NW Park Rd.\, Blue Springs\, Missouri\, United States
CATEGORIES:Accessible,Class or Workshop,FREE,Indoor
END:VEVENT
END:VCALENDAR