BEGIN:VCALENDAR
VERSION:2.0
PRODID:-//KC Parent - ECPv6.15.18//NONSGML v1.0//EN
CALSCALE:GREGORIAN
METHOD:PUBLISH
X-WR-CALNAME:KC Parent
X-ORIGINAL-URL:https://kcparent.com
X-WR-CALDESC:Events for KC Parent
REFRESH-INTERVAL;VALUE=DURATION:PT1H
X-Robots-Tag:noindex
X-PUBLISHED-TTL:PT1H
BEGIN:VTIMEZONE
TZID:America/Denver
BEGIN:DAYLIGHT
TZOFFSETFROM:-0700
TZOFFSETTO:-0600
TZNAME:MDT
DTSTART:20240310T090000
END:DAYLIGHT
BEGIN:STANDARD
TZOFFSETFROM:-0600
TZOFFSETTO:-0700
TZNAME:MST
DTSTART:20241103T080000
END:STANDARD
BEGIN:DAYLIGHT
TZOFFSETFROM:-0700
TZOFFSETTO:-0600
TZNAME:MDT
DTSTART:20250309T090000
END:DAYLIGHT
BEGIN:STANDARD
TZOFFSETFROM:-0600
TZOFFSETTO:-0700
TZNAME:MST
DTSTART:20251102T080000
END:STANDARD
BEGIN:DAYLIGHT
TZOFFSETFROM:-0700
TZOFFSETTO:-0600
TZNAME:MDT
DTSTART:20260308T090000
END:DAYLIGHT
BEGIN:STANDARD
TZOFFSETFROM:-0600
TZOFFSETTO:-0700
TZNAME:MST
DTSTART:20261101T080000
END:STANDARD
END:VTIMEZONE
BEGIN:VEVENT
DTSTART;TZID=America/Denver:20251214T130000
DTEND;TZID=America/Denver:20251214T160000
DTSTAMP:20260421T163749
CREATED:20251126T165503Z
LAST-MODIFIED:20260316T021500Z
UID:10024422-1765717200-1765728000@kcparent.com
SUMMARY:Living Nativity
DESCRIPTION:Living Nativity at 4H Fairgrounds in Lawrence\, KS\nCome experience the joy of the first Christmas. Join us for a Living Nativity at the Douglas County Fairgrounds in Lawrence\, KS on Sunday\, December 14th from 1:00p – 4:00p. Address is 2120 Harper Street\, Lawrence\, KS in the Indoor Arena. Featuring a live nativity with animals\, music\, cookies\, and crafts. Admission is free. Donations accepted.
URL:https://kcparent.com/event/living-nativity/
LOCATION:Douglas County Fairgrounds\, 2120 Harper St\, Lawrence\, Kansas\, United States
CATEGORIES:Holiday Event
ATTACH;FMTTYPE=image/jpeg:https://kcparent.com/wp-content/uploads/2025/11/Living-Nativity-Flyer-2025.jpg
END:VEVENT
END:VCALENDAR