BEGIN:VCALENDAR
VERSION:2.0
PRODID:-//KC Parent - ECPv6.15.18//NONSGML v1.0//EN
CALSCALE:GREGORIAN
METHOD:PUBLISH
X-WR-CALNAME:KC Parent
X-ORIGINAL-URL:https://kcparent.com
X-WR-CALDESC:Events for KC Parent
REFRESH-INTERVAL;VALUE=DURATION:PT1H
X-Robots-Tag:noindex
X-PUBLISHED-TTL:PT1H
BEGIN:VTIMEZONE
TZID:America/Denver
BEGIN:DAYLIGHT
TZOFFSETFROM:-0700
TZOFFSETTO:-0600
TZNAME:MDT
DTSTART:20230312T090000
END:DAYLIGHT
BEGIN:STANDARD
TZOFFSETFROM:-0600
TZOFFSETTO:-0700
TZNAME:MST
DTSTART:20231105T080000
END:STANDARD
BEGIN:DAYLIGHT
TZOFFSETFROM:-0700
TZOFFSETTO:-0600
TZNAME:MDT
DTSTART:20240310T090000
END:DAYLIGHT
BEGIN:STANDARD
TZOFFSETFROM:-0600
TZOFFSETTO:-0700
TZNAME:MST
DTSTART:20241103T080000
END:STANDARD
BEGIN:DAYLIGHT
TZOFFSETFROM:-0700
TZOFFSETTO:-0600
TZNAME:MDT
DTSTART:20250309T090000
END:DAYLIGHT
BEGIN:STANDARD
TZOFFSETFROM:-0600
TZOFFSETTO:-0700
TZNAME:MST
DTSTART:20251102T080000
END:STANDARD
BEGIN:DAYLIGHT
TZOFFSETFROM:-0700
TZOFFSETTO:-0600
TZNAME:MDT
DTSTART:20260308T090000
END:DAYLIGHT
BEGIN:STANDARD
TZOFFSETFROM:-0600
TZOFFSETTO:-0700
TZNAME:MST
DTSTART:20261101T080000
END:STANDARD
BEGIN:DAYLIGHT
TZOFFSETFROM:-0700
TZOFFSETTO:-0600
TZNAME:MDT
DTSTART:20270314T090000
END:DAYLIGHT
BEGIN:STANDARD
TZOFFSETFROM:-0600
TZOFFSETTO:-0700
TZNAME:MST
DTSTART:20271107T080000
END:STANDARD
END:VTIMEZONE
BEGIN:VEVENT
DTSTART;VALUE=DATE:20260305
DTEND;VALUE=DATE:20260306
DTSTAMP:20260420T205259
CREATED:20260227T204451Z
LAST-MODIFIED:20260227T204504Z
UID:10023435-1772668800-1772755199@kcparent.com
SUMMARY:The Pout Pout Fish Live
DESCRIPTION:TWO PERFORMANCES: 9:45AM AND 11:30A\n\n\n\n\nRecommended ages: PreK – 2nd\nShow Duration: Approximately 60 minutes\, no intermission \nTurn the poutiest of frowns upside down in this musical featuring whimsical puppets and live performers in a sweeping oceanic adventure. When Mr. Fish sets out on a quest to find Miss Clam’s missing pearl\, he discovers there is more to him than his permanently plastered pout. This colorful adaptation of The New York Times bestseller is co-conceived\, directed\, and designed by the acclaimed puppeteers of\nAchesonWalsh Studios. \nTickets are only $6!
URL:https://kcparent.com/event/pout-pout-fish-live/
LOCATION:Folly Theater\, 300 W. 12th St.\, Kansas City\, Missouri\, United States
ATTACH;FMTTYPE=image/jpeg:https://kcparent.com/wp-content/uploads/2026/02/TheaterWorksUSA_The-Pout-Pout-Fish_Photo-by-Jeremy-Daniel_L-R_-Kelly-Grago-Mukta-Phatak-Emmanuel-Elpenord-Leannue-Brunn_2019-scaled-1.jpg
END:VEVENT
BEGIN:VEVENT
DTSTART;VALUE=DATE:20260227
DTEND;VALUE=DATE:20260302
DTSTAMP:20260420T205259
CREATED:20260202T064438Z
LAST-MODIFIED:20260216T214815Z
UID:10019612-1772150400-1772409599@kcparent.com
SUMMARY:Kansas City Ballet: Snow White
DESCRIPTION:Experience Kansas City Ballet’s Family Series with the narrated\, hour-long adaptation of Snow White. Follow beloved characters on a magical journey that celebrates the beauty within and the unexpected places where we find belonging. Choreographed by Bruce Wells and performed by Kansas City Ballet’s Second Company\, this production is specially designed for young audiences and offers a delightful introduction to the world of theater and dance. \nRun time: 55 minutes | No intermission
URL:https://kcparent.com/event/kansas-city-ballet-snow-white/
LOCATION:Folly Theater\, 300 W. 12th St.\, Kansas City\, Missouri\, United States
CATEGORIES:Live Performance
ATTACH;FMTTYPE=image/jpeg:https://kcparent.com/wp-content/uploads/2026/02/iStock-2206077726-scaled.jpg
END:VEVENT
BEGIN:VEVENT
DTSTART;TZID=America/Denver:20251106T113000
DTEND;TZID=America/Denver:20251106T123000
DTSTAMP:20260420T205259
CREATED:20251027T180249Z
LAST-MODIFIED:20251027T180249Z
UID:10015862-1762428600-1762432200@kcparent.com
SUMMARY:Don't Let the Pigeon Drive the Bus! The Musical!
DESCRIPTION:Whatever you do\, don’t let the Pigeon star in his own musical production! With a script written by Mo Willems\, the creator of the #1 New York Times best-selling\, Caldecott Honor award-winning “Pigeon” picture books\, and featuring music by Deborah Wicks La Puma (Elephant & Piggie’s We Are in a Play!)\, TheaterWorksUSA‘s Don’t Let the Pigeon Drive the Bus! The Musical! is even more fun than staying up late and having a hot dog party! It’s not easy being the Pigeon-you never get to do ANYTHING! But when the Bus Driver has a crisis that threatens to make her passengers (gasp!) late\, maybe that wily bird CAN do something. Featuring an innovative mix of songs\, and feathers\, Don’t Let the Pigeon Drive the Bus! The Musical! is sure to get everyone’s wings flapping
URL:https://kcparent.com/event/dont-let-the-pigeon-drive-the-bus-the-musical/2025-11-06/2/
LOCATION:Folly Theater\, 300 W. 12th St.\, Kansas City\, Missouri\, United States
ATTACH;FMTTYPE=image/jpeg:https://kcparent.com/wp-content/uploads/2025/10/PIGEON_Photo-by-Jeremy-Daniel.-L-R_Arturo-Hernandez-Sonia-Roman-Markia-Nicole-Smith-Bryce-Hayden-Sarah-Hogewood-Wesley-Slade-scaled-1.jpg
END:VEVENT
BEGIN:VEVENT
DTSTART;TZID=America/Denver:20251106T094500
DTEND;TZID=America/Denver:20251106T103000
DTSTAMP:20260420T205259
CREATED:20251027T180249Z
LAST-MODIFIED:20251027T180249Z
UID:10015861-1762422300-1762425000@kcparent.com
SUMMARY:Don't Let the Pigeon Drive the Bus! The Musical!
DESCRIPTION:Whatever you do\, don’t let the Pigeon star in his own musical production! With a script written by Mo Willems\, the creator of the #1 New York Times best-selling\, Caldecott Honor award-winning “Pigeon” picture books\, and featuring music by Deborah Wicks La Puma (Elephant & Piggie’s We Are in a Play!)\, TheaterWorksUSA‘s Don’t Let the Pigeon Drive the Bus! The Musical! is even more fun than staying up late and having a hot dog party! It’s not easy being the Pigeon-you never get to do ANYTHING! But when the Bus Driver has a crisis that threatens to make her passengers (gasp!) late\, maybe that wily bird CAN do something. Featuring an innovative mix of songs\, and feathers\, Don’t Let the Pigeon Drive the Bus! The Musical! is sure to get everyone’s wings flapping
URL:https://kcparent.com/event/dont-let-the-pigeon-drive-the-bus-the-musical/2025-11-06/1/
LOCATION:Folly Theater\, 300 W. 12th St.\, Kansas City\, Missouri\, United States
ATTACH;FMTTYPE=image/jpeg:https://kcparent.com/wp-content/uploads/2025/10/PIGEON_Photo-by-Jeremy-Daniel.-L-R_Arturo-Hernandez-Sonia-Roman-Markia-Nicole-Smith-Bryce-Hayden-Sarah-Hogewood-Wesley-Slade-scaled-1.jpg
END:VEVENT
BEGIN:VEVENT
DTSTART;TZID=America/Denver:20251025T110000
DTEND;TZID=America/Denver:20251026T120000
DTSTAMP:20260420T205259
CREATED:20250814T221129Z
LAST-MODIFIED:20251028T151813Z
UID:10015211-1761390000-1761480000@kcparent.com
SUMMARY:Dog Man: The Musical
DESCRIPTION:A Hilarious\, Heartfelt Family Adventure! \nBased on the worldwide bestselling hit series by Dav Pilkey\, Dog Man: The Musical is a hilarious and heartwarming production following the chronicles of Dog Man\, who with the head of a dog and the body of a policeman\, loves to fight crime and chew on the furniture. But while trying his best to be a good boy\, can he save the city from Flippy the cyborg fish and his army of Beasty Buildings? Can he catch Petey\, the world’s most evil cat\, who has cloned himself to exact revenge on the doggy do-gooder? And will George and Harold finish their show before lunchtime?? Find out in this epic musical adventure featuring the hilarity and heart of beloved characters from Dav Pilkey\, the creator of Captain Underpants and Cat Kid Comic Club. Featuring an exciting book and lyrics by Kevin Del Aguila\, music by Brad Alexander\, and original direction and choreography by Jen Wineman. Recommended for ages 6+.
URL:https://kcparent.com/event/dog-man-the-musical/
LOCATION:Folly Theater\, 300 W. 12th St.\, Kansas City\, Missouri\, United States
CATEGORIES:Live Performance
ATTACH;FMTTYPE=image/jpeg:https://kcparent.com/wp-content/uploads/2025/08/24-25-Touring-Company-Photo-by-Jeremy-Daniel-L-R_-Sadie-Jayne-Kennedy-Glory-Yepassis-Zembrou-Brandon-James-Butorovich-Marquise-Neal-Jake-Wernecke-Mundo-Ballejos-scaled.jpg
END:VEVENT
BEGIN:VEVENT
DTSTART;TZID=America/Denver:20250606T193000
DTEND;TZID=America/Denver:20250606T235900
DTSTAMP:20260420T205259
CREATED:20250120T160847Z
LAST-MODIFIED:20250621T164806Z
UID:10000955-1749238200-1749254340@kcparent.com
SUMMARY:Jazzoo
DESCRIPTION:Join us for our safari soirée – prepare for a WILD night of roars & pours! \nParty animals from across the metro will gather to enjoy unlimited food\, drinks\, and entertainment – all while raising money for the Kansas City Zoo & Aquarium. Proceeds provide food for the animals in our care and educational opportunities for the youth of our community. \nJazzoo is a 21-and-over event and takes place outdoors on the Zoo grounds. Upon entry\, we’ll provide you with a beverage tray that doubles as a map of food\, drink\, and entertainment locations. Due to the timing and nature of the event\, most of the Zoo’s animals will not be viewable. \nAttire: Creative Black Tie \nLet your imagination run wild! Dress to impress in sophisticated black tie with a playful twist inspired by the wonders of the animal kingdom. We encourage you to channel the spirit of the zoo while keeping it elegant and chic.
URL:https://kcparent.com/event/jazzoo/
LOCATION:Folly Theater\, 300 W. 12th St.\, Kansas City\, Missouri\, United States
CATEGORIES:Accessible,Outdoor
END:VEVENT
BEGIN:VEVENT
DTSTART;TZID=America/Denver:20250601T130000
DTEND;TZID=America/Denver:20250601T160000
DTSTAMP:20260420T205259
CREATED:20250305T232947Z
LAST-MODIFIED:20250621T164816Z
UID:10000969-1748782800-1748793600@kcparent.com
SUMMARY:Kansas Ciry Rose Society  Annual Children's Art Show
DESCRIPTION:The KCRS Annual Art Show is for young artists  ages 5-14. The artwork must have a rose in it\, no larger that 12″X18″ paper\, any medium may be  used.  Submit artwork to: KCRS Art Show\, 4901 Wornall Rd. Apt. 801  by May 16\, 2025.  All artwork will be displayed on June 1\, from 1-4pm  at Rose Day in the Rose Garden at Loose Park. www.kansascityrosesociety.org for more information.
URL:https://kcparent.com/event/kansas-ciry-rose-society-annual-childrens-art-show/
LOCATION:Folly Theater\, 300 W. 12th St.\, Kansas City\, Missouri\, United States
CATEGORIES:Accessible,Festival,FREE,Outdoor
END:VEVENT
BEGIN:VEVENT
DTSTART;TZID=America/Denver:20250502T193000
DTEND;TZID=America/Denver:20250502T203000
DTSTAMP:20260420T205259
CREATED:20240602T225853Z
LAST-MODIFIED:20250621T170034Z
UID:10001982-1746214200-1746217800@kcparent.com
SUMMARY:Yellow Roses and Green Hills
DESCRIPTION:Celebrating the arrival of MAFB’s new timpani\, composers Jennifer Jolley\, Anthony R. Green\, and Olivia Kieffer collaborate on a commissioned concerto for the instrument. Symphonies by Nancy Galbraith and MAFB audience favorite Julie Giroux provide even more musical opulence to end the concert season. \n\nSeason and individual tickets go on sale August 1\, 2024\, at www.freedomband.com. Individual Tickets are $20; season tickets are $50. Discounts are available on individual tickets for students with ID\, educators\, seniors\, and first responders. Children under 12 are admitted free.
URL:https://kcparent.com/event/yellow-roses-and-green-hills/
LOCATION:Folly Theater\, 300 W. 12th St.\, Kansas City\, Missouri\, United States
CATEGORIES:Accessible,Live Performance
END:VEVENT
BEGIN:VEVENT
DTSTART;TZID=America/Denver:20250428T160000
DTEND;TZID=America/Denver:20250428T180000
DTSTAMP:20260420T205259
CREATED:20250131T175222Z
LAST-MODIFIED:20250621T165738Z
UID:10001753-1745856000-1745863200@kcparent.com
SUMMARY:Superhero Day
DESCRIPTION:It’s time to save the day! \n\nSuit up in your best superhero costume\, and fly over for a day full of marvelous fun! \n\nPower up with heroic games\, craft a cape and mask to take home\, and strike a pose for a superhero photo of yourself! \n\nKids under age 8 must be accompanied by an adult. \n\nAll ages. Register by April 22\, 2025
URL:https://kcparent.com/event/superhero-day/
LOCATION:Folly Theater\, 300 W. 12th St.\, Kansas City\, Missouri\, United States
CATEGORIES:Accessible,Indoor
END:VEVENT
BEGIN:VEVENT
DTSTART;TZID=America/Denver:20250329T000000
DTEND;TZID=America/Denver:20250329T000000
DTSTAMP:20260420T205259
CREATED:20250213T210355Z
LAST-MODIFIED:20250621T164906Z
UID:10001038-1743206400-1743206400@kcparent.com
SUMMARY:Lenexa Winter Farmers Market
DESCRIPTION:Winter Farmers Market\n\n \nJan. 25\, Feb\, 22 & March 29\, 2025: 10 a.m. to 1 p.m. \nLenexa City Hall\, 17101 W. 87th St. Pkwy.\, Lenexa\, KS 66219
URL:https://kcparent.com/event/lenexa-winter-farmers-market-2/
LOCATION:Folly Theater\, 300 W. 12th St.\, Kansas City\, Missouri\, United States
CATEGORIES:Accessible,FREE
END:VEVENT
BEGIN:VEVENT
DTSTART;TZID=America/Denver:20250307T190000
DTEND;TZID=America/Denver:20250307T210000
DTSTAMP:20260420T205259
CREATED:20240619T201624Z
LAST-MODIFIED:20250621T164906Z
UID:10001039-1741374000-1741381200@kcparent.com
SUMMARY:Leonidas Kavakos\, violin and Daniil Trifonov\, piano in duo recital presented by the Harriman-Jewell Series
DESCRIPTION:Two masterful virtuosos will appear together for the first time in an eclectic evening of works for violin and piano. Leonidas Kavakos and Daniil Trifonov will take you on a journey through Beethoven’s melancholy Violin Sonata No. 4\, a rapturous Sonata by Poulenc\, one of Brahms’ most lyrical and intimate compositions\, and finally the colorful and rhythmic folk dance-inspired Rhapsody for Violin and Piano by Béla Bartók.
URL:https://kcparent.com/event/leonidas-kavakos-violin-and-daniil-trifonov-piano-in-duo-recital-presented-by-the-harriman-jewell-series/
LOCATION:Folly Theater\, 300 W. 12th St.\, Kansas City\, Missouri\, United States
CATEGORIES:Accessible,Indoor,Live Performance
END:VEVENT
BEGIN:VEVENT
DTSTART;TZID=America/Denver:20250222T180000
DTEND;TZID=America/Denver:20250222T200000
DTSTAMP:20260420T205259
CREATED:20241218T172617Z
LAST-MODIFIED:20250621T165133Z
UID:10001240-1740247200-1740254400@kcparent.com
SUMMARY:Nighttime at the Nature Center
DESCRIPTION:Ever wonder what happens after the nature center closes? Come enjoy a completely different sensory experience and see how much wilder the animals are after dark! Handheld red lights will be provided to each participant to view the nature center in the dark. Watch the nocturnal animals start their day while the diurnal animals settle in for the night. There will also be opportunities for up-close encounters with some creatures of the night. Children 2 and under are free.
URL:https://kcparent.com/event/nighttime-at-the-nature-center/
LOCATION:Folly Theater\, 300 W. 12th St.\, Kansas City\, Missouri\, United States
CATEGORIES:Accessible,Indoor
END:VEVENT
BEGIN:VEVENT
DTSTART;TZID=America/Denver:20241101T100000
DTEND;TZID=America/Denver:20250107T100000
DTSTAMP:20260420T205259
CREATED:20241105T215818Z
LAST-MODIFIED:20250621T163848Z
UID:10000171-1730455200-1736244000@kcparent.com
SUMMARY:Animal Crossing™: New Horizons Aquarium Tour
DESCRIPTION:At SEA LIFE Kansas City\, guests will be able to interact with familiar Animal Crossing characters while learning more about the real-world animal kingdom while coming face-to-fin with thousands of sea creatures.  \nThe event will include:  \n\nAnimal Crossing: New Horizons photo opportunity\, featuring an aquarium-themed background with characters from the game.\n \nThemed signage throughout the Aquarium featuring creature descriptions presented by in-game curator\, Blathers\, with information directly from the game.\n \nCharacter cutout displays of familiar characters from the game throughout the Aquarium near a wide variety of habitats.\n \nMy Nintendo™ kiosks where guests can check in to receive 100 My Nintendo Platinum Points* redeemable on my.nintendo.com for exclusive digital and physical rewards. \n \nPlus\, guests will have the opportunity to meet-and-greet Isabelle\, Tom Nook\, or K.K. Slider from the Animal Crossing: New Horizons game on select dates\, along with interactive stamp rallies inspired by the game!\n\n\n\n \nTickets for the experience are included with the cost of general admission and can be purchased from SEA LIFE Kansas City directly.
URL:https://kcparent.com/event/animal-crossing-new-horizons-aquarium-tour/
LOCATION:Folly Theater\, 300 W. 12th St.\, Kansas City\, Missouri\, United States
CATEGORIES:Accessible
END:VEVENT
END:VCALENDAR