BEGIN:VCALENDAR
VERSION:2.0
PRODID:-//KC Parent - ECPv6.15.18//NONSGML v1.0//EN
CALSCALE:GREGORIAN
METHOD:PUBLISH
X-WR-CALNAME:KC Parent
X-ORIGINAL-URL:https://kcparent.com
X-WR-CALDESC:Events for KC Parent
REFRESH-INTERVAL;VALUE=DURATION:PT1H
X-Robots-Tag:noindex
X-PUBLISHED-TTL:PT1H
BEGIN:VTIMEZONE
TZID:America/Denver
BEGIN:DAYLIGHT
TZOFFSETFROM:-0700
TZOFFSETTO:-0600
TZNAME:MDT
DTSTART:20230312T090000
END:DAYLIGHT
BEGIN:STANDARD
TZOFFSETFROM:-0600
TZOFFSETTO:-0700
TZNAME:MST
DTSTART:20231105T080000
END:STANDARD
BEGIN:DAYLIGHT
TZOFFSETFROM:-0700
TZOFFSETTO:-0600
TZNAME:MDT
DTSTART:20240310T090000
END:DAYLIGHT
BEGIN:STANDARD
TZOFFSETFROM:-0600
TZOFFSETTO:-0700
TZNAME:MST
DTSTART:20241103T080000
END:STANDARD
BEGIN:DAYLIGHT
TZOFFSETFROM:-0700
TZOFFSETTO:-0600
TZNAME:MDT
DTSTART:20250309T090000
END:DAYLIGHT
BEGIN:STANDARD
TZOFFSETFROM:-0600
TZOFFSETTO:-0700
TZNAME:MST
DTSTART:20251102T080000
END:STANDARD
BEGIN:DAYLIGHT
TZOFFSETFROM:-0700
TZOFFSETTO:-0600
TZNAME:MDT
DTSTART:20260308T090000
END:DAYLIGHT
BEGIN:STANDARD
TZOFFSETFROM:-0600
TZOFFSETTO:-0700
TZNAME:MST
DTSTART:20261101T080000
END:STANDARD
END:VTIMEZONE
BEGIN:VEVENT
DTSTART;TZID=America/Denver:20241101T100000
DTEND;TZID=America/Denver:20250107T100000
DTSTAMP:20260420T223818
CREATED:20241105T215818Z
LAST-MODIFIED:20250621T163848Z
UID:10000171-1730455200-1736244000@kcparent.com
SUMMARY:Animal Crossing™: New Horizons Aquarium Tour
DESCRIPTION:At SEA LIFE Kansas City\, guests will be able to interact with familiar Animal Crossing characters while learning more about the real-world animal kingdom while coming face-to-fin with thousands of sea creatures.  \nThe event will include:  \n\nAnimal Crossing: New Horizons photo opportunity\, featuring an aquarium-themed background with characters from the game.\n \nThemed signage throughout the Aquarium featuring creature descriptions presented by in-game curator\, Blathers\, with information directly from the game.\n \nCharacter cutout displays of familiar characters from the game throughout the Aquarium near a wide variety of habitats.\n \nMy Nintendo™ kiosks where guests can check in to receive 100 My Nintendo Platinum Points* redeemable on my.nintendo.com for exclusive digital and physical rewards. \n \nPlus\, guests will have the opportunity to meet-and-greet Isabelle\, Tom Nook\, or K.K. Slider from the Animal Crossing: New Horizons game on select dates\, along with interactive stamp rallies inspired by the game!\n\n\n\n \nTickets for the experience are included with the cost of general admission and can be purchased from SEA LIFE Kansas City directly.
URL:https://kcparent.com/event/animal-crossing-new-horizons-aquarium-tour/
LOCATION:Folly Theater\, 300 W. 12th St.\, Kansas City\, Missouri\, United States
CATEGORIES:Accessible
END:VEVENT
END:VCALENDAR