BEGIN:VCALENDAR
VERSION:2.0
PRODID:-//KC Parent - ECPv6.15.18//NONSGML v1.0//EN
CALSCALE:GREGORIAN
METHOD:PUBLISH
X-ORIGINAL-URL:https://kcparent.com
X-WR-CALDESC:Events for KC Parent
REFRESH-INTERVAL;VALUE=DURATION:PT1H
X-Robots-Tag:noindex
X-PUBLISHED-TTL:PT1H
BEGIN:VTIMEZONE
TZID:America/Denver
BEGIN:DAYLIGHT
TZOFFSETFROM:-0700
TZOFFSETTO:-0600
TZNAME:MDT
DTSTART:20250309T090000
END:DAYLIGHT
BEGIN:STANDARD
TZOFFSETFROM:-0600
TZOFFSETTO:-0700
TZNAME:MST
DTSTART:20251102T080000
END:STANDARD
BEGIN:DAYLIGHT
TZOFFSETFROM:-0700
TZOFFSETTO:-0600
TZNAME:MDT
DTSTART:20260308T090000
END:DAYLIGHT
BEGIN:STANDARD
TZOFFSETFROM:-0600
TZOFFSETTO:-0700
TZNAME:MST
DTSTART:20261101T080000
END:STANDARD
BEGIN:DAYLIGHT
TZOFFSETFROM:-0700
TZOFFSETTO:-0600
TZNAME:MDT
DTSTART:20270314T090000
END:DAYLIGHT
BEGIN:STANDARD
TZOFFSETFROM:-0600
TZOFFSETTO:-0700
TZNAME:MST
DTSTART:20271107T080000
END:STANDARD
END:VTIMEZONE
BEGIN:VEVENT
DTSTART;TZID=America/Denver:20260424T180000
DTEND;TZID=America/Denver:20260424T190000
DTSTAMP:20260420T111408
CREATED:20260311T192050Z
LAST-MODIFIED:20260318T142220Z
UID:10024945-1777053600-1777057200@kcparent.com
SUMMARY:Friday Night Family Fun: Mini Prom
DESCRIPTION:Why wait until high school to have glamorous fun? Put on your favorite dress-up clothes for this dance party just for younger kids. It’s your turn to enjoy this special tradition. Ages 3 and up.
URL:https://kcparent.com/event/friday-night-family-fun-mini-prom/
LOCATION:Kansas City Public Library – Plaza Branch\, 4801 Main Street\, Kansas City\, Missouri\, 64112\, United States
CATEGORIES:FREE
ATTACH;FMTTYPE=image/jpeg:https://kcparent.com/wp-content/uploads/2026/03/fnff-1-1080x10803-1.jpg
END:VEVENT
BEGIN:VEVENT
DTSTART;TZID=America/Denver:20260501T180000
DTEND;TZID=America/Denver:20260501T190000
DTSTAMP:20260420T111408
CREATED:20260416T170134Z
LAST-MODIFIED:20260420T161712Z
UID:10025479-1777658400-1777662000@kcparent.com
SUMMARY:Friday Night Family Fun: Davidious the Dino
DESCRIPTION:Join Mad Science of Greater Kansas City on an expedition in search of Davidious\, a tyrannosaurus rex that comes to life! Hear stories about an underwater volcano and mighty roars from long ago in this interactive program. Ages 3 and up.
URL:https://kcparent.com/event/friday-night-family-fun-davidious-the-dino/
LOCATION:Kansas City Public Library – Plaza Branch\, 4801 Main Street\, Kansas City\, Missouri\, 64112\, United States
CATEGORIES:FREE
ATTACH;FMTTYPE=image/jpeg:https://kcparent.com/wp-content/uploads/2026/04/fnff-1-1080x1080-1.jpg
END:VEVENT
BEGIN:VEVENT
DTSTART;TZID=America/Denver:20260508T173000
DTEND;TZID=America/Denver:20260508T193000
DTSTAMP:20260420T111408
CREATED:20260416T170314Z
LAST-MODIFIED:20260420T161708Z
UID:10025478-1778261400-1778268600@kcparent.com
SUMMARY:Friday Night Family Fun: Boats
DESCRIPTION:How do boats stay afloat? Why do some objects sink? Learn the answers to these questions and design your own model boat. Ages 3 and up.
URL:https://kcparent.com/event/friday-night-family-fun-boats/
LOCATION:Kansas City Public Library – Plaza Branch\, 4801 Main Street\, Kansas City\, Missouri\, 64112\, United States
CATEGORIES:FREE
ATTACH;FMTTYPE=image/jpeg:https://kcparent.com/wp-content/uploads/2026/04/fnff-1-1080x10801-1.jpg
END:VEVENT
BEGIN:VEVENT
DTSTART;TZID=America/Denver:20260515T173000
DTEND;TZID=America/Denver:20260515T193000
DTSTAMP:20260420T111408
CREATED:20260416T170426Z
LAST-MODIFIED:20260420T161705Z
UID:10025477-1778866200-1778873400@kcparent.com
SUMMARY:Friday Night Family Fun: Lava Lamps
DESCRIPTION:Find out why oil and water don’t mix and make a lava lamp to take home. Ages 3 and up.
URL:https://kcparent.com/event/friday-night-family-fun-lava-lamps/
LOCATION:Kansas City Public Library – Plaza Branch\, 4801 Main Street\, Kansas City\, Missouri\, 64112\, United States
CATEGORIES:FREE
ATTACH;FMTTYPE=image/jpeg:https://kcparent.com/wp-content/uploads/2026/04/fnff-1-1080x10802-1.jpg
END:VEVENT
BEGIN:VEVENT
DTSTART;TZID=America/Denver:20260522T173000
DTEND;TZID=America/Denver:20260522T193000
DTSTAMP:20260420T111408
CREATED:20260416T170534Z
LAST-MODIFIED:20260420T161720Z
UID:10025481-1779471000-1779478200@kcparent.com
SUMMARY:Friday Night Family Fun: Ice Cream in a Bag
DESCRIPTION:Discover the science you can eat! Learn how salt lowers the freezing point while making a tasty summer treat. Ages 3 and up.
URL:https://kcparent.com/event/friday-night-family-fun-ice-cream-in-a-bag/
LOCATION:Kansas City Public Library – Plaza Branch\, 4801 Main Street\, Kansas City\, Missouri\, 64112\, United States
CATEGORIES:FREE
ATTACH;FMTTYPE=image/jpeg:https://kcparent.com/wp-content/uploads/2026/04/fnff-1-1080x10803-1.jpg
END:VEVENT
BEGIN:VEVENT
DTSTART;TZID=America/Denver:20260529T173000
DTEND;TZID=America/Denver:20260529T193000
DTSTAMP:20260420T111408
CREATED:20260416T170648Z
LAST-MODIFIED:20260420T161717Z
UID:10025480-1780075800-1780083000@kcparent.com
SUMMARY:Friday Night Family Fun: Building Night
DESCRIPTION:Calling all engineers! Come check out our collection of building toys during this fun drop-in event. What will you create? Ages 3 and up.
URL:https://kcparent.com/event/friday-night-family-fun-building-night/
LOCATION:Kansas City Public Library – Plaza Branch\, 4801 Main Street\, Kansas City\, Missouri\, 64112\, United States
CATEGORIES:FREE
ATTACH;FMTTYPE=image/jpeg:https://kcparent.com/wp-content/uploads/2026/04/fnff-1-1080x10804-1.jpg
END:VEVENT
END:VCALENDAR