BEGIN:VCALENDAR
VERSION:2.0
PRODID:-//KC Parent - ECPv6.15.18//NONSGML v1.0//EN
CALSCALE:GREGORIAN
METHOD:PUBLISH
X-WR-CALNAME:KC Parent
X-ORIGINAL-URL:https://kcparent.com
X-WR-CALDESC:Events for KC Parent
REFRESH-INTERVAL;VALUE=DURATION:PT1H
X-Robots-Tag:noindex
X-PUBLISHED-TTL:PT1H
BEGIN:VTIMEZONE
TZID:America/Denver
BEGIN:DAYLIGHT
TZOFFSETFROM:-0700
TZOFFSETTO:-0600
TZNAME:MDT
DTSTART:20250309T090000
END:DAYLIGHT
BEGIN:STANDARD
TZOFFSETFROM:-0600
TZOFFSETTO:-0700
TZNAME:MST
DTSTART:20251102T080000
END:STANDARD
BEGIN:DAYLIGHT
TZOFFSETFROM:-0700
TZOFFSETTO:-0600
TZNAME:MDT
DTSTART:20260308T090000
END:DAYLIGHT
BEGIN:STANDARD
TZOFFSETFROM:-0600
TZOFFSETTO:-0700
TZNAME:MST
DTSTART:20261101T080000
END:STANDARD
BEGIN:DAYLIGHT
TZOFFSETFROM:-0700
TZOFFSETTO:-0600
TZNAME:MDT
DTSTART:20270314T090000
END:DAYLIGHT
BEGIN:STANDARD
TZOFFSETFROM:-0600
TZOFFSETTO:-0700
TZNAME:MST
DTSTART:20271107T080000
END:STANDARD
END:VTIMEZONE
BEGIN:VEVENT
DTSTART;VALUE=DATE:20260416
DTEND;VALUE=DATE:20260526
DTSTAMP:20260425T094507
CREATED:20260413T141815Z
LAST-MODIFIED:20260413T141815Z
UID:10025195-1776297600-1779753599@kcparent.com
SUMMARY:LEGO® F1® - themed ‘Build the Thrill Event’
DESCRIPTION:April 16 – May 25\nDuring Opening Hours\n\nGet ready to race at this exclusive LEGO® F1® – themed ‘Build the Thrill Event’ only at LEGOLAND® Discovery Center Kansas City! Grab your pit pass and drivers briefing and choose your team. Get hands-on with LEGO® bricks to create a minifigure driver and build an ultimate race car\, before putting them through their paces! Will you take pole position? \nHead to the pit stop and take on the build challenges to beat the clock\, before taking part in an awesome race! Plus\, visit LEGO® F1® in MINILAND what scenes will you spot? \nOur Master Model Builders and Playmakers will be on hand with top tips and trackside inspiration\, as you drive wheel to wheel with other guests. Complete all the challenges and celebrate your racing action… Will you take pole position? \nRev those engines and join in the LEGO® F1® fun at LEGOLAND Discovery Center Kansas City now!
URL:https://kcparent.com/event/lego-f1-themed-build-the-thrill-event/
LOCATION:LEGOLAND Discovery Center\, 2475 Grand Boulevard\, Kansas City\, Missouri\, 64108\, United States
ATTACH;FMTTYPE=image/webp:https://kcparent.com/wp-content/uploads/2026/04/event-page-image-w-text.jpg.webp
END:VEVENT
BEGIN:VEVENT
DTSTART;VALUE=DATE:20260501
DTEND;VALUE=DATE:20260601
DTSTAMP:20260425T094507
CREATED:20260424T154240Z
LAST-MODIFIED:20260424T154240Z
UID:10025613-1777593600-1780271999@kcparent.com
SUMMARY:Scout Appreciation Month
DESCRIPTION:CALLING ALL SCOUTS\nInspire your scout’s imaginations with educational play that harnesses the limitless creative possibilities of LEGO® bricks. All through May\, scouts in uniform get FREE entry plus 30% off for their friends and family-up to six (6) guests. Purchase in advance to reserve your time slot.
URL:https://kcparent.com/event/scout-appreciation-month/
LOCATION:LEGOLAND Discovery Center\, 2475 Grand Boulevard\, Kansas City\, Missouri\, 64108\, United States
ATTACH;FMTTYPE=image/jpeg:https://kcparent.com/wp-content/uploads/2026/04/Creative-Workshop-1-scaled.jpg
END:VEVENT
END:VCALENDAR