BEGIN:VCALENDAR
VERSION:2.0
PRODID:-//KC Parent - ECPv6.15.18//NONSGML v1.0//EN
CALSCALE:GREGORIAN
METHOD:PUBLISH
X-ORIGINAL-URL:https://kcparent.com
X-WR-CALDESC:Events for KC Parent
REFRESH-INTERVAL;VALUE=DURATION:PT1H
X-Robots-Tag:noindex
X-PUBLISHED-TTL:PT1H
BEGIN:VTIMEZONE
TZID:America/Denver
BEGIN:DAYLIGHT
TZOFFSETFROM:-0700
TZOFFSETTO:-0600
TZNAME:MDT
DTSTART:20250309T090000
END:DAYLIGHT
BEGIN:STANDARD
TZOFFSETFROM:-0600
TZOFFSETTO:-0700
TZNAME:MST
DTSTART:20251102T080000
END:STANDARD
BEGIN:DAYLIGHT
TZOFFSETFROM:-0700
TZOFFSETTO:-0600
TZNAME:MDT
DTSTART:20260308T090000
END:DAYLIGHT
BEGIN:STANDARD
TZOFFSETFROM:-0600
TZOFFSETTO:-0700
TZNAME:MST
DTSTART:20261101T080000
END:STANDARD
BEGIN:DAYLIGHT
TZOFFSETFROM:-0700
TZOFFSETTO:-0600
TZNAME:MDT
DTSTART:20270314T090000
END:DAYLIGHT
BEGIN:STANDARD
TZOFFSETFROM:-0600
TZOFFSETTO:-0700
TZNAME:MST
DTSTART:20271107T080000
END:STANDARD
END:VTIMEZONE
BEGIN:VEVENT
DTSTART;TZID=America/Denver:20261019T090000
DTEND;TZID=America/Denver:20261019T110000
DTSTAMP:20260417T181107
CREATED:20250824T172417Z
LAST-MODIFIED:20250827T150200Z
UID:10012889-1792400400-1792407600@kcparent.com
SUMMARY:Gym for Me
DESCRIPTION:Lenexa Rec Center; Old Town Activity Center \nA fun open gym where young children can play with balls\, tunnels and other age-appropriate equipment. Price is $3 per person (including guardians).Free for Lenexa Rec Center members when hosted at the Rec Center. Lenexa.com
URL:https://kcparent.com/event/gym-for-me-67/2026-10-19/
LOCATION:Lenexa Rec Center\, 17201 W. 87th St. Pkwy.\, Lenexa\, Kansas\, 66219\, United States
ATTACH;FMTTYPE=image/jpeg:https://kcparent.com/wp-content/uploads/2025/08/gymforme.jpg
END:VEVENT
BEGIN:VEVENT
DTSTART;TZID=America/Denver:20261021T090000
DTEND;TZID=America/Denver:20261021T110000
DTSTAMP:20260417T181107
CREATED:20250824T172417Z
LAST-MODIFIED:20250827T150200Z
UID:10012890-1792573200-1792580400@kcparent.com
SUMMARY:Gym for Me
DESCRIPTION:Lenexa Rec Center; Old Town Activity Center \nA fun open gym where young children can play with balls\, tunnels and other age-appropriate equipment. Price is $3 per person (including guardians).Free for Lenexa Rec Center members when hosted at the Rec Center. Lenexa.com
URL:https://kcparent.com/event/gym-for-me-67/2026-10-21/
LOCATION:Lenexa Rec Center\, 17201 W. 87th St. Pkwy.\, Lenexa\, Kansas\, 66219\, United States
ATTACH;FMTTYPE=image/jpeg:https://kcparent.com/wp-content/uploads/2025/08/gymforme.jpg
END:VEVENT
BEGIN:VEVENT
DTSTART;TZID=America/Denver:20261026T090000
DTEND;TZID=America/Denver:20261026T110000
DTSTAMP:20260417T181107
CREATED:20250824T172417Z
LAST-MODIFIED:20250827T150200Z
UID:10012891-1793005200-1793012400@kcparent.com
SUMMARY:Gym for Me
DESCRIPTION:Lenexa Rec Center; Old Town Activity Center \nA fun open gym where young children can play with balls\, tunnels and other age-appropriate equipment. Price is $3 per person (including guardians).Free for Lenexa Rec Center members when hosted at the Rec Center. Lenexa.com
URL:https://kcparent.com/event/gym-for-me-67/2026-10-26/
LOCATION:Lenexa Rec Center\, 17201 W. 87th St. Pkwy.\, Lenexa\, Kansas\, 66219\, United States
ATTACH;FMTTYPE=image/jpeg:https://kcparent.com/wp-content/uploads/2025/08/gymforme.jpg
END:VEVENT
BEGIN:VEVENT
DTSTART;TZID=America/Denver:20261028T090000
DTEND;TZID=America/Denver:20261028T110000
DTSTAMP:20260417T181107
CREATED:20250824T172417Z
LAST-MODIFIED:20250827T150200Z
UID:10012892-1793178000-1793185200@kcparent.com
SUMMARY:Gym for Me
DESCRIPTION:Lenexa Rec Center; Old Town Activity Center \nA fun open gym where young children can play with balls\, tunnels and other age-appropriate equipment. Price is $3 per person (including guardians).Free for Lenexa Rec Center members when hosted at the Rec Center. Lenexa.com
URL:https://kcparent.com/event/gym-for-me-67/2026-10-28/
LOCATION:Lenexa Rec Center\, 17201 W. 87th St. Pkwy.\, Lenexa\, Kansas\, 66219\, United States
ATTACH;FMTTYPE=image/jpeg:https://kcparent.com/wp-content/uploads/2025/08/gymforme.jpg
END:VEVENT
BEGIN:VEVENT
DTSTART;TZID=America/Denver:20261102T090000
DTEND;TZID=America/Denver:20261102T110000
DTSTAMP:20260417T181107
CREATED:20250824T172417Z
LAST-MODIFIED:20250827T150200Z
UID:10012893-1793610000-1793617200@kcparent.com
SUMMARY:Gym for Me
DESCRIPTION:Lenexa Rec Center; Old Town Activity Center \nA fun open gym where young children can play with balls\, tunnels and other age-appropriate equipment. Price is $3 per person (including guardians).Free for Lenexa Rec Center members when hosted at the Rec Center. Lenexa.com
URL:https://kcparent.com/event/gym-for-me-67/2026-11-02/
LOCATION:Lenexa Rec Center\, 17201 W. 87th St. Pkwy.\, Lenexa\, Kansas\, 66219\, United States
ATTACH;FMTTYPE=image/jpeg:https://kcparent.com/wp-content/uploads/2025/08/gymforme.jpg
END:VEVENT
BEGIN:VEVENT
DTSTART;TZID=America/Denver:20261104T090000
DTEND;TZID=America/Denver:20261104T110000
DTSTAMP:20260417T181107
CREATED:20250824T172417Z
LAST-MODIFIED:20250827T150200Z
UID:10012894-1793782800-1793790000@kcparent.com
SUMMARY:Gym for Me
DESCRIPTION:Lenexa Rec Center; Old Town Activity Center \nA fun open gym where young children can play with balls\, tunnels and other age-appropriate equipment. Price is $3 per person (including guardians).Free for Lenexa Rec Center members when hosted at the Rec Center. Lenexa.com
URL:https://kcparent.com/event/gym-for-me-67/2026-11-04/
LOCATION:Lenexa Rec Center\, 17201 W. 87th St. Pkwy.\, Lenexa\, Kansas\, 66219\, United States
ATTACH;FMTTYPE=image/jpeg:https://kcparent.com/wp-content/uploads/2025/08/gymforme.jpg
END:VEVENT
BEGIN:VEVENT
DTSTART;TZID=America/Denver:20261109T090000
DTEND;TZID=America/Denver:20261109T110000
DTSTAMP:20260417T181107
CREATED:20250824T172417Z
LAST-MODIFIED:20250827T150200Z
UID:10012895-1794214800-1794222000@kcparent.com
SUMMARY:Gym for Me
DESCRIPTION:Lenexa Rec Center; Old Town Activity Center \nA fun open gym where young children can play with balls\, tunnels and other age-appropriate equipment. Price is $3 per person (including guardians).Free for Lenexa Rec Center members when hosted at the Rec Center. Lenexa.com
URL:https://kcparent.com/event/gym-for-me-67/2026-11-09/
LOCATION:Lenexa Rec Center\, 17201 W. 87th St. Pkwy.\, Lenexa\, Kansas\, 66219\, United States
ATTACH;FMTTYPE=image/jpeg:https://kcparent.com/wp-content/uploads/2025/08/gymforme.jpg
END:VEVENT
BEGIN:VEVENT
DTSTART;TZID=America/Denver:20261111T090000
DTEND;TZID=America/Denver:20261111T110000
DTSTAMP:20260417T181107
CREATED:20250824T172417Z
LAST-MODIFIED:20250827T150200Z
UID:10012896-1794387600-1794394800@kcparent.com
SUMMARY:Gym for Me
DESCRIPTION:Lenexa Rec Center; Old Town Activity Center \nA fun open gym where young children can play with balls\, tunnels and other age-appropriate equipment. Price is $3 per person (including guardians).Free for Lenexa Rec Center members when hosted at the Rec Center. Lenexa.com
URL:https://kcparent.com/event/gym-for-me-67/2026-11-11/
LOCATION:Lenexa Rec Center\, 17201 W. 87th St. Pkwy.\, Lenexa\, Kansas\, 66219\, United States
ATTACH;FMTTYPE=image/jpeg:https://kcparent.com/wp-content/uploads/2025/08/gymforme.jpg
END:VEVENT
BEGIN:VEVENT
DTSTART;TZID=America/Denver:20261116T090000
DTEND;TZID=America/Denver:20261116T110000
DTSTAMP:20260417T181107
CREATED:20250824T172417Z
LAST-MODIFIED:20250827T150200Z
UID:10012897-1794819600-1794826800@kcparent.com
SUMMARY:Gym for Me
DESCRIPTION:Lenexa Rec Center; Old Town Activity Center \nA fun open gym where young children can play with balls\, tunnels and other age-appropriate equipment. Price is $3 per person (including guardians).Free for Lenexa Rec Center members when hosted at the Rec Center. Lenexa.com
URL:https://kcparent.com/event/gym-for-me-67/2026-11-16/
LOCATION:Lenexa Rec Center\, 17201 W. 87th St. Pkwy.\, Lenexa\, Kansas\, 66219\, United States
ATTACH;FMTTYPE=image/jpeg:https://kcparent.com/wp-content/uploads/2025/08/gymforme.jpg
END:VEVENT
BEGIN:VEVENT
DTSTART;TZID=America/Denver:20261118T090000
DTEND;TZID=America/Denver:20261118T110000
DTSTAMP:20260417T181107
CREATED:20250824T172417Z
LAST-MODIFIED:20250827T150200Z
UID:10012898-1794992400-1794999600@kcparent.com
SUMMARY:Gym for Me
DESCRIPTION:Lenexa Rec Center; Old Town Activity Center \nA fun open gym where young children can play with balls\, tunnels and other age-appropriate equipment. Price is $3 per person (including guardians).Free for Lenexa Rec Center members when hosted at the Rec Center. Lenexa.com
URL:https://kcparent.com/event/gym-for-me-67/2026-11-18/
LOCATION:Lenexa Rec Center\, 17201 W. 87th St. Pkwy.\, Lenexa\, Kansas\, 66219\, United States
ATTACH;FMTTYPE=image/jpeg:https://kcparent.com/wp-content/uploads/2025/08/gymforme.jpg
END:VEVENT
BEGIN:VEVENT
DTSTART;TZID=America/Denver:20261123T090000
DTEND;TZID=America/Denver:20261123T110000
DTSTAMP:20260417T181107
CREATED:20250824T172417Z
LAST-MODIFIED:20250827T150200Z
UID:10012899-1795424400-1795431600@kcparent.com
SUMMARY:Gym for Me
DESCRIPTION:Lenexa Rec Center; Old Town Activity Center \nA fun open gym where young children can play with balls\, tunnels and other age-appropriate equipment. Price is $3 per person (including guardians).Free for Lenexa Rec Center members when hosted at the Rec Center. Lenexa.com
URL:https://kcparent.com/event/gym-for-me-67/2026-11-23/
LOCATION:Lenexa Rec Center\, 17201 W. 87th St. Pkwy.\, Lenexa\, Kansas\, 66219\, United States
ATTACH;FMTTYPE=image/jpeg:https://kcparent.com/wp-content/uploads/2025/08/gymforme.jpg
END:VEVENT
BEGIN:VEVENT
DTSTART;TZID=America/Denver:20261125T090000
DTEND;TZID=America/Denver:20261125T110000
DTSTAMP:20260417T181107
CREATED:20250824T172417Z
LAST-MODIFIED:20250827T150200Z
UID:10012900-1795597200-1795604400@kcparent.com
SUMMARY:Gym for Me
DESCRIPTION:Lenexa Rec Center; Old Town Activity Center \nA fun open gym where young children can play with balls\, tunnels and other age-appropriate equipment. Price is $3 per person (including guardians).Free for Lenexa Rec Center members when hosted at the Rec Center. Lenexa.com
URL:https://kcparent.com/event/gym-for-me-67/2026-11-25/
LOCATION:Lenexa Rec Center\, 17201 W. 87th St. Pkwy.\, Lenexa\, Kansas\, 66219\, United States
ATTACH;FMTTYPE=image/jpeg:https://kcparent.com/wp-content/uploads/2025/08/gymforme.jpg
END:VEVENT
BEGIN:VEVENT
DTSTART;TZID=America/Denver:20261130T090000
DTEND;TZID=America/Denver:20261130T110000
DTSTAMP:20260417T181107
CREATED:20250824T172417Z
LAST-MODIFIED:20250827T150200Z
UID:10012901-1796029200-1796036400@kcparent.com
SUMMARY:Gym for Me
DESCRIPTION:Lenexa Rec Center; Old Town Activity Center \nA fun open gym where young children can play with balls\, tunnels and other age-appropriate equipment. Price is $3 per person (including guardians).Free for Lenexa Rec Center members when hosted at the Rec Center. Lenexa.com
URL:https://kcparent.com/event/gym-for-me-67/2026-11-30/
LOCATION:Lenexa Rec Center\, 17201 W. 87th St. Pkwy.\, Lenexa\, Kansas\, 66219\, United States
ATTACH;FMTTYPE=image/jpeg:https://kcparent.com/wp-content/uploads/2025/08/gymforme.jpg
END:VEVENT
BEGIN:VEVENT
DTSTART;TZID=America/Denver:20261202T090000
DTEND;TZID=America/Denver:20261202T110000
DTSTAMP:20260417T181107
CREATED:20250824T172417Z
LAST-MODIFIED:20250827T150200Z
UID:10012902-1796202000-1796209200@kcparent.com
SUMMARY:Gym for Me
DESCRIPTION:Lenexa Rec Center; Old Town Activity Center \nA fun open gym where young children can play with balls\, tunnels and other age-appropriate equipment. Price is $3 per person (including guardians).Free for Lenexa Rec Center members when hosted at the Rec Center. Lenexa.com
URL:https://kcparent.com/event/gym-for-me-67/2026-12-02/
LOCATION:Lenexa Rec Center\, 17201 W. 87th St. Pkwy.\, Lenexa\, Kansas\, 66219\, United States
ATTACH;FMTTYPE=image/jpeg:https://kcparent.com/wp-content/uploads/2025/08/gymforme.jpg
END:VEVENT
BEGIN:VEVENT
DTSTART;TZID=America/Denver:20261207T090000
DTEND;TZID=America/Denver:20261207T110000
DTSTAMP:20260417T181107
CREATED:20250824T172417Z
LAST-MODIFIED:20250827T150200Z
UID:10012903-1796634000-1796641200@kcparent.com
SUMMARY:Gym for Me
DESCRIPTION:Lenexa Rec Center; Old Town Activity Center \nA fun open gym where young children can play with balls\, tunnels and other age-appropriate equipment. Price is $3 per person (including guardians).Free for Lenexa Rec Center members when hosted at the Rec Center. Lenexa.com
URL:https://kcparent.com/event/gym-for-me-67/2026-12-07/
LOCATION:Lenexa Rec Center\, 17201 W. 87th St. Pkwy.\, Lenexa\, Kansas\, 66219\, United States
ATTACH;FMTTYPE=image/jpeg:https://kcparent.com/wp-content/uploads/2025/08/gymforme.jpg
END:VEVENT
BEGIN:VEVENT
DTSTART;TZID=America/Denver:20261209T090000
DTEND;TZID=America/Denver:20261209T110000
DTSTAMP:20260417T181107
CREATED:20250824T172417Z
LAST-MODIFIED:20250827T150200Z
UID:10012904-1796806800-1796814000@kcparent.com
SUMMARY:Gym for Me
DESCRIPTION:Lenexa Rec Center; Old Town Activity Center \nA fun open gym where young children can play with balls\, tunnels and other age-appropriate equipment. Price is $3 per person (including guardians).Free for Lenexa Rec Center members when hosted at the Rec Center. Lenexa.com
URL:https://kcparent.com/event/gym-for-me-67/2026-12-09/
LOCATION:Lenexa Rec Center\, 17201 W. 87th St. Pkwy.\, Lenexa\, Kansas\, 66219\, United States
ATTACH;FMTTYPE=image/jpeg:https://kcparent.com/wp-content/uploads/2025/08/gymforme.jpg
END:VEVENT
BEGIN:VEVENT
DTSTART;TZID=America/Denver:20261214T090000
DTEND;TZID=America/Denver:20261214T110000
DTSTAMP:20260417T181107
CREATED:20250824T172417Z
LAST-MODIFIED:20250827T150200Z
UID:10012905-1797238800-1797246000@kcparent.com
SUMMARY:Gym for Me
DESCRIPTION:Lenexa Rec Center; Old Town Activity Center \nA fun open gym where young children can play with balls\, tunnels and other age-appropriate equipment. Price is $3 per person (including guardians).Free for Lenexa Rec Center members when hosted at the Rec Center. Lenexa.com
URL:https://kcparent.com/event/gym-for-me-67/2026-12-14/
LOCATION:Lenexa Rec Center\, 17201 W. 87th St. Pkwy.\, Lenexa\, Kansas\, 66219\, United States
ATTACH;FMTTYPE=image/jpeg:https://kcparent.com/wp-content/uploads/2025/08/gymforme.jpg
END:VEVENT
BEGIN:VEVENT
DTSTART;TZID=America/Denver:20261216T090000
DTEND;TZID=America/Denver:20261216T110000
DTSTAMP:20260417T181107
CREATED:20250824T172417Z
LAST-MODIFIED:20250827T150200Z
UID:10012906-1797411600-1797418800@kcparent.com
SUMMARY:Gym for Me
DESCRIPTION:Lenexa Rec Center; Old Town Activity Center \nA fun open gym where young children can play with balls\, tunnels and other age-appropriate equipment. Price is $3 per person (including guardians).Free for Lenexa Rec Center members when hosted at the Rec Center. Lenexa.com
URL:https://kcparent.com/event/gym-for-me-67/2026-12-16/
LOCATION:Lenexa Rec Center\, 17201 W. 87th St. Pkwy.\, Lenexa\, Kansas\, 66219\, United States
ATTACH;FMTTYPE=image/jpeg:https://kcparent.com/wp-content/uploads/2025/08/gymforme.jpg
END:VEVENT
BEGIN:VEVENT
DTSTART;TZID=America/Denver:20261221T090000
DTEND;TZID=America/Denver:20261221T110000
DTSTAMP:20260417T181107
CREATED:20250824T172417Z
LAST-MODIFIED:20250827T150200Z
UID:10012907-1797843600-1797850800@kcparent.com
SUMMARY:Gym for Me
DESCRIPTION:Lenexa Rec Center; Old Town Activity Center \nA fun open gym where young children can play with balls\, tunnels and other age-appropriate equipment. Price is $3 per person (including guardians).Free for Lenexa Rec Center members when hosted at the Rec Center. Lenexa.com
URL:https://kcparent.com/event/gym-for-me-67/2026-12-21/
LOCATION:Lenexa Rec Center\, 17201 W. 87th St. Pkwy.\, Lenexa\, Kansas\, 66219\, United States
ATTACH;FMTTYPE=image/jpeg:https://kcparent.com/wp-content/uploads/2025/08/gymforme.jpg
END:VEVENT
BEGIN:VEVENT
DTSTART;TZID=America/Denver:20261223T090000
DTEND;TZID=America/Denver:20261223T110000
DTSTAMP:20260417T181107
CREATED:20250824T172417Z
LAST-MODIFIED:20250827T150200Z
UID:10012908-1798016400-1798023600@kcparent.com
SUMMARY:Gym for Me
DESCRIPTION:Lenexa Rec Center; Old Town Activity Center \nA fun open gym where young children can play with balls\, tunnels and other age-appropriate equipment. Price is $3 per person (including guardians).Free for Lenexa Rec Center members when hosted at the Rec Center. Lenexa.com
URL:https://kcparent.com/event/gym-for-me-67/2026-12-23/
LOCATION:Lenexa Rec Center\, 17201 W. 87th St. Pkwy.\, Lenexa\, Kansas\, 66219\, United States
ATTACH;FMTTYPE=image/jpeg:https://kcparent.com/wp-content/uploads/2025/08/gymforme.jpg
END:VEVENT
BEGIN:VEVENT
DTSTART;TZID=America/Denver:20261228T090000
DTEND;TZID=America/Denver:20261228T110000
DTSTAMP:20260417T181107
CREATED:20250824T172417Z
LAST-MODIFIED:20250827T150200Z
UID:10012909-1798448400-1798455600@kcparent.com
SUMMARY:Gym for Me
DESCRIPTION:Lenexa Rec Center; Old Town Activity Center \nA fun open gym where young children can play with balls\, tunnels and other age-appropriate equipment. Price is $3 per person (including guardians).Free for Lenexa Rec Center members when hosted at the Rec Center. Lenexa.com
URL:https://kcparent.com/event/gym-for-me-67/2026-12-28/
LOCATION:Lenexa Rec Center\, 17201 W. 87th St. Pkwy.\, Lenexa\, Kansas\, 66219\, United States
ATTACH;FMTTYPE=image/jpeg:https://kcparent.com/wp-content/uploads/2025/08/gymforme.jpg
END:VEVENT
BEGIN:VEVENT
DTSTART;TZID=America/Denver:20261230T090000
DTEND;TZID=America/Denver:20261230T110000
DTSTAMP:20260417T181107
CREATED:20250824T172417Z
LAST-MODIFIED:20250827T150200Z
UID:10012910-1798621200-1798628400@kcparent.com
SUMMARY:Gym for Me
DESCRIPTION:Lenexa Rec Center; Old Town Activity Center \nA fun open gym where young children can play with balls\, tunnels and other age-appropriate equipment. Price is $3 per person (including guardians).Free for Lenexa Rec Center members when hosted at the Rec Center. Lenexa.com
URL:https://kcparent.com/event/gym-for-me-67/2026-12-30/
LOCATION:Lenexa Rec Center\, 17201 W. 87th St. Pkwy.\, Lenexa\, Kansas\, 66219\, United States
ATTACH;FMTTYPE=image/jpeg:https://kcparent.com/wp-content/uploads/2025/08/gymforme.jpg
END:VEVENT
END:VCALENDAR