BEGIN:VCALENDAR
VERSION:2.0
PRODID:-//KC Parent - ECPv6.15.18//NONSGML v1.0//EN
CALSCALE:GREGORIAN
METHOD:PUBLISH
X-ORIGINAL-URL:https://kcparent.com
X-WR-CALDESC:Events for KC Parent
REFRESH-INTERVAL;VALUE=DURATION:PT1H
X-Robots-Tag:noindex
X-PUBLISHED-TTL:PT1H
BEGIN:VTIMEZONE
TZID:America/Denver
BEGIN:DAYLIGHT
TZOFFSETFROM:-0700
TZOFFSETTO:-0600
TZNAME:MDT
DTSTART:20250309T090000
END:DAYLIGHT
BEGIN:STANDARD
TZOFFSETFROM:-0600
TZOFFSETTO:-0700
TZNAME:MST
DTSTART:20251102T080000
END:STANDARD
BEGIN:DAYLIGHT
TZOFFSETFROM:-0700
TZOFFSETTO:-0600
TZNAME:MDT
DTSTART:20260308T090000
END:DAYLIGHT
BEGIN:STANDARD
TZOFFSETFROM:-0600
TZOFFSETTO:-0700
TZNAME:MST
DTSTART:20261101T080000
END:STANDARD
BEGIN:DAYLIGHT
TZOFFSETFROM:-0700
TZOFFSETTO:-0600
TZNAME:MDT
DTSTART:20270314T090000
END:DAYLIGHT
BEGIN:STANDARD
TZOFFSETFROM:-0600
TZOFFSETTO:-0700
TZNAME:MST
DTSTART:20271107T080000
END:STANDARD
END:VTIMEZONE
BEGIN:VEVENT
DTSTART;TZID=America/Denver:20260422T090000
DTEND;TZID=America/Denver:20260422T110000
DTSTAMP:20260420T123315
CREATED:20250824T172417Z
LAST-MODIFIED:20250827T150200Z
UID:10012838-1776848400-1776855600@kcparent.com
SUMMARY:Gym for Me
DESCRIPTION:Lenexa Rec Center; Old Town Activity Center \nA fun open gym where young children can play with balls\, tunnels and other age-appropriate equipment. Price is $3 per person (including guardians).Free for Lenexa Rec Center members when hosted at the Rec Center. Lenexa.com
URL:https://kcparent.com/event/gym-for-me-67/2026-04-22/
LOCATION:Lenexa Rec Center\, 17201 W. 87th St. Pkwy.\, Lenexa\, Kansas\, 66219\, United States
ATTACH;FMTTYPE=image/jpeg:https://kcparent.com/wp-content/uploads/2025/08/gymforme.jpg
END:VEVENT
BEGIN:VEVENT
DTSTART;TZID=America/Denver:20260427T090000
DTEND;TZID=America/Denver:20260427T110000
DTSTAMP:20260420T123315
CREATED:20250824T172417Z
LAST-MODIFIED:20250827T150200Z
UID:10012839-1777280400-1777287600@kcparent.com
SUMMARY:Gym for Me
DESCRIPTION:Lenexa Rec Center; Old Town Activity Center \nA fun open gym where young children can play with balls\, tunnels and other age-appropriate equipment. Price is $3 per person (including guardians).Free for Lenexa Rec Center members when hosted at the Rec Center. Lenexa.com
URL:https://kcparent.com/event/gym-for-me-67/2026-04-27/
LOCATION:Lenexa Rec Center\, 17201 W. 87th St. Pkwy.\, Lenexa\, Kansas\, 66219\, United States
ATTACH;FMTTYPE=image/jpeg:https://kcparent.com/wp-content/uploads/2025/08/gymforme.jpg
END:VEVENT
BEGIN:VEVENT
DTSTART;TZID=America/Denver:20260429T090000
DTEND;TZID=America/Denver:20260429T110000
DTSTAMP:20260420T123315
CREATED:20250824T172417Z
LAST-MODIFIED:20250827T150200Z
UID:10012840-1777453200-1777460400@kcparent.com
SUMMARY:Gym for Me
DESCRIPTION:Lenexa Rec Center; Old Town Activity Center \nA fun open gym where young children can play with balls\, tunnels and other age-appropriate equipment. Price is $3 per person (including guardians).Free for Lenexa Rec Center members when hosted at the Rec Center. Lenexa.com
URL:https://kcparent.com/event/gym-for-me-67/2026-04-29/
LOCATION:Lenexa Rec Center\, 17201 W. 87th St. Pkwy.\, Lenexa\, Kansas\, 66219\, United States
ATTACH;FMTTYPE=image/jpeg:https://kcparent.com/wp-content/uploads/2025/08/gymforme.jpg
END:VEVENT
BEGIN:VEVENT
DTSTART;TZID=America/Denver:20260504T090000
DTEND;TZID=America/Denver:20260504T110000
DTSTAMP:20260420T123315
CREATED:20250824T172417Z
LAST-MODIFIED:20250827T150200Z
UID:10012841-1777885200-1777892400@kcparent.com
SUMMARY:Gym for Me
DESCRIPTION:Lenexa Rec Center; Old Town Activity Center \nA fun open gym where young children can play with balls\, tunnels and other age-appropriate equipment. Price is $3 per person (including guardians).Free for Lenexa Rec Center members when hosted at the Rec Center. Lenexa.com
URL:https://kcparent.com/event/gym-for-me-67/2026-05-04/
LOCATION:Lenexa Rec Center\, 17201 W. 87th St. Pkwy.\, Lenexa\, Kansas\, 66219\, United States
ATTACH;FMTTYPE=image/jpeg:https://kcparent.com/wp-content/uploads/2025/08/gymforme.jpg
END:VEVENT
BEGIN:VEVENT
DTSTART;TZID=America/Denver:20260506T090000
DTEND;TZID=America/Denver:20260506T110000
DTSTAMP:20260420T123315
CREATED:20250824T172417Z
LAST-MODIFIED:20250827T150200Z
UID:10012842-1778058000-1778065200@kcparent.com
SUMMARY:Gym for Me
DESCRIPTION:Lenexa Rec Center; Old Town Activity Center \nA fun open gym where young children can play with balls\, tunnels and other age-appropriate equipment. Price is $3 per person (including guardians).Free for Lenexa Rec Center members when hosted at the Rec Center. Lenexa.com
URL:https://kcparent.com/event/gym-for-me-67/2026-05-06/
LOCATION:Lenexa Rec Center\, 17201 W. 87th St. Pkwy.\, Lenexa\, Kansas\, 66219\, United States
ATTACH;FMTTYPE=image/jpeg:https://kcparent.com/wp-content/uploads/2025/08/gymforme.jpg
END:VEVENT
BEGIN:VEVENT
DTSTART;TZID=America/Denver:20260511T090000
DTEND;TZID=America/Denver:20260511T110000
DTSTAMP:20260420T123315
CREATED:20250824T172417Z
LAST-MODIFIED:20250827T150200Z
UID:10012843-1778490000-1778497200@kcparent.com
SUMMARY:Gym for Me
DESCRIPTION:Lenexa Rec Center; Old Town Activity Center \nA fun open gym where young children can play with balls\, tunnels and other age-appropriate equipment. Price is $3 per person (including guardians).Free for Lenexa Rec Center members when hosted at the Rec Center. Lenexa.com
URL:https://kcparent.com/event/gym-for-me-67/2026-05-11/
LOCATION:Lenexa Rec Center\, 17201 W. 87th St. Pkwy.\, Lenexa\, Kansas\, 66219\, United States
ATTACH;FMTTYPE=image/jpeg:https://kcparent.com/wp-content/uploads/2025/08/gymforme.jpg
END:VEVENT
BEGIN:VEVENT
DTSTART;TZID=America/Denver:20260513T090000
DTEND;TZID=America/Denver:20260513T110000
DTSTAMP:20260420T123315
CREATED:20250824T172417Z
LAST-MODIFIED:20250827T150200Z
UID:10012844-1778662800-1778670000@kcparent.com
SUMMARY:Gym for Me
DESCRIPTION:Lenexa Rec Center; Old Town Activity Center \nA fun open gym where young children can play with balls\, tunnels and other age-appropriate equipment. Price is $3 per person (including guardians).Free for Lenexa Rec Center members when hosted at the Rec Center. Lenexa.com
URL:https://kcparent.com/event/gym-for-me-67/2026-05-13/
LOCATION:Lenexa Rec Center\, 17201 W. 87th St. Pkwy.\, Lenexa\, Kansas\, 66219\, United States
ATTACH;FMTTYPE=image/jpeg:https://kcparent.com/wp-content/uploads/2025/08/gymforme.jpg
END:VEVENT
BEGIN:VEVENT
DTSTART;TZID=America/Denver:20260518T090000
DTEND;TZID=America/Denver:20260518T110000
DTSTAMP:20260420T123315
CREATED:20250824T172417Z
LAST-MODIFIED:20250827T150200Z
UID:10012845-1779094800-1779102000@kcparent.com
SUMMARY:Gym for Me
DESCRIPTION:Lenexa Rec Center; Old Town Activity Center \nA fun open gym where young children can play with balls\, tunnels and other age-appropriate equipment. Price is $3 per person (including guardians).Free for Lenexa Rec Center members when hosted at the Rec Center. Lenexa.com
URL:https://kcparent.com/event/gym-for-me-67/2026-05-18/
LOCATION:Lenexa Rec Center\, 17201 W. 87th St. Pkwy.\, Lenexa\, Kansas\, 66219\, United States
ATTACH;FMTTYPE=image/jpeg:https://kcparent.com/wp-content/uploads/2025/08/gymforme.jpg
END:VEVENT
BEGIN:VEVENT
DTSTART;TZID=America/Denver:20260520T090000
DTEND;TZID=America/Denver:20260520T110000
DTSTAMP:20260420T123315
CREATED:20250824T172417Z
LAST-MODIFIED:20250827T150200Z
UID:10012846-1779267600-1779274800@kcparent.com
SUMMARY:Gym for Me
DESCRIPTION:Lenexa Rec Center; Old Town Activity Center \nA fun open gym where young children can play with balls\, tunnels and other age-appropriate equipment. Price is $3 per person (including guardians).Free for Lenexa Rec Center members when hosted at the Rec Center. Lenexa.com
URL:https://kcparent.com/event/gym-for-me-67/2026-05-20/
LOCATION:Lenexa Rec Center\, 17201 W. 87th St. Pkwy.\, Lenexa\, Kansas\, 66219\, United States
ATTACH;FMTTYPE=image/jpeg:https://kcparent.com/wp-content/uploads/2025/08/gymforme.jpg
END:VEVENT
BEGIN:VEVENT
DTSTART;TZID=America/Denver:20260525T090000
DTEND;TZID=America/Denver:20260525T110000
DTSTAMP:20260420T123315
CREATED:20250824T172417Z
LAST-MODIFIED:20250827T150200Z
UID:10012847-1779699600-1779706800@kcparent.com
SUMMARY:Gym for Me
DESCRIPTION:Lenexa Rec Center; Old Town Activity Center \nA fun open gym where young children can play with balls\, tunnels and other age-appropriate equipment. Price is $3 per person (including guardians).Free for Lenexa Rec Center members when hosted at the Rec Center. Lenexa.com
URL:https://kcparent.com/event/gym-for-me-67/2026-05-25/
LOCATION:Lenexa Rec Center\, 17201 W. 87th St. Pkwy.\, Lenexa\, Kansas\, 66219\, United States
ATTACH;FMTTYPE=image/jpeg:https://kcparent.com/wp-content/uploads/2025/08/gymforme.jpg
END:VEVENT
BEGIN:VEVENT
DTSTART;TZID=America/Denver:20260527T090000
DTEND;TZID=America/Denver:20260527T110000
DTSTAMP:20260420T123315
CREATED:20250824T172417Z
LAST-MODIFIED:20250827T150200Z
UID:10012848-1779872400-1779879600@kcparent.com
SUMMARY:Gym for Me
DESCRIPTION:Lenexa Rec Center; Old Town Activity Center \nA fun open gym where young children can play with balls\, tunnels and other age-appropriate equipment. Price is $3 per person (including guardians).Free for Lenexa Rec Center members when hosted at the Rec Center. Lenexa.com
URL:https://kcparent.com/event/gym-for-me-67/2026-05-27/
LOCATION:Lenexa Rec Center\, 17201 W. 87th St. Pkwy.\, Lenexa\, Kansas\, 66219\, United States
ATTACH;FMTTYPE=image/jpeg:https://kcparent.com/wp-content/uploads/2025/08/gymforme.jpg
END:VEVENT
BEGIN:VEVENT
DTSTART;TZID=America/Denver:20260601T090000
DTEND;TZID=America/Denver:20260601T110000
DTSTAMP:20260420T123315
CREATED:20250824T172417Z
LAST-MODIFIED:20250827T150200Z
UID:10012849-1780304400-1780311600@kcparent.com
SUMMARY:Gym for Me
DESCRIPTION:Lenexa Rec Center; Old Town Activity Center \nA fun open gym where young children can play with balls\, tunnels and other age-appropriate equipment. Price is $3 per person (including guardians).Free for Lenexa Rec Center members when hosted at the Rec Center. Lenexa.com
URL:https://kcparent.com/event/gym-for-me-67/2026-06-01/
LOCATION:Lenexa Rec Center\, 17201 W. 87th St. Pkwy.\, Lenexa\, Kansas\, 66219\, United States
ATTACH;FMTTYPE=image/jpeg:https://kcparent.com/wp-content/uploads/2025/08/gymforme.jpg
END:VEVENT
BEGIN:VEVENT
DTSTART;TZID=America/Denver:20260603T090000
DTEND;TZID=America/Denver:20260603T110000
DTSTAMP:20260420T123315
CREATED:20250824T172417Z
LAST-MODIFIED:20250827T150200Z
UID:10012850-1780477200-1780484400@kcparent.com
SUMMARY:Gym for Me
DESCRIPTION:Lenexa Rec Center; Old Town Activity Center \nA fun open gym where young children can play with balls\, tunnels and other age-appropriate equipment. Price is $3 per person (including guardians).Free for Lenexa Rec Center members when hosted at the Rec Center. Lenexa.com
URL:https://kcparent.com/event/gym-for-me-67/2026-06-03/
LOCATION:Lenexa Rec Center\, 17201 W. 87th St. Pkwy.\, Lenexa\, Kansas\, 66219\, United States
ATTACH;FMTTYPE=image/jpeg:https://kcparent.com/wp-content/uploads/2025/08/gymforme.jpg
END:VEVENT
BEGIN:VEVENT
DTSTART;TZID=America/Denver:20260608T090000
DTEND;TZID=America/Denver:20260608T110000
DTSTAMP:20260420T123315
CREATED:20250824T172417Z
LAST-MODIFIED:20250827T150200Z
UID:10012851-1780909200-1780916400@kcparent.com
SUMMARY:Gym for Me
DESCRIPTION:Lenexa Rec Center; Old Town Activity Center \nA fun open gym where young children can play with balls\, tunnels and other age-appropriate equipment. Price is $3 per person (including guardians).Free for Lenexa Rec Center members when hosted at the Rec Center. Lenexa.com
URL:https://kcparent.com/event/gym-for-me-67/2026-06-08/
LOCATION:Lenexa Rec Center\, 17201 W. 87th St. Pkwy.\, Lenexa\, Kansas\, 66219\, United States
ATTACH;FMTTYPE=image/jpeg:https://kcparent.com/wp-content/uploads/2025/08/gymforme.jpg
END:VEVENT
BEGIN:VEVENT
DTSTART;TZID=America/Denver:20260610T090000
DTEND;TZID=America/Denver:20260610T110000
DTSTAMP:20260420T123315
CREATED:20250824T172417Z
LAST-MODIFIED:20250827T150200Z
UID:10012852-1781082000-1781089200@kcparent.com
SUMMARY:Gym for Me
DESCRIPTION:Lenexa Rec Center; Old Town Activity Center \nA fun open gym where young children can play with balls\, tunnels and other age-appropriate equipment. Price is $3 per person (including guardians).Free for Lenexa Rec Center members when hosted at the Rec Center. Lenexa.com
URL:https://kcparent.com/event/gym-for-me-67/2026-06-10/
LOCATION:Lenexa Rec Center\, 17201 W. 87th St. Pkwy.\, Lenexa\, Kansas\, 66219\, United States
ATTACH;FMTTYPE=image/jpeg:https://kcparent.com/wp-content/uploads/2025/08/gymforme.jpg
END:VEVENT
BEGIN:VEVENT
DTSTART;TZID=America/Denver:20260615T090000
DTEND;TZID=America/Denver:20260615T110000
DTSTAMP:20260420T123315
CREATED:20250824T172417Z
LAST-MODIFIED:20250827T150200Z
UID:10012853-1781514000-1781521200@kcparent.com
SUMMARY:Gym for Me
DESCRIPTION:Lenexa Rec Center; Old Town Activity Center \nA fun open gym where young children can play with balls\, tunnels and other age-appropriate equipment. Price is $3 per person (including guardians).Free for Lenexa Rec Center members when hosted at the Rec Center. Lenexa.com
URL:https://kcparent.com/event/gym-for-me-67/2026-06-15/
LOCATION:Lenexa Rec Center\, 17201 W. 87th St. Pkwy.\, Lenexa\, Kansas\, 66219\, United States
ATTACH;FMTTYPE=image/jpeg:https://kcparent.com/wp-content/uploads/2025/08/gymforme.jpg
END:VEVENT
BEGIN:VEVENT
DTSTART;TZID=America/Denver:20260617T090000
DTEND;TZID=America/Denver:20260617T110000
DTSTAMP:20260420T123315
CREATED:20250824T172417Z
LAST-MODIFIED:20250827T150200Z
UID:10012854-1781686800-1781694000@kcparent.com
SUMMARY:Gym for Me
DESCRIPTION:Lenexa Rec Center; Old Town Activity Center \nA fun open gym where young children can play with balls\, tunnels and other age-appropriate equipment. Price is $3 per person (including guardians).Free for Lenexa Rec Center members when hosted at the Rec Center. Lenexa.com
URL:https://kcparent.com/event/gym-for-me-67/2026-06-17/
LOCATION:Lenexa Rec Center\, 17201 W. 87th St. Pkwy.\, Lenexa\, Kansas\, 66219\, United States
ATTACH;FMTTYPE=image/jpeg:https://kcparent.com/wp-content/uploads/2025/08/gymforme.jpg
END:VEVENT
BEGIN:VEVENT
DTSTART;TZID=America/Denver:20260622T090000
DTEND;TZID=America/Denver:20260622T110000
DTSTAMP:20260420T123315
CREATED:20250824T172417Z
LAST-MODIFIED:20250827T150200Z
UID:10012855-1782118800-1782126000@kcparent.com
SUMMARY:Gym for Me
DESCRIPTION:Lenexa Rec Center; Old Town Activity Center \nA fun open gym where young children can play with balls\, tunnels and other age-appropriate equipment. Price is $3 per person (including guardians).Free for Lenexa Rec Center members when hosted at the Rec Center. Lenexa.com
URL:https://kcparent.com/event/gym-for-me-67/2026-06-22/
LOCATION:Lenexa Rec Center\, 17201 W. 87th St. Pkwy.\, Lenexa\, Kansas\, 66219\, United States
ATTACH;FMTTYPE=image/jpeg:https://kcparent.com/wp-content/uploads/2025/08/gymforme.jpg
END:VEVENT
BEGIN:VEVENT
DTSTART;TZID=America/Denver:20260624T090000
DTEND;TZID=America/Denver:20260624T110000
DTSTAMP:20260420T123315
CREATED:20250824T172417Z
LAST-MODIFIED:20250827T150200Z
UID:10012856-1782291600-1782298800@kcparent.com
SUMMARY:Gym for Me
DESCRIPTION:Lenexa Rec Center; Old Town Activity Center \nA fun open gym where young children can play with balls\, tunnels and other age-appropriate equipment. Price is $3 per person (including guardians).Free for Lenexa Rec Center members when hosted at the Rec Center. Lenexa.com
URL:https://kcparent.com/event/gym-for-me-67/2026-06-24/
LOCATION:Lenexa Rec Center\, 17201 W. 87th St. Pkwy.\, Lenexa\, Kansas\, 66219\, United States
ATTACH;FMTTYPE=image/jpeg:https://kcparent.com/wp-content/uploads/2025/08/gymforme.jpg
END:VEVENT
BEGIN:VEVENT
DTSTART;TZID=America/Denver:20260629T090000
DTEND;TZID=America/Denver:20260629T110000
DTSTAMP:20260420T123315
CREATED:20250824T172417Z
LAST-MODIFIED:20250827T150200Z
UID:10012857-1782723600-1782730800@kcparent.com
SUMMARY:Gym for Me
DESCRIPTION:Lenexa Rec Center; Old Town Activity Center \nA fun open gym where young children can play with balls\, tunnels and other age-appropriate equipment. Price is $3 per person (including guardians).Free for Lenexa Rec Center members when hosted at the Rec Center. Lenexa.com
URL:https://kcparent.com/event/gym-for-me-67/2026-06-29/
LOCATION:Lenexa Rec Center\, 17201 W. 87th St. Pkwy.\, Lenexa\, Kansas\, 66219\, United States
ATTACH;FMTTYPE=image/jpeg:https://kcparent.com/wp-content/uploads/2025/08/gymforme.jpg
END:VEVENT
BEGIN:VEVENT
DTSTART;TZID=America/Denver:20260701T090000
DTEND;TZID=America/Denver:20260701T110000
DTSTAMP:20260420T123315
CREATED:20250824T172417Z
LAST-MODIFIED:20250827T150200Z
UID:10012858-1782896400-1782903600@kcparent.com
SUMMARY:Gym for Me
DESCRIPTION:Lenexa Rec Center; Old Town Activity Center \nA fun open gym where young children can play with balls\, tunnels and other age-appropriate equipment. Price is $3 per person (including guardians).Free for Lenexa Rec Center members when hosted at the Rec Center. Lenexa.com
URL:https://kcparent.com/event/gym-for-me-67/2026-07-01/
LOCATION:Lenexa Rec Center\, 17201 W. 87th St. Pkwy.\, Lenexa\, Kansas\, 66219\, United States
ATTACH;FMTTYPE=image/jpeg:https://kcparent.com/wp-content/uploads/2025/08/gymforme.jpg
END:VEVENT
BEGIN:VEVENT
DTSTART;TZID=America/Denver:20260706T090000
DTEND;TZID=America/Denver:20260706T110000
DTSTAMP:20260420T123315
CREATED:20250824T172417Z
LAST-MODIFIED:20250827T150200Z
UID:10012859-1783328400-1783335600@kcparent.com
SUMMARY:Gym for Me
DESCRIPTION:Lenexa Rec Center; Old Town Activity Center \nA fun open gym where young children can play with balls\, tunnels and other age-appropriate equipment. Price is $3 per person (including guardians).Free for Lenexa Rec Center members when hosted at the Rec Center. Lenexa.com
URL:https://kcparent.com/event/gym-for-me-67/2026-07-06/
LOCATION:Lenexa Rec Center\, 17201 W. 87th St. Pkwy.\, Lenexa\, Kansas\, 66219\, United States
ATTACH;FMTTYPE=image/jpeg:https://kcparent.com/wp-content/uploads/2025/08/gymforme.jpg
END:VEVENT
BEGIN:VEVENT
DTSTART;TZID=America/Denver:20260708T090000
DTEND;TZID=America/Denver:20260708T110000
DTSTAMP:20260420T123316
CREATED:20250824T172417Z
LAST-MODIFIED:20250827T150200Z
UID:10012860-1783501200-1783508400@kcparent.com
SUMMARY:Gym for Me
DESCRIPTION:Lenexa Rec Center; Old Town Activity Center \nA fun open gym where young children can play with balls\, tunnels and other age-appropriate equipment. Price is $3 per person (including guardians).Free for Lenexa Rec Center members when hosted at the Rec Center. Lenexa.com
URL:https://kcparent.com/event/gym-for-me-67/2026-07-08/
LOCATION:Lenexa Rec Center\, 17201 W. 87th St. Pkwy.\, Lenexa\, Kansas\, 66219\, United States
ATTACH;FMTTYPE=image/jpeg:https://kcparent.com/wp-content/uploads/2025/08/gymforme.jpg
END:VEVENT
BEGIN:VEVENT
DTSTART;TZID=America/Denver:20260713T090000
DTEND;TZID=America/Denver:20260713T110000
DTSTAMP:20260420T123316
CREATED:20250824T172417Z
LAST-MODIFIED:20250827T150200Z
UID:10012861-1783933200-1783940400@kcparent.com
SUMMARY:Gym for Me
DESCRIPTION:Lenexa Rec Center; Old Town Activity Center \nA fun open gym where young children can play with balls\, tunnels and other age-appropriate equipment. Price is $3 per person (including guardians).Free for Lenexa Rec Center members when hosted at the Rec Center. Lenexa.com
URL:https://kcparent.com/event/gym-for-me-67/2026-07-13/
LOCATION:Lenexa Rec Center\, 17201 W. 87th St. Pkwy.\, Lenexa\, Kansas\, 66219\, United States
ATTACH;FMTTYPE=image/jpeg:https://kcparent.com/wp-content/uploads/2025/08/gymforme.jpg
END:VEVENT
BEGIN:VEVENT
DTSTART;TZID=America/Denver:20260715T090000
DTEND;TZID=America/Denver:20260715T110000
DTSTAMP:20260420T123316
CREATED:20250824T172417Z
LAST-MODIFIED:20250827T150200Z
UID:10012862-1784106000-1784113200@kcparent.com
SUMMARY:Gym for Me
DESCRIPTION:Lenexa Rec Center; Old Town Activity Center \nA fun open gym where young children can play with balls\, tunnels and other age-appropriate equipment. Price is $3 per person (including guardians).Free for Lenexa Rec Center members when hosted at the Rec Center. Lenexa.com
URL:https://kcparent.com/event/gym-for-me-67/2026-07-15/
LOCATION:Lenexa Rec Center\, 17201 W. 87th St. Pkwy.\, Lenexa\, Kansas\, 66219\, United States
ATTACH;FMTTYPE=image/jpeg:https://kcparent.com/wp-content/uploads/2025/08/gymforme.jpg
END:VEVENT
BEGIN:VEVENT
DTSTART;TZID=America/Denver:20260720T090000
DTEND;TZID=America/Denver:20260720T110000
DTSTAMP:20260420T123316
CREATED:20250824T172417Z
LAST-MODIFIED:20250827T150200Z
UID:10012863-1784538000-1784545200@kcparent.com
SUMMARY:Gym for Me
DESCRIPTION:Lenexa Rec Center; Old Town Activity Center \nA fun open gym where young children can play with balls\, tunnels and other age-appropriate equipment. Price is $3 per person (including guardians).Free for Lenexa Rec Center members when hosted at the Rec Center. Lenexa.com
URL:https://kcparent.com/event/gym-for-me-67/2026-07-20/
LOCATION:Lenexa Rec Center\, 17201 W. 87th St. Pkwy.\, Lenexa\, Kansas\, 66219\, United States
ATTACH;FMTTYPE=image/jpeg:https://kcparent.com/wp-content/uploads/2025/08/gymforme.jpg
END:VEVENT
BEGIN:VEVENT
DTSTART;TZID=America/Denver:20260722T090000
DTEND;TZID=America/Denver:20260722T110000
DTSTAMP:20260420T123316
CREATED:20250824T172417Z
LAST-MODIFIED:20250827T150200Z
UID:10012864-1784710800-1784718000@kcparent.com
SUMMARY:Gym for Me
DESCRIPTION:Lenexa Rec Center; Old Town Activity Center \nA fun open gym where young children can play with balls\, tunnels and other age-appropriate equipment. Price is $3 per person (including guardians).Free for Lenexa Rec Center members when hosted at the Rec Center. Lenexa.com
URL:https://kcparent.com/event/gym-for-me-67/2026-07-22/
LOCATION:Lenexa Rec Center\, 17201 W. 87th St. Pkwy.\, Lenexa\, Kansas\, 66219\, United States
ATTACH;FMTTYPE=image/jpeg:https://kcparent.com/wp-content/uploads/2025/08/gymforme.jpg
END:VEVENT
BEGIN:VEVENT
DTSTART;TZID=America/Denver:20260727T090000
DTEND;TZID=America/Denver:20260727T110000
DTSTAMP:20260420T123316
CREATED:20250824T172417Z
LAST-MODIFIED:20250827T150200Z
UID:10012865-1785142800-1785150000@kcparent.com
SUMMARY:Gym for Me
DESCRIPTION:Lenexa Rec Center; Old Town Activity Center \nA fun open gym where young children can play with balls\, tunnels and other age-appropriate equipment. Price is $3 per person (including guardians).Free for Lenexa Rec Center members when hosted at the Rec Center. Lenexa.com
URL:https://kcparent.com/event/gym-for-me-67/2026-07-27/
LOCATION:Lenexa Rec Center\, 17201 W. 87th St. Pkwy.\, Lenexa\, Kansas\, 66219\, United States
ATTACH;FMTTYPE=image/jpeg:https://kcparent.com/wp-content/uploads/2025/08/gymforme.jpg
END:VEVENT
BEGIN:VEVENT
DTSTART;TZID=America/Denver:20260729T090000
DTEND;TZID=America/Denver:20260729T110000
DTSTAMP:20260420T123316
CREATED:20250824T172417Z
LAST-MODIFIED:20250827T150200Z
UID:10012866-1785315600-1785322800@kcparent.com
SUMMARY:Gym for Me
DESCRIPTION:Lenexa Rec Center; Old Town Activity Center \nA fun open gym where young children can play with balls\, tunnels and other age-appropriate equipment. Price is $3 per person (including guardians).Free for Lenexa Rec Center members when hosted at the Rec Center. Lenexa.com
URL:https://kcparent.com/event/gym-for-me-67/2026-07-29/
LOCATION:Lenexa Rec Center\, 17201 W. 87th St. Pkwy.\, Lenexa\, Kansas\, 66219\, United States
ATTACH;FMTTYPE=image/jpeg:https://kcparent.com/wp-content/uploads/2025/08/gymforme.jpg
END:VEVENT
BEGIN:VEVENT
DTSTART;TZID=America/Denver:20260803T090000
DTEND;TZID=America/Denver:20260803T110000
DTSTAMP:20260420T123316
CREATED:20250824T172417Z
LAST-MODIFIED:20250827T150200Z
UID:10012867-1785747600-1785754800@kcparent.com
SUMMARY:Gym for Me
DESCRIPTION:Lenexa Rec Center; Old Town Activity Center \nA fun open gym where young children can play with balls\, tunnels and other age-appropriate equipment. Price is $3 per person (including guardians).Free for Lenexa Rec Center members when hosted at the Rec Center. Lenexa.com
URL:https://kcparent.com/event/gym-for-me-67/2026-08-03/
LOCATION:Lenexa Rec Center\, 17201 W. 87th St. Pkwy.\, Lenexa\, Kansas\, 66219\, United States
ATTACH;FMTTYPE=image/jpeg:https://kcparent.com/wp-content/uploads/2025/08/gymforme.jpg
END:VEVENT
END:VCALENDAR