BEGIN:VCALENDAR
VERSION:2.0
PRODID:-//KC Parent - ECPv6.15.18//NONSGML v1.0//EN
CALSCALE:GREGORIAN
METHOD:PUBLISH
X-ORIGINAL-URL:https://kcparent.com
X-WR-CALDESC:Events for KC Parent
REFRESH-INTERVAL;VALUE=DURATION:PT1H
X-Robots-Tag:noindex
X-PUBLISHED-TTL:PT1H
BEGIN:VTIMEZONE
TZID:America/Denver
BEGIN:DAYLIGHT
TZOFFSETFROM:-0700
TZOFFSETTO:-0600
TZNAME:MDT
DTSTART:20240310T090000
END:DAYLIGHT
BEGIN:STANDARD
TZOFFSETFROM:-0600
TZOFFSETTO:-0700
TZNAME:MST
DTSTART:20241103T080000
END:STANDARD
BEGIN:DAYLIGHT
TZOFFSETFROM:-0700
TZOFFSETTO:-0600
TZNAME:MDT
DTSTART:20250309T090000
END:DAYLIGHT
BEGIN:STANDARD
TZOFFSETFROM:-0600
TZOFFSETTO:-0700
TZNAME:MST
DTSTART:20251102T080000
END:STANDARD
BEGIN:DAYLIGHT
TZOFFSETFROM:-0700
TZOFFSETTO:-0600
TZNAME:MDT
DTSTART:20260308T090000
END:DAYLIGHT
BEGIN:STANDARD
TZOFFSETFROM:-0600
TZOFFSETTO:-0700
TZNAME:MST
DTSTART:20261101T080000
END:STANDARD
BEGIN:DAYLIGHT
TZOFFSETFROM:-0700
TZOFFSETTO:-0600
TZNAME:MDT
DTSTART:20270314T090000
END:DAYLIGHT
BEGIN:STANDARD
TZOFFSETFROM:-0600
TZOFFSETTO:-0700
TZNAME:MST
DTSTART:20271107T080000
END:STANDARD
END:VTIMEZONE
BEGIN:VEVENT
DTSTART;TZID=America/Denver:20260126T090000
DTEND;TZID=America/Denver:20260126T110000
DTSTAMP:20260420T175511
CREATED:20250824T172417Z
LAST-MODIFIED:20250827T150200Z
UID:10012813-1769418000-1769425200@kcparent.com
SUMMARY:Gym for Me
DESCRIPTION:Lenexa Rec Center; Old Town Activity Center \nA fun open gym where young children can play with balls\, tunnels and other age-appropriate equipment. Price is $3 per person (including guardians).Free for Lenexa Rec Center members when hosted at the Rec Center. Lenexa.com
URL:https://kcparent.com/event/gym-for-me-67/2026-01-26/
LOCATION:Lenexa Rec Center\, 17201 W. 87th St. Pkwy.\, Lenexa\, Kansas\, 66219\, United States
ATTACH;FMTTYPE=image/jpeg:https://kcparent.com/wp-content/uploads/2025/08/gymforme.jpg
END:VEVENT
BEGIN:VEVENT
DTSTART;TZID=America/Denver:20260121T090000
DTEND;TZID=America/Denver:20260121T110000
DTSTAMP:20260420T175511
CREATED:20250824T172417Z
LAST-MODIFIED:20250827T150200Z
UID:10012812-1768986000-1768993200@kcparent.com
SUMMARY:Gym for Me
DESCRIPTION:Lenexa Rec Center; Old Town Activity Center \nA fun open gym where young children can play with balls\, tunnels and other age-appropriate equipment. Price is $3 per person (including guardians).Free for Lenexa Rec Center members when hosted at the Rec Center. Lenexa.com
URL:https://kcparent.com/event/gym-for-me-67/2026-01-21/
LOCATION:Lenexa Rec Center\, 17201 W. 87th St. Pkwy.\, Lenexa\, Kansas\, 66219\, United States
ATTACH;FMTTYPE=image/jpeg:https://kcparent.com/wp-content/uploads/2025/08/gymforme.jpg
END:VEVENT
BEGIN:VEVENT
DTSTART;TZID=America/Denver:20260119T090000
DTEND;TZID=America/Denver:20260119T110000
DTSTAMP:20260420T175511
CREATED:20250824T172417Z
LAST-MODIFIED:20250827T150200Z
UID:10012811-1768813200-1768820400@kcparent.com
SUMMARY:Gym for Me
DESCRIPTION:Lenexa Rec Center; Old Town Activity Center \nA fun open gym where young children can play with balls\, tunnels and other age-appropriate equipment. Price is $3 per person (including guardians).Free for Lenexa Rec Center members when hosted at the Rec Center. Lenexa.com
URL:https://kcparent.com/event/gym-for-me-67/2026-01-19/
LOCATION:Lenexa Rec Center\, 17201 W. 87th St. Pkwy.\, Lenexa\, Kansas\, 66219\, United States
ATTACH;FMTTYPE=image/jpeg:https://kcparent.com/wp-content/uploads/2025/08/gymforme.jpg
END:VEVENT
BEGIN:VEVENT
DTSTART;TZID=America/Denver:20260114T090000
DTEND;TZID=America/Denver:20260114T110000
DTSTAMP:20260420T175511
CREATED:20250824T172417Z
LAST-MODIFIED:20250827T150200Z
UID:10012810-1768381200-1768388400@kcparent.com
SUMMARY:Gym for Me
DESCRIPTION:Lenexa Rec Center; Old Town Activity Center \nA fun open gym where young children can play with balls\, tunnels and other age-appropriate equipment. Price is $3 per person (including guardians).Free for Lenexa Rec Center members when hosted at the Rec Center. Lenexa.com
URL:https://kcparent.com/event/gym-for-me-67/2026-01-14/
LOCATION:Lenexa Rec Center\, 17201 W. 87th St. Pkwy.\, Lenexa\, Kansas\, 66219\, United States
ATTACH;FMTTYPE=image/jpeg:https://kcparent.com/wp-content/uploads/2025/08/gymforme.jpg
END:VEVENT
BEGIN:VEVENT
DTSTART;TZID=America/Denver:20260112T090000
DTEND;TZID=America/Denver:20260112T110000
DTSTAMP:20260420T175511
CREATED:20250824T172417Z
LAST-MODIFIED:20250827T150200Z
UID:10012809-1768208400-1768215600@kcparent.com
SUMMARY:Gym for Me
DESCRIPTION:Lenexa Rec Center; Old Town Activity Center \nA fun open gym where young children can play with balls\, tunnels and other age-appropriate equipment. Price is $3 per person (including guardians).Free for Lenexa Rec Center members when hosted at the Rec Center. Lenexa.com
URL:https://kcparent.com/event/gym-for-me-67/2026-01-12/
LOCATION:Lenexa Rec Center\, 17201 W. 87th St. Pkwy.\, Lenexa\, Kansas\, 66219\, United States
ATTACH;FMTTYPE=image/jpeg:https://kcparent.com/wp-content/uploads/2025/08/gymforme.jpg
END:VEVENT
BEGIN:VEVENT
DTSTART;TZID=America/Denver:20260107T090000
DTEND;TZID=America/Denver:20260107T110000
DTSTAMP:20260420T175511
CREATED:20250824T172417Z
LAST-MODIFIED:20250827T150200Z
UID:10012808-1767776400-1767783600@kcparent.com
SUMMARY:Gym for Me
DESCRIPTION:Lenexa Rec Center; Old Town Activity Center \nA fun open gym where young children can play with balls\, tunnels and other age-appropriate equipment. Price is $3 per person (including guardians).Free for Lenexa Rec Center members when hosted at the Rec Center. Lenexa.com
URL:https://kcparent.com/event/gym-for-me-67/2026-01-07/
LOCATION:Lenexa Rec Center\, 17201 W. 87th St. Pkwy.\, Lenexa\, Kansas\, 66219\, United States
ATTACH;FMTTYPE=image/jpeg:https://kcparent.com/wp-content/uploads/2025/08/gymforme.jpg
END:VEVENT
BEGIN:VEVENT
DTSTART;TZID=America/Denver:20260105T090000
DTEND;TZID=America/Denver:20260105T110000
DTSTAMP:20260420T175511
CREATED:20250824T172417Z
LAST-MODIFIED:20250827T150200Z
UID:10012807-1767603600-1767610800@kcparent.com
SUMMARY:Gym for Me
DESCRIPTION:Lenexa Rec Center; Old Town Activity Center \nA fun open gym where young children can play with balls\, tunnels and other age-appropriate equipment. Price is $3 per person (including guardians).Free for Lenexa Rec Center members when hosted at the Rec Center. Lenexa.com
URL:https://kcparent.com/event/gym-for-me-67/2026-01-05/
LOCATION:Lenexa Rec Center\, 17201 W. 87th St. Pkwy.\, Lenexa\, Kansas\, 66219\, United States
ATTACH;FMTTYPE=image/jpeg:https://kcparent.com/wp-content/uploads/2025/08/gymforme.jpg
END:VEVENT
BEGIN:VEVENT
DTSTART;TZID=America/Denver:20251231T090000
DTEND;TZID=America/Denver:20251231T110000
DTSTAMP:20260420T175511
CREATED:20250824T172417Z
LAST-MODIFIED:20250827T150200Z
UID:10012806-1767171600-1767178800@kcparent.com
SUMMARY:Gym for Me
DESCRIPTION:Lenexa Rec Center; Old Town Activity Center \nA fun open gym where young children can play with balls\, tunnels and other age-appropriate equipment. Price is $3 per person (including guardians).Free for Lenexa Rec Center members when hosted at the Rec Center. Lenexa.com
URL:https://kcparent.com/event/gym-for-me-67/2025-12-31/
LOCATION:Lenexa Rec Center\, 17201 W. 87th St. Pkwy.\, Lenexa\, Kansas\, 66219\, United States
ATTACH;FMTTYPE=image/jpeg:https://kcparent.com/wp-content/uploads/2025/08/gymforme.jpg
END:VEVENT
BEGIN:VEVENT
DTSTART;TZID=America/Denver:20251229T090000
DTEND;TZID=America/Denver:20251229T110000
DTSTAMP:20260420T175511
CREATED:20250824T172417Z
LAST-MODIFIED:20250827T150200Z
UID:10012805-1766998800-1767006000@kcparent.com
SUMMARY:Gym for Me
DESCRIPTION:Lenexa Rec Center; Old Town Activity Center \nA fun open gym where young children can play with balls\, tunnels and other age-appropriate equipment. Price is $3 per person (including guardians).Free for Lenexa Rec Center members when hosted at the Rec Center. Lenexa.com
URL:https://kcparent.com/event/gym-for-me-67/2025-12-29/
LOCATION:Lenexa Rec Center\, 17201 W. 87th St. Pkwy.\, Lenexa\, Kansas\, 66219\, United States
ATTACH;FMTTYPE=image/jpeg:https://kcparent.com/wp-content/uploads/2025/08/gymforme.jpg
END:VEVENT
BEGIN:VEVENT
DTSTART;TZID=America/Denver:20251224T090000
DTEND;TZID=America/Denver:20251224T110000
DTSTAMP:20260420T175511
CREATED:20250824T172417Z
LAST-MODIFIED:20250827T150200Z
UID:10012804-1766566800-1766574000@kcparent.com
SUMMARY:Gym for Me
DESCRIPTION:Lenexa Rec Center; Old Town Activity Center \nA fun open gym where young children can play with balls\, tunnels and other age-appropriate equipment. Price is $3 per person (including guardians).Free for Lenexa Rec Center members when hosted at the Rec Center. Lenexa.com
URL:https://kcparent.com/event/gym-for-me-67/2025-12-24/
LOCATION:Lenexa Rec Center\, 17201 W. 87th St. Pkwy.\, Lenexa\, Kansas\, 66219\, United States
ATTACH;FMTTYPE=image/jpeg:https://kcparent.com/wp-content/uploads/2025/08/gymforme.jpg
END:VEVENT
BEGIN:VEVENT
DTSTART;TZID=America/Denver:20251222T090000
DTEND;TZID=America/Denver:20251222T110000
DTSTAMP:20260420T175511
CREATED:20250824T172417Z
LAST-MODIFIED:20250827T150200Z
UID:10012803-1766394000-1766401200@kcparent.com
SUMMARY:Gym for Me
DESCRIPTION:Lenexa Rec Center; Old Town Activity Center \nA fun open gym where young children can play with balls\, tunnels and other age-appropriate equipment. Price is $3 per person (including guardians).Free for Lenexa Rec Center members when hosted at the Rec Center. Lenexa.com
URL:https://kcparent.com/event/gym-for-me-67/2025-12-22/
LOCATION:Lenexa Rec Center\, 17201 W. 87th St. Pkwy.\, Lenexa\, Kansas\, 66219\, United States
ATTACH;FMTTYPE=image/jpeg:https://kcparent.com/wp-content/uploads/2025/08/gymforme.jpg
END:VEVENT
BEGIN:VEVENT
DTSTART;TZID=America/Denver:20251217T090000
DTEND;TZID=America/Denver:20251217T110000
DTSTAMP:20260420T175511
CREATED:20250824T172417Z
LAST-MODIFIED:20250827T150200Z
UID:10012802-1765962000-1765969200@kcparent.com
SUMMARY:Gym for Me
DESCRIPTION:Lenexa Rec Center; Old Town Activity Center \nA fun open gym where young children can play with balls\, tunnels and other age-appropriate equipment. Price is $3 per person (including guardians).Free for Lenexa Rec Center members when hosted at the Rec Center. Lenexa.com
URL:https://kcparent.com/event/gym-for-me-67/2025-12-17/
LOCATION:Lenexa Rec Center\, 17201 W. 87th St. Pkwy.\, Lenexa\, Kansas\, 66219\, United States
ATTACH;FMTTYPE=image/jpeg:https://kcparent.com/wp-content/uploads/2025/08/gymforme.jpg
END:VEVENT
BEGIN:VEVENT
DTSTART;TZID=America/Denver:20251215T090000
DTEND;TZID=America/Denver:20251215T110000
DTSTAMP:20260420T175511
CREATED:20250824T172417Z
LAST-MODIFIED:20250827T150200Z
UID:10012801-1765789200-1765796400@kcparent.com
SUMMARY:Gym for Me
DESCRIPTION:Lenexa Rec Center; Old Town Activity Center \nA fun open gym where young children can play with balls\, tunnels and other age-appropriate equipment. Price is $3 per person (including guardians).Free for Lenexa Rec Center members when hosted at the Rec Center. Lenexa.com
URL:https://kcparent.com/event/gym-for-me-67/2025-12-15/
LOCATION:Lenexa Rec Center\, 17201 W. 87th St. Pkwy.\, Lenexa\, Kansas\, 66219\, United States
ATTACH;FMTTYPE=image/jpeg:https://kcparent.com/wp-content/uploads/2025/08/gymforme.jpg
END:VEVENT
BEGIN:VEVENT
DTSTART;TZID=America/Denver:20251212T090000
DTEND;TZID=America/Denver:20251212T110000
DTSTAMP:20260420T175511
CREATED:20250923T151617Z
LAST-MODIFIED:20251201T033705Z
UID:10016851-1765530000-1765537200@kcparent.com
SUMMARY:Candy Cane Hunt
DESCRIPTION:Start your morning with a little holiday magic. At 9 a.m. sharp\, kids can dash across the lawn hunting for hidden candy canes. Then head inside to warm up with milk and cookies\, make festive crafts\, enjoy story time and sing along with Mr. Stinky Feet. Ages 6 & under (with parent/guardian). No registration required. Free admission.
URL:https://kcparent.com/event/candy-cane-hunt/
LOCATION:Lenexa Old Town Activity Center\, 9301 Pflumm Rd.\, City of Lenexa\, Kansas\, 66215\, United States
CATEGORIES:Holiday Event
ATTACH;FMTTYPE=image/jpeg:https://kcparent.com/wp-content/uploads/2025/09/candy-cane-hunt-girl-with-milk-and-cookies.jpg
END:VEVENT
BEGIN:VEVENT
DTSTART;TZID=America/Denver:20251210T090000
DTEND;TZID=America/Denver:20251210T110000
DTSTAMP:20260420T175511
CREATED:20250824T172417Z
LAST-MODIFIED:20250827T150200Z
UID:10012800-1765357200-1765364400@kcparent.com
SUMMARY:Gym for Me
DESCRIPTION:Lenexa Rec Center; Old Town Activity Center \nA fun open gym where young children can play with balls\, tunnels and other age-appropriate equipment. Price is $3 per person (including guardians).Free for Lenexa Rec Center members when hosted at the Rec Center. Lenexa.com
URL:https://kcparent.com/event/gym-for-me-67/2025-12-10/
LOCATION:Lenexa Rec Center\, 17201 W. 87th St. Pkwy.\, Lenexa\, Kansas\, 66219\, United States
ATTACH;FMTTYPE=image/jpeg:https://kcparent.com/wp-content/uploads/2025/08/gymforme.jpg
END:VEVENT
BEGIN:VEVENT
DTSTART;TZID=America/Denver:20251208T090000
DTEND;TZID=America/Denver:20251208T110000
DTSTAMP:20260420T175511
CREATED:20250824T172417Z
LAST-MODIFIED:20250827T150200Z
UID:10012799-1765184400-1765191600@kcparent.com
SUMMARY:Gym for Me
DESCRIPTION:Lenexa Rec Center; Old Town Activity Center \nA fun open gym where young children can play with balls\, tunnels and other age-appropriate equipment. Price is $3 per person (including guardians).Free for Lenexa Rec Center members when hosted at the Rec Center. Lenexa.com
URL:https://kcparent.com/event/gym-for-me-67/2025-12-08/
LOCATION:Lenexa Rec Center\, 17201 W. 87th St. Pkwy.\, Lenexa\, Kansas\, 66219\, United States
ATTACH;FMTTYPE=image/jpeg:https://kcparent.com/wp-content/uploads/2025/08/gymforme.jpg
END:VEVENT
BEGIN:VEVENT
DTSTART;TZID=America/Denver:20251203T090000
DTEND;TZID=America/Denver:20251203T110000
DTSTAMP:20260420T175511
CREATED:20250824T172417Z
LAST-MODIFIED:20250827T150200Z
UID:10012798-1764752400-1764759600@kcparent.com
SUMMARY:Gym for Me
DESCRIPTION:Lenexa Rec Center; Old Town Activity Center \nA fun open gym where young children can play with balls\, tunnels and other age-appropriate equipment. Price is $3 per person (including guardians).Free for Lenexa Rec Center members when hosted at the Rec Center. Lenexa.com
URL:https://kcparent.com/event/gym-for-me-67/2025-12-03/
LOCATION:Lenexa Rec Center\, 17201 W. 87th St. Pkwy.\, Lenexa\, Kansas\, 66219\, United States
ATTACH;FMTTYPE=image/jpeg:https://kcparent.com/wp-content/uploads/2025/08/gymforme.jpg
END:VEVENT
BEGIN:VEVENT
DTSTART;TZID=America/Denver:20251201T090000
DTEND;TZID=America/Denver:20251201T110000
DTSTAMP:20260420T175511
CREATED:20250824T172417Z
LAST-MODIFIED:20250827T150200Z
UID:10012797-1764579600-1764586800@kcparent.com
SUMMARY:Gym for Me
DESCRIPTION:Lenexa Rec Center; Old Town Activity Center \nA fun open gym where young children can play with balls\, tunnels and other age-appropriate equipment. Price is $3 per person (including guardians).Free for Lenexa Rec Center members when hosted at the Rec Center. Lenexa.com
URL:https://kcparent.com/event/gym-for-me-67/2025-12-01/
LOCATION:Lenexa Rec Center\, 17201 W. 87th St. Pkwy.\, Lenexa\, Kansas\, 66219\, United States
ATTACH;FMTTYPE=image/jpeg:https://kcparent.com/wp-content/uploads/2025/08/gymforme.jpg
END:VEVENT
BEGIN:VEVENT
DTSTART;TZID=America/Denver:20251126T090000
DTEND;TZID=America/Denver:20251126T110000
DTSTAMP:20260420T175511
CREATED:20250824T172417Z
LAST-MODIFIED:20250827T150200Z
UID:10012796-1764147600-1764154800@kcparent.com
SUMMARY:Gym for Me
DESCRIPTION:Lenexa Rec Center; Old Town Activity Center \nA fun open gym where young children can play with balls\, tunnels and other age-appropriate equipment. Price is $3 per person (including guardians).Free for Lenexa Rec Center members when hosted at the Rec Center. Lenexa.com
URL:https://kcparent.com/event/gym-for-me-67/2025-11-26/
LOCATION:Lenexa Rec Center\, 17201 W. 87th St. Pkwy.\, Lenexa\, Kansas\, 66219\, United States
ATTACH;FMTTYPE=image/jpeg:https://kcparent.com/wp-content/uploads/2025/08/gymforme.jpg
END:VEVENT
BEGIN:VEVENT
DTSTART;TZID=America/Denver:20251124T090000
DTEND;TZID=America/Denver:20251124T110000
DTSTAMP:20260420T175511
CREATED:20250824T172417Z
LAST-MODIFIED:20250827T150200Z
UID:10012795-1763974800-1763982000@kcparent.com
SUMMARY:Gym for Me
DESCRIPTION:Lenexa Rec Center; Old Town Activity Center \nA fun open gym where young children can play with balls\, tunnels and other age-appropriate equipment. Price is $3 per person (including guardians).Free for Lenexa Rec Center members when hosted at the Rec Center. Lenexa.com
URL:https://kcparent.com/event/gym-for-me-67/2025-11-24/
LOCATION:Lenexa Rec Center\, 17201 W. 87th St. Pkwy.\, Lenexa\, Kansas\, 66219\, United States
ATTACH;FMTTYPE=image/jpeg:https://kcparent.com/wp-content/uploads/2025/08/gymforme.jpg
END:VEVENT
BEGIN:VEVENT
DTSTART;TZID=America/Denver:20251119T090000
DTEND;TZID=America/Denver:20251119T110000
DTSTAMP:20260420T175511
CREATED:20250824T172417Z
LAST-MODIFIED:20250827T150200Z
UID:10012794-1763542800-1763550000@kcparent.com
SUMMARY:Gym for Me
DESCRIPTION:Lenexa Rec Center; Old Town Activity Center \nA fun open gym where young children can play with balls\, tunnels and other age-appropriate equipment. Price is $3 per person (including guardians).Free for Lenexa Rec Center members when hosted at the Rec Center. Lenexa.com
URL:https://kcparent.com/event/gym-for-me-67/2025-11-19/
LOCATION:Lenexa Rec Center\, 17201 W. 87th St. Pkwy.\, Lenexa\, Kansas\, 66219\, United States
ATTACH;FMTTYPE=image/jpeg:https://kcparent.com/wp-content/uploads/2025/08/gymforme.jpg
END:VEVENT
BEGIN:VEVENT
DTSTART;TZID=America/Denver:20251117T090000
DTEND;TZID=America/Denver:20251117T110000
DTSTAMP:20260420T175511
CREATED:20250824T172417Z
LAST-MODIFIED:20250827T150200Z
UID:10012793-1763370000-1763377200@kcparent.com
SUMMARY:Gym for Me
DESCRIPTION:Lenexa Rec Center; Old Town Activity Center \nA fun open gym where young children can play with balls\, tunnels and other age-appropriate equipment. Price is $3 per person (including guardians).Free for Lenexa Rec Center members when hosted at the Rec Center. Lenexa.com
URL:https://kcparent.com/event/gym-for-me-67/2025-11-17/
LOCATION:Lenexa Rec Center\, 17201 W. 87th St. Pkwy.\, Lenexa\, Kansas\, 66219\, United States
ATTACH;FMTTYPE=image/jpeg:https://kcparent.com/wp-content/uploads/2025/08/gymforme.jpg
END:VEVENT
BEGIN:VEVENT
DTSTART;TZID=America/Denver:20251112T090000
DTEND;TZID=America/Denver:20251112T110000
DTSTAMP:20260420T175511
CREATED:20250824T172417Z
LAST-MODIFIED:20250827T150200Z
UID:10012792-1762938000-1762945200@kcparent.com
SUMMARY:Gym for Me
DESCRIPTION:Lenexa Rec Center; Old Town Activity Center \nA fun open gym where young children can play with balls\, tunnels and other age-appropriate equipment. Price is $3 per person (including guardians).Free for Lenexa Rec Center members when hosted at the Rec Center. Lenexa.com
URL:https://kcparent.com/event/gym-for-me-67/2025-11-12/
LOCATION:Lenexa Rec Center\, 17201 W. 87th St. Pkwy.\, Lenexa\, Kansas\, 66219\, United States
ATTACH;FMTTYPE=image/jpeg:https://kcparent.com/wp-content/uploads/2025/08/gymforme.jpg
END:VEVENT
BEGIN:VEVENT
DTSTART;TZID=America/Denver:20251110T090000
DTEND;TZID=America/Denver:20251110T110000
DTSTAMP:20260420T175511
CREATED:20250824T172417Z
LAST-MODIFIED:20250827T150200Z
UID:10012791-1762765200-1762772400@kcparent.com
SUMMARY:Gym for Me
DESCRIPTION:Lenexa Rec Center; Old Town Activity Center \nA fun open gym where young children can play with balls\, tunnels and other age-appropriate equipment. Price is $3 per person (including guardians).Free for Lenexa Rec Center members when hosted at the Rec Center. Lenexa.com
URL:https://kcparent.com/event/gym-for-me-67/2025-11-10/
LOCATION:Lenexa Rec Center\, 17201 W. 87th St. Pkwy.\, Lenexa\, Kansas\, 66219\, United States
ATTACH;FMTTYPE=image/jpeg:https://kcparent.com/wp-content/uploads/2025/08/gymforme.jpg
END:VEVENT
BEGIN:VEVENT
DTSTART;TZID=America/Denver:20251105T090000
DTEND;TZID=America/Denver:20251105T110000
DTSTAMP:20260420T175511
CREATED:20250824T172417Z
LAST-MODIFIED:20250827T150200Z
UID:10012790-1762333200-1762340400@kcparent.com
SUMMARY:Gym for Me
DESCRIPTION:Lenexa Rec Center; Old Town Activity Center \nA fun open gym where young children can play with balls\, tunnels and other age-appropriate equipment. Price is $3 per person (including guardians).Free for Lenexa Rec Center members when hosted at the Rec Center. Lenexa.com
URL:https://kcparent.com/event/gym-for-me-67/2025-11-05/
LOCATION:Lenexa Rec Center\, 17201 W. 87th St. Pkwy.\, Lenexa\, Kansas\, 66219\, United States
ATTACH;FMTTYPE=image/jpeg:https://kcparent.com/wp-content/uploads/2025/08/gymforme.jpg
END:VEVENT
BEGIN:VEVENT
DTSTART;TZID=America/Denver:20251103T090000
DTEND;TZID=America/Denver:20251103T110000
DTSTAMP:20260420T175511
CREATED:20250824T172417Z
LAST-MODIFIED:20250827T150200Z
UID:10012789-1762160400-1762167600@kcparent.com
SUMMARY:Gym for Me
DESCRIPTION:Lenexa Rec Center; Old Town Activity Center \nA fun open gym where young children can play with balls\, tunnels and other age-appropriate equipment. Price is $3 per person (including guardians).Free for Lenexa Rec Center members when hosted at the Rec Center. Lenexa.com
URL:https://kcparent.com/event/gym-for-me-67/2025-11-03/
LOCATION:Lenexa Rec Center\, 17201 W. 87th St. Pkwy.\, Lenexa\, Kansas\, 66219\, United States
ATTACH;FMTTYPE=image/jpeg:https://kcparent.com/wp-content/uploads/2025/08/gymforme.jpg
END:VEVENT
BEGIN:VEVENT
DTSTART;TZID=America/Denver:20251029T090000
DTEND;TZID=America/Denver:20251029T110000
DTSTAMP:20260420T175511
CREATED:20250824T172417Z
LAST-MODIFIED:20250827T150200Z
UID:10012788-1761728400-1761735600@kcparent.com
SUMMARY:Gym for Me
DESCRIPTION:Lenexa Rec Center; Old Town Activity Center \nA fun open gym where young children can play with balls\, tunnels and other age-appropriate equipment. Price is $3 per person (including guardians).Free for Lenexa Rec Center members when hosted at the Rec Center. Lenexa.com
URL:https://kcparent.com/event/gym-for-me-67/2025-10-29/
LOCATION:Lenexa Rec Center\, 17201 W. 87th St. Pkwy.\, Lenexa\, Kansas\, 66219\, United States
ATTACH;FMTTYPE=image/jpeg:https://kcparent.com/wp-content/uploads/2025/08/gymforme.jpg
END:VEVENT
BEGIN:VEVENT
DTSTART;TZID=America/Denver:20251027T090000
DTEND;TZID=America/Denver:20251027T110000
DTSTAMP:20260420T175511
CREATED:20250824T172417Z
LAST-MODIFIED:20250827T150200Z
UID:10012787-1761555600-1761562800@kcparent.com
SUMMARY:Gym for Me
DESCRIPTION:Lenexa Rec Center; Old Town Activity Center \nA fun open gym where young children can play with balls\, tunnels and other age-appropriate equipment. Price is $3 per person (including guardians).Free for Lenexa Rec Center members when hosted at the Rec Center. Lenexa.com
URL:https://kcparent.com/event/gym-for-me-67/2025-10-27/
LOCATION:Lenexa Rec Center\, 17201 W. 87th St. Pkwy.\, Lenexa\, Kansas\, 66219\, United States
ATTACH;FMTTYPE=image/jpeg:https://kcparent.com/wp-content/uploads/2025/08/gymforme.jpg
END:VEVENT
BEGIN:VEVENT
DTSTART;TZID=America/Denver:20251022T090000
DTEND;TZID=America/Denver:20251022T110000
DTSTAMP:20260420T175511
CREATED:20250824T172417Z
LAST-MODIFIED:20250827T150200Z
UID:10012786-1761123600-1761130800@kcparent.com
SUMMARY:Gym for Me
DESCRIPTION:Lenexa Rec Center; Old Town Activity Center \nA fun open gym where young children can play with balls\, tunnels and other age-appropriate equipment. Price is $3 per person (including guardians).Free for Lenexa Rec Center members when hosted at the Rec Center. Lenexa.com
URL:https://kcparent.com/event/gym-for-me-67/2025-10-22/
LOCATION:Lenexa Rec Center\, 17201 W. 87th St. Pkwy.\, Lenexa\, Kansas\, 66219\, United States
ATTACH;FMTTYPE=image/jpeg:https://kcparent.com/wp-content/uploads/2025/08/gymforme.jpg
END:VEVENT
BEGIN:VEVENT
DTSTART;TZID=America/Denver:20251020T090000
DTEND;TZID=America/Denver:20251020T110000
DTSTAMP:20260420T175511
CREATED:20250824T172417Z
LAST-MODIFIED:20250827T150200Z
UID:10012785-1760950800-1760958000@kcparent.com
SUMMARY:Gym for Me
DESCRIPTION:Lenexa Rec Center; Old Town Activity Center \nA fun open gym where young children can play with balls\, tunnels and other age-appropriate equipment. Price is $3 per person (including guardians).Free for Lenexa Rec Center members when hosted at the Rec Center. Lenexa.com
URL:https://kcparent.com/event/gym-for-me-67/2025-10-20/
LOCATION:Lenexa Rec Center\, 17201 W. 87th St. Pkwy.\, Lenexa\, Kansas\, 66219\, United States
ATTACH;FMTTYPE=image/jpeg:https://kcparent.com/wp-content/uploads/2025/08/gymforme.jpg
END:VEVENT
END:VCALENDAR