BEGIN:VCALENDAR
VERSION:2.0
PRODID:-//KC Parent - ECPv6.15.18//NONSGML v1.0//EN
CALSCALE:GREGORIAN
METHOD:PUBLISH
X-WR-CALNAME:KC Parent
X-ORIGINAL-URL:https://kcparent.com
X-WR-CALDESC:Events for KC Parent
REFRESH-INTERVAL;VALUE=DURATION:PT1H
X-Robots-Tag:noindex
X-PUBLISHED-TTL:PT1H
BEGIN:VTIMEZONE
TZID:America/Denver
BEGIN:DAYLIGHT
TZOFFSETFROM:-0700
TZOFFSETTO:-0600
TZNAME:MDT
DTSTART:20250309T090000
END:DAYLIGHT
BEGIN:STANDARD
TZOFFSETFROM:-0600
TZOFFSETTO:-0700
TZNAME:MST
DTSTART:20251102T080000
END:STANDARD
BEGIN:DAYLIGHT
TZOFFSETFROM:-0700
TZOFFSETTO:-0600
TZNAME:MDT
DTSTART:20260308T090000
END:DAYLIGHT
BEGIN:STANDARD
TZOFFSETFROM:-0600
TZOFFSETTO:-0700
TZNAME:MST
DTSTART:20261101T080000
END:STANDARD
BEGIN:DAYLIGHT
TZOFFSETFROM:-0700
TZOFFSETTO:-0600
TZNAME:MDT
DTSTART:20270314T090000
END:DAYLIGHT
BEGIN:STANDARD
TZOFFSETFROM:-0600
TZOFFSETTO:-0700
TZNAME:MST
DTSTART:20271107T080000
END:STANDARD
END:VTIMEZONE
BEGIN:VEVENT
DTSTART;TZID=America/Denver:20260317T190000
DTEND;TZID=America/Denver:20260317T203000
DTSTAMP:20260423T213215
CREATED:20260309T204515Z
LAST-MODIFIED:20260309T204515Z
UID:10023744-1773774000-1773779400@kcparent.com
SUMMARY:Shamrock Skate
DESCRIPTION:Celebrate St. Patrick’s Day on the ice with themed music\, green decorations and family fun for all ages. \n\nBring the whole family and come out for our annual Shamrock Skate. Get $2 off admission if you are wearing Green. The Greenest skater wins a prize! $8 admission\, $6 if wearing Green\, no skate rental fee. Free Shamrock beaded necklace with paid admission! \n\nLine Creek Community Center 5940 N.W. Waukomis Drive\, Kansas City\, MO\, United States
URL:https://kcparent.com/event/shamrock-skate/
LOCATION:Line Creek Community Center
ATTACH;FMTTYPE=image/jpeg:https://kcparent.com/wp-content/uploads/2026/03/shamrock-skate.jpg
END:VEVENT
END:VCALENDAR