BEGIN:VCALENDAR
VERSION:2.0
PRODID:-//KC Parent - ECPv6.15.18//NONSGML v1.0//EN
CALSCALE:GREGORIAN
METHOD:PUBLISH
X-WR-CALNAME:KC Parent
X-ORIGINAL-URL:https://kcparent.com
X-WR-CALDESC:Events for KC Parent
REFRESH-INTERVAL;VALUE=DURATION:PT1H
X-Robots-Tag:noindex
X-PUBLISHED-TTL:PT1H
BEGIN:VTIMEZONE
TZID:America/Denver
BEGIN:DAYLIGHT
TZOFFSETFROM:-0700
TZOFFSETTO:-0600
TZNAME:MDT
DTSTART:20250309T090000
END:DAYLIGHT
BEGIN:STANDARD
TZOFFSETFROM:-0600
TZOFFSETTO:-0700
TZNAME:MST
DTSTART:20251102T080000
END:STANDARD
BEGIN:DAYLIGHT
TZOFFSETFROM:-0700
TZOFFSETTO:-0600
TZNAME:MDT
DTSTART:20260308T090000
END:DAYLIGHT
BEGIN:STANDARD
TZOFFSETFROM:-0600
TZOFFSETTO:-0700
TZNAME:MST
DTSTART:20261101T080000
END:STANDARD
BEGIN:DAYLIGHT
TZOFFSETFROM:-0700
TZOFFSETTO:-0600
TZNAME:MDT
DTSTART:20270314T090000
END:DAYLIGHT
BEGIN:STANDARD
TZOFFSETFROM:-0600
TZOFFSETTO:-0700
TZNAME:MST
DTSTART:20271107T080000
END:STANDARD
END:VTIMEZONE
BEGIN:VEVENT
DTSTART;TZID=America/Denver:20260505T190000
DTEND;TZID=America/Denver:20260505T203000
DTSTAMP:20260423T201423
CREATED:20260421T180631Z
LAST-MODIFIED:20260421T180631Z
UID:10025596-1778007600-1778013000@kcparent.com
SUMMARY:May the 5th: A Star Wars Skate
DESCRIPTION:Don’t miss an out-of-this-galaxy themed skate night!\nOn Tuesday\, May 5th\, from 7 – 8:30 p.m.\, come join us and wear your favorite Star Wars garb (no lightsabers on the ice\, please). Enjoy some treats\, and kids can enter the Star Wars coloring contest for a chance to win a prize. The best-dressed wins a prize! $8 admission\, $3 skate rental. Free admission when wearing a Star Wars costume or t-shirt!
URL:https://kcparent.com/event/may-the-5th-a-star-wars-skate/
LOCATION:Line Creek Community Center
ATTACH;FMTTYPE=image/png:https://kcparent.com/wp-content/uploads/2026/04/May-the-Fifth-Star-Wars.png
END:VEVENT
END:VCALENDAR