BEGIN:VCALENDAR
VERSION:2.0
PRODID:-//KC Parent - ECPv6.15.18//NONSGML v1.0//EN
CALSCALE:GREGORIAN
METHOD:PUBLISH
X-ORIGINAL-URL:https://kcparent.com
X-WR-CALDESC:Events for KC Parent
REFRESH-INTERVAL;VALUE=DURATION:PT1H
X-Robots-Tag:noindex
X-PUBLISHED-TTL:PT1H
BEGIN:VTIMEZONE
TZID:America/Denver
BEGIN:DAYLIGHT
TZOFFSETFROM:-0700
TZOFFSETTO:-0600
TZNAME:MDT
DTSTART:20240310T090000
END:DAYLIGHT
BEGIN:STANDARD
TZOFFSETFROM:-0600
TZOFFSETTO:-0700
TZNAME:MST
DTSTART:20241103T080000
END:STANDARD
BEGIN:DAYLIGHT
TZOFFSETFROM:-0700
TZOFFSETTO:-0600
TZNAME:MDT
DTSTART:20250309T090000
END:DAYLIGHT
BEGIN:STANDARD
TZOFFSETFROM:-0600
TZOFFSETTO:-0700
TZNAME:MST
DTSTART:20251102T080000
END:STANDARD
BEGIN:DAYLIGHT
TZOFFSETFROM:-0700
TZOFFSETTO:-0600
TZNAME:MDT
DTSTART:20260308T090000
END:DAYLIGHT
BEGIN:STANDARD
TZOFFSETFROM:-0600
TZOFFSETTO:-0700
TZNAME:MST
DTSTART:20261101T080000
END:STANDARD
BEGIN:DAYLIGHT
TZOFFSETFROM:-0700
TZOFFSETTO:-0600
TZNAME:MDT
DTSTART:20270314T090000
END:DAYLIGHT
BEGIN:STANDARD
TZOFFSETFROM:-0600
TZOFFSETTO:-0700
TZNAME:MST
DTSTART:20271107T080000
END:STANDARD
END:VTIMEZONE
BEGIN:VEVENT
DTSTART;TZID=America/Denver:20260307T100000
DTEND;TZID=America/Denver:20260308T170000
DTSTAMP:20260424T024824
CREATED:20260228T154558Z
LAST-MODIFIED:20260306T190131Z
UID:10023731-1772877600-1772989200@kcparent.com
SUMMARY:Grand Opening Weekend at Magpie Creative Reuse
DESCRIPTION:[Kansas City\, MO] – Magpie Creative Reuse Collective is thrilled to announce the grand opening of its new location – a creative reuse hub – with a full weekend of affordable classes\, hands-on activities\, live music\, tours\, and community celebration on March 7th and 8th.\nMagpie Creative Reuse Collective is a 501(c)(3) nonprofit dedicated to keeping usable materials out of the trash and in the hands of makers\, educators\, and artists. By collecting and redistributing donated materials\, Magpie fuels innovation\, promotes sustainability\, and reconnects community through creative practice and education.\nThe Grand Opening Weekend features low-cost classes\, family-friendly activities\, live entertainment\, food vendors\, and opportunities to explore and shop the new space.\n“The hub is a place for artists and makers of all ages and all interests to find used materials for creative projects\,” said Karen Sullivan\, President of Magpie’s Executive Board.\n🎉 Grand Opening Weekend Schedule \nSaturday\, March 7: Creative Energy All Day Long\n10 a.m. to 5 p.m.\n10:30 a.m. Treasure Pocket Class for Kids ($5)\n11:30 a.m. Guided Tour of the 5\,000 square foot space\n1:00 p.m. Collage Class for Adults ($5)\n1 – 4 p.m. Taco Ruby’s Food Truck (Food for purchase)\n3 – 4:30 p.m. Live Music from Kansas City’s Timbers\n3:30 p.m. Plarn Class for Adults ($5)\nSunday\, March 8: Slow Down\, Make\, Connect\n10 a.m. to 5 p.m.\n10:00 a.m. Coffee from Thou Mayest + Pastries\n10:30 a.m. Trash Printmaking Class for All Ages ($5)\n11:30 a.m. – Guided Tour of the 5\,000 square foot space\n4 p.m. Artist Social Hour
URL:https://kcparent.com/event/grand-opening-weekend-at-magpie-creative-reuse/
LOCATION:Magpie Creative Reuse\, 3331 Roanoke Rd.\, Kansas City\, 64111
CATEGORIES:Event
ATTACH;FMTTYPE=image/jpeg:https://kcparent.com/wp-content/uploads/2026/02/STDFIX_logo.jpg
END:VEVENT
BEGIN:VEVENT
DTSTART;TZID=America/Denver:20251115T110000
DTEND;TZID=America/Denver:20251115T160000
DTSTAMP:20260424T024824
CREATED:20251028T054258Z
LAST-MODIFIED:20251029T213002Z
UID:10015988-1763204400-1763222400@kcparent.com
SUMMARY:Magpie Makers Market
DESCRIPTION:The 2025 Magpie Makers Market will feature more than 25 talented local vendors\, each offering handmade art\, gifts\, and crafts created from reused\, recycled\, or repurposed materials. Shoppers can expect to find one-of-a-kind items including upcycled jewelry\, eco-friendly home décor\, repurposed textiles\, and much more. The Magpie Makers Market is dedicated to promoting sustainable practices by highlighting goods that are as kind to the planet as they are beautiful.\nAdmission to the Magpie Makers Market is free and open to all. Guests will have the opportunity to purchase distinctive\, responsibly made gifts while supporting local artists and the mission of Magpie Creative Reuse Collective. In addition to the diverse vendor booths\, there will be a special Magpie pop-up sale featuring reusable craft supplies—perfect for makers and creative hobbyists looking to stock up on unique materials.
URL:https://kcparent.com/event/magpie-makers-market/
LOCATION:Magpie Creative Reuse\, 3331 Roanoke Rd.\, Kansas City\, 64111
CATEGORIES:Holiday Event
ATTACH;FMTTYPE=image/jpeg:https://kcparent.com/wp-content/uploads/2025/10/2025-Magpie-Makers-Market2.jpg
END:VEVENT
END:VCALENDAR