BEGIN:VCALENDAR
VERSION:2.0
PRODID:-//KC Parent - ECPv6.15.18//NONSGML v1.0//EN
CALSCALE:GREGORIAN
METHOD:PUBLISH
X-WR-CALNAME:KC Parent
X-ORIGINAL-URL:https://kcparent.com
X-WR-CALDESC:Events for KC Parent
REFRESH-INTERVAL;VALUE=DURATION:PT1H
X-Robots-Tag:noindex
X-PUBLISHED-TTL:PT1H
BEGIN:VTIMEZONE
TZID:America/Denver
BEGIN:DAYLIGHT
TZOFFSETFROM:-0700
TZOFFSETTO:-0600
TZNAME:MDT
DTSTART:20240310T090000
END:DAYLIGHT
BEGIN:STANDARD
TZOFFSETFROM:-0600
TZOFFSETTO:-0700
TZNAME:MST
DTSTART:20241103T080000
END:STANDARD
BEGIN:DAYLIGHT
TZOFFSETFROM:-0700
TZOFFSETTO:-0600
TZNAME:MDT
DTSTART:20250309T090000
END:DAYLIGHT
BEGIN:STANDARD
TZOFFSETFROM:-0600
TZOFFSETTO:-0700
TZNAME:MST
DTSTART:20251102T080000
END:STANDARD
BEGIN:DAYLIGHT
TZOFFSETFROM:-0700
TZOFFSETTO:-0600
TZNAME:MDT
DTSTART:20260308T090000
END:DAYLIGHT
BEGIN:STANDARD
TZOFFSETFROM:-0600
TZOFFSETTO:-0700
TZNAME:MST
DTSTART:20261101T080000
END:STANDARD
END:VTIMEZONE
BEGIN:VEVENT
DTSTART;VALUE=DATE:20250908
DTEND;VALUE=DATE:20250915
DTSTAMP:20260424T054431
CREATED:20250902T175933Z
LAST-MODIFIED:20250902T175933Z
UID:10014236-1757289600-1757894399@kcparent.com
SUMMARY:Food For Fines
DESCRIPTION:Food for Fines is back! Bring boxed or canned nonperishable food items to any MCPL location from September 8-14 to pay off your overdue fines and help out your local community. \nTo date\, Food for Fines has collected more than 195\,000 food items for local charities and food pantries! \nBring boxed or canned nonperishable food items to any MCPL location to pay off your overdue fines and help out your local community. Each single food item will count as $1.50 off existing overdue fines or replacement card charges\, up to $30. You are also welcome to donate items even if you do not have any library fines.
URL:https://kcparent.com/event/food-for-fines/
LOCATION:Mid-Continent Public Library – Withers Branch\, 1665 S Withers Rd\, Liberty\, MO\, 64068\, United States
ATTACH;FMTTYPE=image/jpeg:https://kcparent.com/wp-content/uploads/2025/09/foodforfines-webcard2.jpg
END:VEVENT
BEGIN:VEVENT
DTSTART;TZID=America/Denver:20250823T100000
DTEND;TZID=America/Denver:20250823T130000
DTSTAMP:20260424T054431
CREATED:20250818T124529Z
LAST-MODIFIED:20250820T183324Z
UID:10011702-1755943200-1755954000@kcparent.com
SUMMARY:Meet Mr. and Mrs. Mouse
DESCRIPTION:Mr. and Mrs. Mouse are dropping by the Mid-Continent Public Library – Withers Branch Saturday\, Aug. 23\, to dance and strike a pose. There will be photos and dancing with Mr. & Mrs. Mouse at 10 a.m.\, story time and themed crafts 11 a.m. – 1 p.m.\nThis event is free to attend. Coffee and juice boxes will be available while supplies last. You’re welcome to participate in all three activities or to pick and choose.
URL:https://kcparent.com/event/meet-mr-and-mrs-mouse/
LOCATION:Mid-Continent Public Library – Withers Branch\, 1665 S Withers Rd\, Liberty\, MO\, 64068\, United States
ATTACH;FMTTYPE=image/jpeg:https://kcparent.com/wp-content/uploads/2025/08/529955263_731851163157922_8721899047103195821_n.jpg
END:VEVENT
END:VCALENDAR