BEGIN:VCALENDAR
VERSION:2.0
PRODID:-//KC Parent - ECPv6.15.18//NONSGML v1.0//EN
CALSCALE:GREGORIAN
METHOD:PUBLISH
X-ORIGINAL-URL:https://kcparent.com
X-WR-CALDESC:Events for KC Parent
REFRESH-INTERVAL;VALUE=DURATION:PT1H
X-Robots-Tag:noindex
X-PUBLISHED-TTL:PT1H
BEGIN:VTIMEZONE
TZID:America/Denver
BEGIN:DAYLIGHT
TZOFFSETFROM:-0700
TZOFFSETTO:-0600
TZNAME:MDT
DTSTART:20250309T090000
END:DAYLIGHT
BEGIN:STANDARD
TZOFFSETFROM:-0600
TZOFFSETTO:-0700
TZNAME:MST
DTSTART:20251102T080000
END:STANDARD
BEGIN:DAYLIGHT
TZOFFSETFROM:-0700
TZOFFSETTO:-0600
TZNAME:MDT
DTSTART:20260308T090000
END:DAYLIGHT
BEGIN:STANDARD
TZOFFSETFROM:-0600
TZOFFSETTO:-0700
TZNAME:MST
DTSTART:20261101T080000
END:STANDARD
BEGIN:DAYLIGHT
TZOFFSETFROM:-0700
TZOFFSETTO:-0600
TZNAME:MDT
DTSTART:20270314T090000
END:DAYLIGHT
BEGIN:STANDARD
TZOFFSETFROM:-0600
TZOFFSETTO:-0700
TZNAME:MST
DTSTART:20271107T080000
END:STANDARD
END:VTIMEZONE
BEGIN:VEVENT
DTSTART;TZID=America/Denver:20260428T160000
DTEND;TZID=America/Denver:20260428T173000
DTSTAMP:20260425T100437
CREATED:20260424T155225Z
LAST-MODIFIED:20260424T155225Z
UID:10025614-1777392000-1777397400@kcparent.com
SUMMARY:Bloom Bash
DESCRIPTION:Celebrate spring at the Bloom Bash on Tuesday\, April 28 at Mid-Continent Public Library‘s Woodneath Library Center! \n\n\nFrom 4:00 pm to 5:30 pm\, kids and their grownups are invited to embrace the wonders of nature. The event will feature:\n\n\n Storytime with bestselling author Robin Wall Kimmerer\n A performance by Jim “Mr. Stinky Feet” Cosgrove\, including a brand new song\n Activities from our community partners\n\n\nWith fun and educational resources provided by local organizations including Bridging The Gap\, Sow Wild Natives\, Magpie Creative Reuse Collective\, Missouri Dept. of Conservation\, and the Missouri Prairie Foundation\, there will be something for everyone to enjoy! Find out more and register now at mymcpl.org/bloombash
URL:https://kcparent.com/event/bloom-bash/
LOCATION:Mid-Continent Public Library – Woodneath Branch\, 8900 NE Flintlock Road\, Kansas City\, Missouri\, 64157\, United States
ATTACH;FMTTYPE=image/jpeg:https://kcparent.com/wp-content/uploads/2026/04/671991694_961279309613819_7208582413483032592_n.jpg
END:VEVENT
END:VCALENDAR