BEGIN:VCALENDAR
VERSION:2.0
PRODID:-//KC Parent - ECPv6.15.18//NONSGML v1.0//EN
CALSCALE:GREGORIAN
METHOD:PUBLISH
X-WR-CALNAME:KC Parent
X-ORIGINAL-URL:https://kcparent.com
X-WR-CALDESC:Events for KC Parent
REFRESH-INTERVAL;VALUE=DURATION:PT1H
X-Robots-Tag:noindex
X-PUBLISHED-TTL:PT1H
BEGIN:VTIMEZONE
TZID:America/Denver
BEGIN:DAYLIGHT
TZOFFSETFROM:-0700
TZOFFSETTO:-0600
TZNAME:MDT
DTSTART:20250309T090000
END:DAYLIGHT
BEGIN:STANDARD
TZOFFSETFROM:-0600
TZOFFSETTO:-0700
TZNAME:MST
DTSTART:20251102T080000
END:STANDARD
BEGIN:DAYLIGHT
TZOFFSETFROM:-0700
TZOFFSETTO:-0600
TZNAME:MDT
DTSTART:20260308T090000
END:DAYLIGHT
BEGIN:STANDARD
TZOFFSETFROM:-0600
TZOFFSETTO:-0700
TZNAME:MST
DTSTART:20261101T080000
END:STANDARD
BEGIN:DAYLIGHT
TZOFFSETFROM:-0700
TZOFFSETTO:-0600
TZNAME:MDT
DTSTART:20270314T090000
END:DAYLIGHT
BEGIN:STANDARD
TZOFFSETFROM:-0600
TZOFFSETTO:-0700
TZNAME:MST
DTSTART:20271107T080000
END:STANDARD
END:VTIMEZONE
BEGIN:VEVENT
DTSTART;TZID=America/Denver:20260717T110000
DTEND;TZID=America/Denver:20260717T120000
DTSTAMP:20260421T035737
CREATED:20250824T172619Z
LAST-MODIFIED:20250922T184249Z
UID:10015022-1784286000-1784289600@kcparent.com
SUMMARY:Indoor Playground
DESCRIPTION:Mill Creek Activity Center. Toddlers can explore on soft climbing structures\, slides and sensory activities. Ages walking to 5 yrs. $6 per child.  \nAvailable Mondays and Fridays from 11 AM-12 PM. \nRegister at JCPRD.com
URL:https://kcparent.com/event/indoor-playground/2026-07-17/
LOCATION:Mill Creek Activity Center\, 6518 Vista Drive \, Kansas\, 66217\, United States
ATTACH;FMTTYPE=image/jpeg:https://kcparent.com/wp-content/uploads/2025/08/indoorplayground-.jpg
END:VEVENT
BEGIN:VEVENT
DTSTART;TZID=America/Denver:20260720T110000
DTEND;TZID=America/Denver:20260720T120000
DTSTAMP:20260421T035737
CREATED:20250824T172619Z
LAST-MODIFIED:20250922T184249Z
UID:10015023-1784545200-1784548800@kcparent.com
SUMMARY:Indoor Playground
DESCRIPTION:Mill Creek Activity Center. Toddlers can explore on soft climbing structures\, slides and sensory activities. Ages walking to 5 yrs. $6 per child.  \nAvailable Mondays and Fridays from 11 AM-12 PM. \nRegister at JCPRD.com
URL:https://kcparent.com/event/indoor-playground/2026-07-20/
LOCATION:Mill Creek Activity Center\, 6518 Vista Drive \, Kansas\, 66217\, United States
ATTACH;FMTTYPE=image/jpeg:https://kcparent.com/wp-content/uploads/2025/08/indoorplayground-.jpg
END:VEVENT
BEGIN:VEVENT
DTSTART;TZID=America/Denver:20260724T110000
DTEND;TZID=America/Denver:20260724T120000
DTSTAMP:20260421T035737
CREATED:20250824T172619Z
LAST-MODIFIED:20250922T184249Z
UID:10015024-1784890800-1784894400@kcparent.com
SUMMARY:Indoor Playground
DESCRIPTION:Mill Creek Activity Center. Toddlers can explore on soft climbing structures\, slides and sensory activities. Ages walking to 5 yrs. $6 per child.  \nAvailable Mondays and Fridays from 11 AM-12 PM. \nRegister at JCPRD.com
URL:https://kcparent.com/event/indoor-playground/2026-07-24/
LOCATION:Mill Creek Activity Center\, 6518 Vista Drive \, Kansas\, 66217\, United States
ATTACH;FMTTYPE=image/jpeg:https://kcparent.com/wp-content/uploads/2025/08/indoorplayground-.jpg
END:VEVENT
BEGIN:VEVENT
DTSTART;TZID=America/Denver:20260727T110000
DTEND;TZID=America/Denver:20260727T120000
DTSTAMP:20260421T035737
CREATED:20250824T172619Z
LAST-MODIFIED:20250922T184249Z
UID:10015025-1785150000-1785153600@kcparent.com
SUMMARY:Indoor Playground
DESCRIPTION:Mill Creek Activity Center. Toddlers can explore on soft climbing structures\, slides and sensory activities. Ages walking to 5 yrs. $6 per child.  \nAvailable Mondays and Fridays from 11 AM-12 PM. \nRegister at JCPRD.com
URL:https://kcparent.com/event/indoor-playground/2026-07-27/
LOCATION:Mill Creek Activity Center\, 6518 Vista Drive \, Kansas\, 66217\, United States
ATTACH;FMTTYPE=image/jpeg:https://kcparent.com/wp-content/uploads/2025/08/indoorplayground-.jpg
END:VEVENT
BEGIN:VEVENT
DTSTART;TZID=America/Denver:20260731T110000
DTEND;TZID=America/Denver:20260731T120000
DTSTAMP:20260421T035737
CREATED:20250824T172619Z
LAST-MODIFIED:20250922T184249Z
UID:10015026-1785495600-1785499200@kcparent.com
SUMMARY:Indoor Playground
DESCRIPTION:Mill Creek Activity Center. Toddlers can explore on soft climbing structures\, slides and sensory activities. Ages walking to 5 yrs. $6 per child.  \nAvailable Mondays and Fridays from 11 AM-12 PM. \nRegister at JCPRD.com
URL:https://kcparent.com/event/indoor-playground/2026-07-31/
LOCATION:Mill Creek Activity Center\, 6518 Vista Drive \, Kansas\, 66217\, United States
ATTACH;FMTTYPE=image/jpeg:https://kcparent.com/wp-content/uploads/2025/08/indoorplayground-.jpg
END:VEVENT
BEGIN:VEVENT
DTSTART;TZID=America/Denver:20260803T110000
DTEND;TZID=America/Denver:20260803T120000
DTSTAMP:20260421T035737
CREATED:20250824T172619Z
LAST-MODIFIED:20250922T184249Z
UID:10015027-1785754800-1785758400@kcparent.com
SUMMARY:Indoor Playground
DESCRIPTION:Mill Creek Activity Center. Toddlers can explore on soft climbing structures\, slides and sensory activities. Ages walking to 5 yrs. $6 per child.  \nAvailable Mondays and Fridays from 11 AM-12 PM. \nRegister at JCPRD.com
URL:https://kcparent.com/event/indoor-playground/2026-08-03/
LOCATION:Mill Creek Activity Center\, 6518 Vista Drive \, Kansas\, 66217\, United States
ATTACH;FMTTYPE=image/jpeg:https://kcparent.com/wp-content/uploads/2025/08/indoorplayground-.jpg
END:VEVENT
BEGIN:VEVENT
DTSTART;TZID=America/Denver:20260807T110000
DTEND;TZID=America/Denver:20260807T120000
DTSTAMP:20260421T035737
CREATED:20250824T172619Z
LAST-MODIFIED:20250922T184249Z
UID:10015028-1786100400-1786104000@kcparent.com
SUMMARY:Indoor Playground
DESCRIPTION:Mill Creek Activity Center. Toddlers can explore on soft climbing structures\, slides and sensory activities. Ages walking to 5 yrs. $6 per child.  \nAvailable Mondays and Fridays from 11 AM-12 PM. \nRegister at JCPRD.com
URL:https://kcparent.com/event/indoor-playground/2026-08-07/
LOCATION:Mill Creek Activity Center\, 6518 Vista Drive \, Kansas\, 66217\, United States
ATTACH;FMTTYPE=image/jpeg:https://kcparent.com/wp-content/uploads/2025/08/indoorplayground-.jpg
END:VEVENT
BEGIN:VEVENT
DTSTART;TZID=America/Denver:20260810T110000
DTEND;TZID=America/Denver:20260810T120000
DTSTAMP:20260421T035737
CREATED:20250824T172619Z
LAST-MODIFIED:20250922T184249Z
UID:10015029-1786359600-1786363200@kcparent.com
SUMMARY:Indoor Playground
DESCRIPTION:Mill Creek Activity Center. Toddlers can explore on soft climbing structures\, slides and sensory activities. Ages walking to 5 yrs. $6 per child.  \nAvailable Mondays and Fridays from 11 AM-12 PM. \nRegister at JCPRD.com
URL:https://kcparent.com/event/indoor-playground/2026-08-10/
LOCATION:Mill Creek Activity Center\, 6518 Vista Drive \, Kansas\, 66217\, United States
ATTACH;FMTTYPE=image/jpeg:https://kcparent.com/wp-content/uploads/2025/08/indoorplayground-.jpg
END:VEVENT
BEGIN:VEVENT
DTSTART;TZID=America/Denver:20260814T110000
DTEND;TZID=America/Denver:20260814T120000
DTSTAMP:20260421T035737
CREATED:20250824T172619Z
LAST-MODIFIED:20250922T184249Z
UID:10015030-1786705200-1786708800@kcparent.com
SUMMARY:Indoor Playground
DESCRIPTION:Mill Creek Activity Center. Toddlers can explore on soft climbing structures\, slides and sensory activities. Ages walking to 5 yrs. $6 per child.  \nAvailable Mondays and Fridays from 11 AM-12 PM. \nRegister at JCPRD.com
URL:https://kcparent.com/event/indoor-playground/2026-08-14/
LOCATION:Mill Creek Activity Center\, 6518 Vista Drive \, Kansas\, 66217\, United States
ATTACH;FMTTYPE=image/jpeg:https://kcparent.com/wp-content/uploads/2025/08/indoorplayground-.jpg
END:VEVENT
BEGIN:VEVENT
DTSTART;TZID=America/Denver:20260817T110000
DTEND;TZID=America/Denver:20260817T120000
DTSTAMP:20260421T035737
CREATED:20250824T172619Z
LAST-MODIFIED:20250922T184249Z
UID:10015031-1786964400-1786968000@kcparent.com
SUMMARY:Indoor Playground
DESCRIPTION:Mill Creek Activity Center. Toddlers can explore on soft climbing structures\, slides and sensory activities. Ages walking to 5 yrs. $6 per child.  \nAvailable Mondays and Fridays from 11 AM-12 PM. \nRegister at JCPRD.com
URL:https://kcparent.com/event/indoor-playground/2026-08-17/
LOCATION:Mill Creek Activity Center\, 6518 Vista Drive \, Kansas\, 66217\, United States
ATTACH;FMTTYPE=image/jpeg:https://kcparent.com/wp-content/uploads/2025/08/indoorplayground-.jpg
END:VEVENT
BEGIN:VEVENT
DTSTART;TZID=America/Denver:20260821T110000
DTEND;TZID=America/Denver:20260821T120000
DTSTAMP:20260421T035737
CREATED:20250824T172619Z
LAST-MODIFIED:20250922T184249Z
UID:10015032-1787310000-1787313600@kcparent.com
SUMMARY:Indoor Playground
DESCRIPTION:Mill Creek Activity Center. Toddlers can explore on soft climbing structures\, slides and sensory activities. Ages walking to 5 yrs. $6 per child.  \nAvailable Mondays and Fridays from 11 AM-12 PM. \nRegister at JCPRD.com
URL:https://kcparent.com/event/indoor-playground/2026-08-21/
LOCATION:Mill Creek Activity Center\, 6518 Vista Drive \, Kansas\, 66217\, United States
ATTACH;FMTTYPE=image/jpeg:https://kcparent.com/wp-content/uploads/2025/08/indoorplayground-.jpg
END:VEVENT
BEGIN:VEVENT
DTSTART;TZID=America/Denver:20260824T110000
DTEND;TZID=America/Denver:20260824T120000
DTSTAMP:20260421T035737
CREATED:20250824T172619Z
LAST-MODIFIED:20250922T184249Z
UID:10015033-1787569200-1787572800@kcparent.com
SUMMARY:Indoor Playground
DESCRIPTION:Mill Creek Activity Center. Toddlers can explore on soft climbing structures\, slides and sensory activities. Ages walking to 5 yrs. $6 per child.  \nAvailable Mondays and Fridays from 11 AM-12 PM. \nRegister at JCPRD.com
URL:https://kcparent.com/event/indoor-playground/2026-08-24/
LOCATION:Mill Creek Activity Center\, 6518 Vista Drive \, Kansas\, 66217\, United States
ATTACH;FMTTYPE=image/jpeg:https://kcparent.com/wp-content/uploads/2025/08/indoorplayground-.jpg
END:VEVENT
BEGIN:VEVENT
DTSTART;TZID=America/Denver:20260828T110000
DTEND;TZID=America/Denver:20260828T120000
DTSTAMP:20260421T035737
CREATED:20250824T172619Z
LAST-MODIFIED:20250922T184249Z
UID:10015034-1787914800-1787918400@kcparent.com
SUMMARY:Indoor Playground
DESCRIPTION:Mill Creek Activity Center. Toddlers can explore on soft climbing structures\, slides and sensory activities. Ages walking to 5 yrs. $6 per child.  \nAvailable Mondays and Fridays from 11 AM-12 PM. \nRegister at JCPRD.com
URL:https://kcparent.com/event/indoor-playground/2026-08-28/
LOCATION:Mill Creek Activity Center\, 6518 Vista Drive \, Kansas\, 66217\, United States
ATTACH;FMTTYPE=image/jpeg:https://kcparent.com/wp-content/uploads/2025/08/indoorplayground-.jpg
END:VEVENT
BEGIN:VEVENT
DTSTART;TZID=America/Denver:20260831T110000
DTEND;TZID=America/Denver:20260831T120000
DTSTAMP:20260421T035737
CREATED:20250824T172619Z
LAST-MODIFIED:20250922T184249Z
UID:10015035-1788174000-1788177600@kcparent.com
SUMMARY:Indoor Playground
DESCRIPTION:Mill Creek Activity Center. Toddlers can explore on soft climbing structures\, slides and sensory activities. Ages walking to 5 yrs. $6 per child.  \nAvailable Mondays and Fridays from 11 AM-12 PM. \nRegister at JCPRD.com
URL:https://kcparent.com/event/indoor-playground/2026-08-31/
LOCATION:Mill Creek Activity Center\, 6518 Vista Drive \, Kansas\, 66217\, United States
ATTACH;FMTTYPE=image/jpeg:https://kcparent.com/wp-content/uploads/2025/08/indoorplayground-.jpg
END:VEVENT
BEGIN:VEVENT
DTSTART;TZID=America/Denver:20260904T110000
DTEND;TZID=America/Denver:20260904T120000
DTSTAMP:20260421T035737
CREATED:20250824T172619Z
LAST-MODIFIED:20250922T184249Z
UID:10015036-1788519600-1788523200@kcparent.com
SUMMARY:Indoor Playground
DESCRIPTION:Mill Creek Activity Center. Toddlers can explore on soft climbing structures\, slides and sensory activities. Ages walking to 5 yrs. $6 per child.  \nAvailable Mondays and Fridays from 11 AM-12 PM. \nRegister at JCPRD.com
URL:https://kcparent.com/event/indoor-playground/2026-09-04/
LOCATION:Mill Creek Activity Center\, 6518 Vista Drive \, Kansas\, 66217\, United States
ATTACH;FMTTYPE=image/jpeg:https://kcparent.com/wp-content/uploads/2025/08/indoorplayground-.jpg
END:VEVENT
BEGIN:VEVENT
DTSTART;TZID=America/Denver:20260907T110000
DTEND;TZID=America/Denver:20260907T120000
DTSTAMP:20260421T035737
CREATED:20250824T172619Z
LAST-MODIFIED:20250922T184249Z
UID:10015037-1788778800-1788782400@kcparent.com
SUMMARY:Indoor Playground
DESCRIPTION:Mill Creek Activity Center. Toddlers can explore on soft climbing structures\, slides and sensory activities. Ages walking to 5 yrs. $6 per child.  \nAvailable Mondays and Fridays from 11 AM-12 PM. \nRegister at JCPRD.com
URL:https://kcparent.com/event/indoor-playground/2026-09-07/
LOCATION:Mill Creek Activity Center\, 6518 Vista Drive \, Kansas\, 66217\, United States
ATTACH;FMTTYPE=image/jpeg:https://kcparent.com/wp-content/uploads/2025/08/indoorplayground-.jpg
END:VEVENT
BEGIN:VEVENT
DTSTART;TZID=America/Denver:20260911T110000
DTEND;TZID=America/Denver:20260911T120000
DTSTAMP:20260421T035737
CREATED:20250824T172619Z
LAST-MODIFIED:20250922T184249Z
UID:10015038-1789124400-1789128000@kcparent.com
SUMMARY:Indoor Playground
DESCRIPTION:Mill Creek Activity Center. Toddlers can explore on soft climbing structures\, slides and sensory activities. Ages walking to 5 yrs. $6 per child.  \nAvailable Mondays and Fridays from 11 AM-12 PM. \nRegister at JCPRD.com
URL:https://kcparent.com/event/indoor-playground/2026-09-11/
LOCATION:Mill Creek Activity Center\, 6518 Vista Drive \, Kansas\, 66217\, United States
ATTACH;FMTTYPE=image/jpeg:https://kcparent.com/wp-content/uploads/2025/08/indoorplayground-.jpg
END:VEVENT
BEGIN:VEVENT
DTSTART;TZID=America/Denver:20260914T110000
DTEND;TZID=America/Denver:20260914T120000
DTSTAMP:20260421T035737
CREATED:20250824T172619Z
LAST-MODIFIED:20250922T184249Z
UID:10015039-1789383600-1789387200@kcparent.com
SUMMARY:Indoor Playground
DESCRIPTION:Mill Creek Activity Center. Toddlers can explore on soft climbing structures\, slides and sensory activities. Ages walking to 5 yrs. $6 per child.  \nAvailable Mondays and Fridays from 11 AM-12 PM. \nRegister at JCPRD.com
URL:https://kcparent.com/event/indoor-playground/2026-09-14/
LOCATION:Mill Creek Activity Center\, 6518 Vista Drive \, Kansas\, 66217\, United States
ATTACH;FMTTYPE=image/jpeg:https://kcparent.com/wp-content/uploads/2025/08/indoorplayground-.jpg
END:VEVENT
BEGIN:VEVENT
DTSTART;TZID=America/Denver:20260918T110000
DTEND;TZID=America/Denver:20260918T120000
DTSTAMP:20260421T035737
CREATED:20250824T172619Z
LAST-MODIFIED:20250922T184249Z
UID:10015040-1789729200-1789732800@kcparent.com
SUMMARY:Indoor Playground
DESCRIPTION:Mill Creek Activity Center. Toddlers can explore on soft climbing structures\, slides and sensory activities. Ages walking to 5 yrs. $6 per child.  \nAvailable Mondays and Fridays from 11 AM-12 PM. \nRegister at JCPRD.com
URL:https://kcparent.com/event/indoor-playground/2026-09-18/
LOCATION:Mill Creek Activity Center\, 6518 Vista Drive \, Kansas\, 66217\, United States
ATTACH;FMTTYPE=image/jpeg:https://kcparent.com/wp-content/uploads/2025/08/indoorplayground-.jpg
END:VEVENT
BEGIN:VEVENT
DTSTART;TZID=America/Denver:20260921T110000
DTEND;TZID=America/Denver:20260921T120000
DTSTAMP:20260421T035737
CREATED:20250824T172619Z
LAST-MODIFIED:20250922T184249Z
UID:10015041-1789988400-1789992000@kcparent.com
SUMMARY:Indoor Playground
DESCRIPTION:Mill Creek Activity Center. Toddlers can explore on soft climbing structures\, slides and sensory activities. Ages walking to 5 yrs. $6 per child.  \nAvailable Mondays and Fridays from 11 AM-12 PM. \nRegister at JCPRD.com
URL:https://kcparent.com/event/indoor-playground/2026-09-21/
LOCATION:Mill Creek Activity Center\, 6518 Vista Drive \, Kansas\, 66217\, United States
ATTACH;FMTTYPE=image/jpeg:https://kcparent.com/wp-content/uploads/2025/08/indoorplayground-.jpg
END:VEVENT
BEGIN:VEVENT
DTSTART;TZID=America/Denver:20260925T110000
DTEND;TZID=America/Denver:20260925T120000
DTSTAMP:20260421T035737
CREATED:20250824T172619Z
LAST-MODIFIED:20250922T184249Z
UID:10015042-1790334000-1790337600@kcparent.com
SUMMARY:Indoor Playground
DESCRIPTION:Mill Creek Activity Center. Toddlers can explore on soft climbing structures\, slides and sensory activities. Ages walking to 5 yrs. $6 per child.  \nAvailable Mondays and Fridays from 11 AM-12 PM. \nRegister at JCPRD.com
URL:https://kcparent.com/event/indoor-playground/2026-09-25/
LOCATION:Mill Creek Activity Center\, 6518 Vista Drive \, Kansas\, 66217\, United States
ATTACH;FMTTYPE=image/jpeg:https://kcparent.com/wp-content/uploads/2025/08/indoorplayground-.jpg
END:VEVENT
BEGIN:VEVENT
DTSTART;TZID=America/Denver:20260928T110000
DTEND;TZID=America/Denver:20260928T120000
DTSTAMP:20260421T035737
CREATED:20250824T172619Z
LAST-MODIFIED:20250922T184249Z
UID:10015043-1790593200-1790596800@kcparent.com
SUMMARY:Indoor Playground
DESCRIPTION:Mill Creek Activity Center. Toddlers can explore on soft climbing structures\, slides and sensory activities. Ages walking to 5 yrs. $6 per child.  \nAvailable Mondays and Fridays from 11 AM-12 PM. \nRegister at JCPRD.com
URL:https://kcparent.com/event/indoor-playground/2026-09-28/
LOCATION:Mill Creek Activity Center\, 6518 Vista Drive \, Kansas\, 66217\, United States
ATTACH;FMTTYPE=image/jpeg:https://kcparent.com/wp-content/uploads/2025/08/indoorplayground-.jpg
END:VEVENT
BEGIN:VEVENT
DTSTART;TZID=America/Denver:20261002T110000
DTEND;TZID=America/Denver:20261002T120000
DTSTAMP:20260421T035737
CREATED:20250824T172619Z
LAST-MODIFIED:20250922T184249Z
UID:10015044-1790938800-1790942400@kcparent.com
SUMMARY:Indoor Playground
DESCRIPTION:Mill Creek Activity Center. Toddlers can explore on soft climbing structures\, slides and sensory activities. Ages walking to 5 yrs. $6 per child.  \nAvailable Mondays and Fridays from 11 AM-12 PM. \nRegister at JCPRD.com
URL:https://kcparent.com/event/indoor-playground/2026-10-02/
LOCATION:Mill Creek Activity Center\, 6518 Vista Drive \, Kansas\, 66217\, United States
ATTACH;FMTTYPE=image/jpeg:https://kcparent.com/wp-content/uploads/2025/08/indoorplayground-.jpg
END:VEVENT
BEGIN:VEVENT
DTSTART;TZID=America/Denver:20261005T110000
DTEND;TZID=America/Denver:20261005T120000
DTSTAMP:20260421T035737
CREATED:20250824T172619Z
LAST-MODIFIED:20250922T184249Z
UID:10015045-1791198000-1791201600@kcparent.com
SUMMARY:Indoor Playground
DESCRIPTION:Mill Creek Activity Center. Toddlers can explore on soft climbing structures\, slides and sensory activities. Ages walking to 5 yrs. $6 per child.  \nAvailable Mondays and Fridays from 11 AM-12 PM. \nRegister at JCPRD.com
URL:https://kcparent.com/event/indoor-playground/2026-10-05/
LOCATION:Mill Creek Activity Center\, 6518 Vista Drive \, Kansas\, 66217\, United States
ATTACH;FMTTYPE=image/jpeg:https://kcparent.com/wp-content/uploads/2025/08/indoorplayground-.jpg
END:VEVENT
BEGIN:VEVENT
DTSTART;TZID=America/Denver:20261009T110000
DTEND;TZID=America/Denver:20261009T120000
DTSTAMP:20260421T035737
CREATED:20250824T172619Z
LAST-MODIFIED:20250922T184249Z
UID:10015046-1791543600-1791547200@kcparent.com
SUMMARY:Indoor Playground
DESCRIPTION:Mill Creek Activity Center. Toddlers can explore on soft climbing structures\, slides and sensory activities. Ages walking to 5 yrs. $6 per child.  \nAvailable Mondays and Fridays from 11 AM-12 PM. \nRegister at JCPRD.com
URL:https://kcparent.com/event/indoor-playground/2026-10-09/
LOCATION:Mill Creek Activity Center\, 6518 Vista Drive \, Kansas\, 66217\, United States
ATTACH;FMTTYPE=image/jpeg:https://kcparent.com/wp-content/uploads/2025/08/indoorplayground-.jpg
END:VEVENT
BEGIN:VEVENT
DTSTART;TZID=America/Denver:20261012T110000
DTEND;TZID=America/Denver:20261012T120000
DTSTAMP:20260421T035737
CREATED:20250824T172619Z
LAST-MODIFIED:20250922T184249Z
UID:10015047-1791802800-1791806400@kcparent.com
SUMMARY:Indoor Playground
DESCRIPTION:Mill Creek Activity Center. Toddlers can explore on soft climbing structures\, slides and sensory activities. Ages walking to 5 yrs. $6 per child.  \nAvailable Mondays and Fridays from 11 AM-12 PM. \nRegister at JCPRD.com
URL:https://kcparent.com/event/indoor-playground/2026-10-12/
LOCATION:Mill Creek Activity Center\, 6518 Vista Drive \, Kansas\, 66217\, United States
ATTACH;FMTTYPE=image/jpeg:https://kcparent.com/wp-content/uploads/2025/08/indoorplayground-.jpg
END:VEVENT
BEGIN:VEVENT
DTSTART;TZID=America/Denver:20261016T110000
DTEND;TZID=America/Denver:20261016T120000
DTSTAMP:20260421T035737
CREATED:20250824T172619Z
LAST-MODIFIED:20250922T184249Z
UID:10015048-1792148400-1792152000@kcparent.com
SUMMARY:Indoor Playground
DESCRIPTION:Mill Creek Activity Center. Toddlers can explore on soft climbing structures\, slides and sensory activities. Ages walking to 5 yrs. $6 per child.  \nAvailable Mondays and Fridays from 11 AM-12 PM. \nRegister at JCPRD.com
URL:https://kcparent.com/event/indoor-playground/2026-10-16/
LOCATION:Mill Creek Activity Center\, 6518 Vista Drive \, Kansas\, 66217\, United States
ATTACH;FMTTYPE=image/jpeg:https://kcparent.com/wp-content/uploads/2025/08/indoorplayground-.jpg
END:VEVENT
BEGIN:VEVENT
DTSTART;TZID=America/Denver:20261019T110000
DTEND;TZID=America/Denver:20261019T120000
DTSTAMP:20260421T035737
CREATED:20250824T172619Z
LAST-MODIFIED:20250922T184249Z
UID:10015049-1792407600-1792411200@kcparent.com
SUMMARY:Indoor Playground
DESCRIPTION:Mill Creek Activity Center. Toddlers can explore on soft climbing structures\, slides and sensory activities. Ages walking to 5 yrs. $6 per child.  \nAvailable Mondays and Fridays from 11 AM-12 PM. \nRegister at JCPRD.com
URL:https://kcparent.com/event/indoor-playground/2026-10-19/
LOCATION:Mill Creek Activity Center\, 6518 Vista Drive \, Kansas\, 66217\, United States
ATTACH;FMTTYPE=image/jpeg:https://kcparent.com/wp-content/uploads/2025/08/indoorplayground-.jpg
END:VEVENT
BEGIN:VEVENT
DTSTART;TZID=America/Denver:20261023T110000
DTEND;TZID=America/Denver:20261023T120000
DTSTAMP:20260421T035737
CREATED:20250824T172619Z
LAST-MODIFIED:20250922T184249Z
UID:10015050-1792753200-1792756800@kcparent.com
SUMMARY:Indoor Playground
DESCRIPTION:Mill Creek Activity Center. Toddlers can explore on soft climbing structures\, slides and sensory activities. Ages walking to 5 yrs. $6 per child.  \nAvailable Mondays and Fridays from 11 AM-12 PM. \nRegister at JCPRD.com
URL:https://kcparent.com/event/indoor-playground/2026-10-23/
LOCATION:Mill Creek Activity Center\, 6518 Vista Drive \, Kansas\, 66217\, United States
ATTACH;FMTTYPE=image/jpeg:https://kcparent.com/wp-content/uploads/2025/08/indoorplayground-.jpg
END:VEVENT
BEGIN:VEVENT
DTSTART;TZID=America/Denver:20261026T110000
DTEND;TZID=America/Denver:20261026T120000
DTSTAMP:20260421T035737
CREATED:20250824T172619Z
LAST-MODIFIED:20250922T184249Z
UID:10015051-1793012400-1793016000@kcparent.com
SUMMARY:Indoor Playground
DESCRIPTION:Mill Creek Activity Center. Toddlers can explore on soft climbing structures\, slides and sensory activities. Ages walking to 5 yrs. $6 per child.  \nAvailable Mondays and Fridays from 11 AM-12 PM. \nRegister at JCPRD.com
URL:https://kcparent.com/event/indoor-playground/2026-10-26/
LOCATION:Mill Creek Activity Center\, 6518 Vista Drive \, Kansas\, 66217\, United States
ATTACH;FMTTYPE=image/jpeg:https://kcparent.com/wp-content/uploads/2025/08/indoorplayground-.jpg
END:VEVENT
END:VCALENDAR