BEGIN:VCALENDAR
VERSION:2.0
PRODID:-//KC Parent - ECPv6.15.18//NONSGML v1.0//EN
CALSCALE:GREGORIAN
METHOD:PUBLISH
X-WR-CALNAME:KC Parent
X-ORIGINAL-URL:https://kcparent.com
X-WR-CALDESC:Events for KC Parent
REFRESH-INTERVAL;VALUE=DURATION:PT1H
X-Robots-Tag:noindex
X-PUBLISHED-TTL:PT1H
BEGIN:VTIMEZONE
TZID:America/Denver
BEGIN:DAYLIGHT
TZOFFSETFROM:-0700
TZOFFSETTO:-0600
TZNAME:MDT
DTSTART:20240310T090000
END:DAYLIGHT
BEGIN:STANDARD
TZOFFSETFROM:-0600
TZOFFSETTO:-0700
TZNAME:MST
DTSTART:20241103T080000
END:STANDARD
BEGIN:DAYLIGHT
TZOFFSETFROM:-0700
TZOFFSETTO:-0600
TZNAME:MDT
DTSTART:20250309T090000
END:DAYLIGHT
BEGIN:STANDARD
TZOFFSETFROM:-0600
TZOFFSETTO:-0700
TZNAME:MST
DTSTART:20251102T080000
END:STANDARD
BEGIN:DAYLIGHT
TZOFFSETFROM:-0700
TZOFFSETTO:-0600
TZNAME:MDT
DTSTART:20260308T090000
END:DAYLIGHT
BEGIN:STANDARD
TZOFFSETFROM:-0600
TZOFFSETTO:-0700
TZNAME:MST
DTSTART:20261101T080000
END:STANDARD
END:VTIMEZONE
BEGIN:VEVENT
DTSTART;TZID=America/Denver:20250926T110000
DTEND;TZID=America/Denver:20250926T120000
DTSTAMP:20260423T111933
CREATED:20250824T172619Z
LAST-MODIFIED:20250922T184249Z
UID:10014938-1758884400-1758888000@kcparent.com
SUMMARY:Indoor Playground
DESCRIPTION:Mill Creek Activity Center. Toddlers can explore on soft climbing structures\, slides and sensory activities. Ages walking to 5 yrs. $6 per child.  \nAvailable Mondays and Fridays from 11 AM-12 PM. \nRegister at JCPRD.com
URL:https://kcparent.com/event/indoor-playground/2025-09-26/
LOCATION:Mill Creek Activity Center\, 6518 Vista Drive \, Kansas\, 66217\, United States
ATTACH;FMTTYPE=image/jpeg:https://kcparent.com/wp-content/uploads/2025/08/indoorplayground-.jpg
END:VEVENT
BEGIN:VEVENT
DTSTART;TZID=America/Denver:20250922T110000
DTEND;TZID=America/Denver:20250922T120000
DTSTAMP:20260423T111933
CREATED:20250824T172619Z
LAST-MODIFIED:20250922T184249Z
UID:10014937-1758538800-1758542400@kcparent.com
SUMMARY:Indoor Playground
DESCRIPTION:Mill Creek Activity Center. Toddlers can explore on soft climbing structures\, slides and sensory activities. Ages walking to 5 yrs. $6 per child.  \nAvailable Mondays and Fridays from 11 AM-12 PM. \nRegister at JCPRD.com
URL:https://kcparent.com/event/indoor-playground/2025-09-22/
LOCATION:Mill Creek Activity Center\, 6518 Vista Drive \, Kansas\, 66217\, United States
ATTACH;FMTTYPE=image/jpeg:https://kcparent.com/wp-content/uploads/2025/08/indoorplayground-.jpg
END:VEVENT
BEGIN:VEVENT
DTSTART;TZID=America/Denver:20250919T110000
DTEND;TZID=America/Denver:20250919T120000
DTSTAMP:20260423T111933
CREATED:20250824T172619Z
LAST-MODIFIED:20250922T184249Z
UID:10014936-1758279600-1758283200@kcparent.com
SUMMARY:Indoor Playground
DESCRIPTION:Mill Creek Activity Center. Toddlers can explore on soft climbing structures\, slides and sensory activities. Ages walking to 5 yrs. $6 per child.  \nAvailable Mondays and Fridays from 11 AM-12 PM. \nRegister at JCPRD.com
URL:https://kcparent.com/event/indoor-playground/2025-09-19/
LOCATION:Mill Creek Activity Center\, 6518 Vista Drive \, Kansas\, 66217\, United States
ATTACH;FMTTYPE=image/jpeg:https://kcparent.com/wp-content/uploads/2025/08/indoorplayground-.jpg
END:VEVENT
BEGIN:VEVENT
DTSTART;TZID=America/Denver:20250915T110000
DTEND;TZID=America/Denver:20250915T120000
DTSTAMP:20260423T111933
CREATED:20250824T172619Z
LAST-MODIFIED:20250922T184249Z
UID:10014935-1757934000-1757937600@kcparent.com
SUMMARY:Indoor Playground
DESCRIPTION:Mill Creek Activity Center. Toddlers can explore on soft climbing structures\, slides and sensory activities. Ages walking to 5 yrs. $6 per child.  \nAvailable Mondays and Fridays from 11 AM-12 PM. \nRegister at JCPRD.com
URL:https://kcparent.com/event/indoor-playground/2025-09-15/
LOCATION:Mill Creek Activity Center\, 6518 Vista Drive \, Kansas\, 66217\, United States
ATTACH;FMTTYPE=image/jpeg:https://kcparent.com/wp-content/uploads/2025/08/indoorplayground-.jpg
END:VEVENT
BEGIN:VEVENT
DTSTART;TZID=America/Denver:20250912T110000
DTEND;TZID=America/Denver:20250912T120000
DTSTAMP:20260423T111933
CREATED:20250824T172619Z
LAST-MODIFIED:20250922T184249Z
UID:10014934-1757674800-1757678400@kcparent.com
SUMMARY:Indoor Playground
DESCRIPTION:Mill Creek Activity Center. Toddlers can explore on soft climbing structures\, slides and sensory activities. Ages walking to 5 yrs. $6 per child.  \nAvailable Mondays and Fridays from 11 AM-12 PM. \nRegister at JCPRD.com
URL:https://kcparent.com/event/indoor-playground/2025-09-12/
LOCATION:Mill Creek Activity Center\, 6518 Vista Drive \, Kansas\, 66217\, United States
ATTACH;FMTTYPE=image/jpeg:https://kcparent.com/wp-content/uploads/2025/08/indoorplayground-.jpg
END:VEVENT
BEGIN:VEVENT
DTSTART;TZID=America/Denver:20250908T110000
DTEND;TZID=America/Denver:20250908T120000
DTSTAMP:20260423T111933
CREATED:20250824T172619Z
LAST-MODIFIED:20250922T184249Z
UID:10014933-1757329200-1757332800@kcparent.com
SUMMARY:Indoor Playground
DESCRIPTION:Mill Creek Activity Center. Toddlers can explore on soft climbing structures\, slides and sensory activities. Ages walking to 5 yrs. $6 per child.  \nAvailable Mondays and Fridays from 11 AM-12 PM. \nRegister at JCPRD.com
URL:https://kcparent.com/event/indoor-playground/2025-09-08/
LOCATION:Mill Creek Activity Center\, 6518 Vista Drive \, Kansas\, 66217\, United States
ATTACH;FMTTYPE=image/jpeg:https://kcparent.com/wp-content/uploads/2025/08/indoorplayground-.jpg
END:VEVENT
BEGIN:VEVENT
DTSTART;TZID=America/Denver:20250905T110000
DTEND;TZID=America/Denver:20250905T120000
DTSTAMP:20260423T111933
CREATED:20250824T172619Z
LAST-MODIFIED:20250922T184249Z
UID:10014932-1757070000-1757073600@kcparent.com
SUMMARY:Indoor Playground
DESCRIPTION:Mill Creek Activity Center. Toddlers can explore on soft climbing structures\, slides and sensory activities. Ages walking to 5 yrs. $6 per child.  \nAvailable Mondays and Fridays from 11 AM-12 PM. \nRegister at JCPRD.com
URL:https://kcparent.com/event/indoor-playground/2025-09-05/
LOCATION:Mill Creek Activity Center\, 6518 Vista Drive \, Kansas\, 66217\, United States
ATTACH;FMTTYPE=image/jpeg:https://kcparent.com/wp-content/uploads/2025/08/indoorplayground-.jpg
END:VEVENT
BEGIN:VEVENT
DTSTART;TZID=America/Denver:20250901T110000
DTEND;TZID=America/Denver:20250901T120000
DTSTAMP:20260423T111933
CREATED:20250824T172619Z
LAST-MODIFIED:20250922T184249Z
UID:10014931-1756724400-1756728000@kcparent.com
SUMMARY:Indoor Playground
DESCRIPTION:Mill Creek Activity Center. Toddlers can explore on soft climbing structures\, slides and sensory activities. Ages walking to 5 yrs. $6 per child.  \nAvailable Mondays and Fridays from 11 AM-12 PM. \nRegister at JCPRD.com
URL:https://kcparent.com/event/indoor-playground/2025-09-01/
LOCATION:Mill Creek Activity Center\, 6518 Vista Drive \, Kansas\, 66217\, United States
ATTACH;FMTTYPE=image/jpeg:https://kcparent.com/wp-content/uploads/2025/08/indoorplayground-.jpg
END:VEVENT
BEGIN:VEVENT
DTSTART;TZID=America/Denver:20250829T110000
DTEND;TZID=America/Denver:20250829T120000
DTSTAMP:20260423T111933
CREATED:20250824T172619Z
LAST-MODIFIED:20250922T184249Z
UID:10014930-1756465200-1756468800@kcparent.com
SUMMARY:Indoor Playground
DESCRIPTION:Mill Creek Activity Center. Toddlers can explore on soft climbing structures\, slides and sensory activities. Ages walking to 5 yrs. $6 per child.  \nAvailable Mondays and Fridays from 11 AM-12 PM. \nRegister at JCPRD.com
URL:https://kcparent.com/event/indoor-playground/2025-08-29/
LOCATION:Mill Creek Activity Center\, 6518 Vista Drive \, Kansas\, 66217\, United States
ATTACH;FMTTYPE=image/jpeg:https://kcparent.com/wp-content/uploads/2025/08/indoorplayground-.jpg
END:VEVENT
BEGIN:VEVENT
DTSTART;TZID=America/Denver:20250825T110000
DTEND;TZID=America/Denver:20250825T120000
DTSTAMP:20260423T111933
CREATED:20250824T172619Z
LAST-MODIFIED:20250922T184249Z
UID:10014929-1756119600-1756123200@kcparent.com
SUMMARY:Indoor Playground
DESCRIPTION:Mill Creek Activity Center. Toddlers can explore on soft climbing structures\, slides and sensory activities. Ages walking to 5 yrs. $6 per child.  \nAvailable Mondays and Fridays from 11 AM-12 PM. \nRegister at JCPRD.com
URL:https://kcparent.com/event/indoor-playground/2025-08-25/
LOCATION:Mill Creek Activity Center\, 6518 Vista Drive \, Kansas\, 66217\, United States
ATTACH;FMTTYPE=image/jpeg:https://kcparent.com/wp-content/uploads/2025/08/indoorplayground-.jpg
END:VEVENT
END:VCALENDAR