BEGIN:VCALENDAR
VERSION:2.0
PRODID:-//KC Parent - ECPv6.15.18//NONSGML v1.0//EN
CALSCALE:GREGORIAN
METHOD:PUBLISH
X-ORIGINAL-URL:https://kcparent.com
X-WR-CALDESC:Events for KC Parent
REFRESH-INTERVAL;VALUE=DURATION:PT1H
X-Robots-Tag:noindex
X-PUBLISHED-TTL:PT1H
BEGIN:VTIMEZONE
TZID:America/Denver
BEGIN:DAYLIGHT
TZOFFSETFROM:-0700
TZOFFSETTO:-0600
TZNAME:MDT
DTSTART:20240310T090000
END:DAYLIGHT
BEGIN:STANDARD
TZOFFSETFROM:-0600
TZOFFSETTO:-0700
TZNAME:MST
DTSTART:20241103T080000
END:STANDARD
BEGIN:DAYLIGHT
TZOFFSETFROM:-0700
TZOFFSETTO:-0600
TZNAME:MDT
DTSTART:20250309T090000
END:DAYLIGHT
BEGIN:STANDARD
TZOFFSETFROM:-0600
TZOFFSETTO:-0700
TZNAME:MST
DTSTART:20251102T080000
END:STANDARD
BEGIN:DAYLIGHT
TZOFFSETFROM:-0700
TZOFFSETTO:-0600
TZNAME:MDT
DTSTART:20260308T090000
END:DAYLIGHT
BEGIN:STANDARD
TZOFFSETFROM:-0600
TZOFFSETTO:-0700
TZNAME:MST
DTSTART:20261101T080000
END:STANDARD
END:VTIMEZONE
BEGIN:VEVENT
DTSTART;TZID=America/Denver:20251122T143000
DTEND;TZID=America/Denver:20251122T163000
DTSTAMP:20260421T180703
CREATED:20251107T185520Z
LAST-MODIFIED:20251107T185520Z
UID:10016190-1763821800-1763829000@kcparent.com
SUMMARY:Fall Public Hayride
DESCRIPTION:Enjoy the outdoors with a hayride through Oak Ridge Parklands at Shawnee Mission Park. Your hayride concludes with a warm campfire where marshmallows and apple cider await. Advance registration required. Children 2 and under are free. \nEach Hayride is an hour followed by an hour at the campfire site.\n1 – 2 hr. session – $13 / 14 nonresidents\nAddress for the hayrides is 7460 Ogg Road\, Shawnee KS 66218
URL:https://kcparent.com/event/fall-public-hayride-2/
LOCATION:Oak Ridge Parklands at Shawnee Mission Park\, 7460 Ogg Road\, Kansas City\, Missouri\, 66219\, United States
ATTACH;FMTTYPE=image/jpeg:https://kcparent.com/wp-content/uploads/2025/11/Document.jpeg
END:VEVENT
BEGIN:VEVENT
DTSTART;TZID=America/Denver:20251115T143000
DTEND;TZID=America/Denver:20251115T163000
DTSTAMP:20260421T180703
CREATED:20251107T183913Z
LAST-MODIFIED:20251107T183913Z
UID:10016183-1763217000-1763224200@kcparent.com
SUMMARY:Fall Public Hayride
DESCRIPTION:Enjoy the outdoors with a hayride through Oak Ridge Parklands at Shawnee Mission Park. Your hayride concludes with a warm campfire where marshmallows and apple cider await. Advance registration required. Children 2 and under are free. \nEach Hayride is an hour followed by an hour at the campfire site.\n1 – 2 hr. session – $13 / 14 nonresidents
URL:https://kcparent.com/event/fall-public-hayride/
LOCATION:Oak Ridge Parklands at Shawnee Mission Park\, 7460 Ogg Road\, Kansas City\, Missouri\, 66219\, United States
ATTACH;FMTTYPE=image/jpeg:https://kcparent.com/wp-content/uploads/2025/11/Document.jpeg
END:VEVENT
END:VCALENDAR