BEGIN:VCALENDAR
VERSION:2.0
PRODID:-//KC Parent - ECPv6.15.18//NONSGML v1.0//EN
CALSCALE:GREGORIAN
METHOD:PUBLISH
X-WR-CALNAME:KC Parent
X-ORIGINAL-URL:https://kcparent.com
X-WR-CALDESC:Events for KC Parent
REFRESH-INTERVAL;VALUE=DURATION:PT1H
X-Robots-Tag:noindex
X-PUBLISHED-TTL:PT1H
BEGIN:VTIMEZONE
TZID:America/Denver
BEGIN:DAYLIGHT
TZOFFSETFROM:-0700
TZOFFSETTO:-0600
TZNAME:MDT
DTSTART:20240310T090000
END:DAYLIGHT
BEGIN:STANDARD
TZOFFSETFROM:-0600
TZOFFSETTO:-0700
TZNAME:MST
DTSTART:20241103T080000
END:STANDARD
BEGIN:DAYLIGHT
TZOFFSETFROM:-0700
TZOFFSETTO:-0600
TZNAME:MDT
DTSTART:20250309T090000
END:DAYLIGHT
BEGIN:STANDARD
TZOFFSETFROM:-0600
TZOFFSETTO:-0700
TZNAME:MST
DTSTART:20251102T080000
END:STANDARD
BEGIN:DAYLIGHT
TZOFFSETFROM:-0700
TZOFFSETTO:-0600
TZNAME:MDT
DTSTART:20260308T090000
END:DAYLIGHT
BEGIN:STANDARD
TZOFFSETFROM:-0600
TZOFFSETTO:-0700
TZNAME:MST
DTSTART:20261101T080000
END:STANDARD
BEGIN:DAYLIGHT
TZOFFSETFROM:-0700
TZOFFSETTO:-0600
TZNAME:MDT
DTSTART:20270314T090000
END:DAYLIGHT
BEGIN:STANDARD
TZOFFSETFROM:-0600
TZOFFSETTO:-0700
TZNAME:MST
DTSTART:20271107T080000
END:STANDARD
END:VTIMEZONE
BEGIN:VEVENT
DTSTART;TZID=America/Denver:20260418T100000
DTEND;TZID=America/Denver:20260418T110000
DTSTAMP:20260425T064028
CREATED:20251027T141531Z
LAST-MODIFIED:20251027T143056Z
UID:10015843-1776506400-1776510000@kcparent.com
SUMMARY:Early Childhood Panther Playdate: Sweet Storytime
DESCRIPTION:Looking for a fun and interactive way to spend time with your little one? Think Mommy and Me—but with an Oakhill twist! \nOakhill Day School invites you to our free Panther Playdates—engaging\, hands-on experiences designed just for Early Childhood students (18 months – Prekindergarten) and their parents. Whether you’re an Oakhill family or new to our community\, these playdates are the perfect way to connect\, explore\, and make new friends while your child learns and plays. \nEach playdate is a chance to bond\, laugh\, and create lasting memories together—and parents stay and participate! So grab a friend\, bring the little ones\, and join us for some fun.
URL:https://kcparent.com/event/early-childhood-panther-playdate-sweet-storytime/
LOCATION:Oakhill Day School\, 7019 North Cherry Street\, Gladstone\, 64118
CATEGORIES:FREE
ATTACH;FMTTYPE=image/png:https://kcparent.com/wp-content/uploads/2025/10/1080x800-Main-Campus1.png
END:VEVENT
BEGIN:VEVENT
DTSTART;TZID=America/Denver:20251105T160000
DTEND;TZID=America/Denver:20251105T190000
DTSTAMP:20260425T064028
CREATED:20251027T180001Z
LAST-MODIFIED:20251027T180001Z
UID:10015860-1762358400-1762369200@kcparent.com
SUMMARY:Global Celebration
DESCRIPTION:Global Celebration is right around the corner—a special time to honor the diverse individuals\, families\, cultures\, and heritages that make up our school community. This event gives us the opportunity to learn from one another\, explore new traditions\, and celebrate the beauty of our world together. \nThis year\, we are looking to make our celebration even bigger and brighter! Families and friends are invited to host a display table featuring items that represent your own heritage\, a country or culture you are passionate about\, or treasures collected from your travels. \nYour table might include: \n\n\nTraditional clothing or household items \n\n\nFood samples or recipes \n\n\nPhotos or informational displays \n\n\nA small craft\, game\, or activity to teach others \n\n\nThis is a wonderful way to share your story\, inspire curiosity\, and help our students appreciate the many ways people live\, celebrate\, and connect around the globe.
URL:https://kcparent.com/event/global-celebration/
LOCATION:Oakhill Day School\, 7019 North Cherry Street\, Gladstone\, 64118
ATTACH;FMTTYPE=image/png:https://kcparent.com/wp-content/uploads/2025/10/Screenshot-2025-10-27-at-12.57.48-PM.png
END:VEVENT
END:VCALENDAR