BEGIN:VCALENDAR
VERSION:2.0
PRODID:-//KC Parent - ECPv6.15.18//NONSGML v1.0//EN
CALSCALE:GREGORIAN
METHOD:PUBLISH
X-ORIGINAL-URL:https://kcparent.com
X-WR-CALDESC:Events for KC Parent
REFRESH-INTERVAL;VALUE=DURATION:PT1H
X-Robots-Tag:noindex
X-PUBLISHED-TTL:PT1H
BEGIN:VTIMEZONE
TZID:America/Denver
BEGIN:DAYLIGHT
TZOFFSETFROM:-0700
TZOFFSETTO:-0600
TZNAME:MDT
DTSTART:20250309T090000
END:DAYLIGHT
BEGIN:STANDARD
TZOFFSETFROM:-0600
TZOFFSETTO:-0700
TZNAME:MST
DTSTART:20251102T080000
END:STANDARD
BEGIN:DAYLIGHT
TZOFFSETFROM:-0700
TZOFFSETTO:-0600
TZNAME:MDT
DTSTART:20260308T090000
END:DAYLIGHT
BEGIN:STANDARD
TZOFFSETFROM:-0600
TZOFFSETTO:-0700
TZNAME:MST
DTSTART:20261101T080000
END:STANDARD
BEGIN:DAYLIGHT
TZOFFSETFROM:-0700
TZOFFSETTO:-0600
TZNAME:MDT
DTSTART:20270314T090000
END:DAYLIGHT
BEGIN:STANDARD
TZOFFSETFROM:-0600
TZOFFSETTO:-0700
TZNAME:MST
DTSTART:20271107T080000
END:STANDARD
END:VTIMEZONE
BEGIN:VEVENT
DTSTART;TZID=America/Denver:20260509T110000
DTEND;TZID=America/Denver:20260509T170000
DTSTAMP:20260422T212703
CREATED:20260421T182622Z
LAST-MODIFIED:20260421T182622Z
UID:10025599-1778324400-1778346000@kcparent.com
SUMMARY:MTC Kids Jam – Uncle Jumbo
DESCRIPTION:Enjoy a free family concert with art activities\, upbeat songs and dance-alongs for kids!\nGrammy nominee Uncle Jumbo layers heartfelt lyrics with messages of positivity that inspire young minds to dream big and chase their passions. His concert performances include hits from his “Touch the Sky” and “Garden Groove” albums\, with uplifting songs and dance-alongs that focus on connection\, kindness\, and well-being. Reservations recommended!
URL:https://kcparent.com/event/mtc-kids-jam-uncle-jumbo/
LOCATION:Polsky Theatre\, 12345 College Blvd.\, Overland Park\, KS\, 66210\, United States
ATTACH;FMTTYPE=image/jpeg:https://kcparent.com/wp-content/uploads/2026/04/uncle-jumbo-960x540-1.jpg
END:VEVENT
END:VCALENDAR