BEGIN:VCALENDAR
VERSION:2.0
PRODID:-//KC Parent - ECPv6.15.18//NONSGML v1.0//EN
CALSCALE:GREGORIAN
METHOD:PUBLISH
X-ORIGINAL-URL:https://kcparent.com
X-WR-CALDESC:Events for KC Parent
REFRESH-INTERVAL;VALUE=DURATION:PT1H
X-Robots-Tag:noindex
X-PUBLISHED-TTL:PT1H
BEGIN:VTIMEZONE
TZID:America/Denver
BEGIN:DAYLIGHT
TZOFFSETFROM:-0700
TZOFFSETTO:-0600
TZNAME:MDT
DTSTART:20240310T090000
END:DAYLIGHT
BEGIN:STANDARD
TZOFFSETFROM:-0600
TZOFFSETTO:-0700
TZNAME:MST
DTSTART:20241103T080000
END:STANDARD
BEGIN:DAYLIGHT
TZOFFSETFROM:-0700
TZOFFSETTO:-0600
TZNAME:MDT
DTSTART:20250309T090000
END:DAYLIGHT
BEGIN:STANDARD
TZOFFSETFROM:-0600
TZOFFSETTO:-0700
TZNAME:MST
DTSTART:20251102T080000
END:STANDARD
BEGIN:DAYLIGHT
TZOFFSETFROM:-0700
TZOFFSETTO:-0600
TZNAME:MDT
DTSTART:20260308T090000
END:DAYLIGHT
BEGIN:STANDARD
TZOFFSETFROM:-0600
TZOFFSETTO:-0700
TZNAME:MST
DTSTART:20261101T080000
END:STANDARD
END:VTIMEZONE
BEGIN:VEVENT
DTSTART;TZID=America/Denver:20251210T101500
DTEND;TZID=America/Denver:20251210T113000
DTSTAMP:20260420T014636
CREATED:20250825T135036Z
LAST-MODIFIED:20250827T145622Z
UID:10013366-1765361700-1765366200@kcparent.com
SUMMARY:Babies and Books
DESCRIPTION:Come listen to a story with your little one\, connect with other parents and guardians\, and learn how you can make books accessible to your bitty babies. $5 per child. TheRabbithOle.org
URL:https://kcparent.com/event/babies-and-books-2/2025-12-10/
LOCATION:Rabbit hOle\, 919 E. 14th Ave.\, North Kansas City\, Missouri\, United States
ATTACH;FMTTYPE=image/webp:https://kcparent.com/wp-content/uploads/2025/08/babies-and-books.webp
END:VEVENT
BEGIN:VEVENT
DTSTART;VALUE=DATE:20251206
DTEND;VALUE=DATE:20251207
DTSTAMP:20260420T014636
CREATED:20251125T164300Z
LAST-MODIFIED:20251125T164300Z
UID:10016809-1764979200-1765065599@kcparent.com
SUMMARY:A Gift to Young Readers
DESCRIPTION:Celebrate the season at The Rabbit hOle with your loved ones. Families are invited to make festive crafts\, explore our immersive story exhibits\, and share stories together. As our gift to young readers\, every child will receive a free book to take home and treasure.
URL:https://kcparent.com/event/a-gift-to-young-readers/
LOCATION:Rabbit hOle\, 919 E. 14th Ave.\, North Kansas City\, Missouri\, United States
ATTACH;FMTTYPE=image/avif:https://kcparent.com/wp-content/uploads/2025/11/BookStack.avif
END:VEVENT
BEGIN:VEVENT
DTSTART;TZID=America/Denver:20251205T103000
DTEND;TZID=America/Denver:20251205T113000
DTSTAMP:20260420T014636
CREATED:20250730T212518Z
LAST-MODIFIED:20250829T143305Z
UID:10014189-1764930600-1764934200@kcparent.com
SUMMARY:Lucky Rabbit Books Story Hour (Ages 3-7)
DESCRIPTION:Join us for several stories in the Great Green Room followed by a themed craft in the Tons of Fun Room. \nPlease note: \n– Story hour tickets are $5 per child. Adults do not need tickets to accompany their child(ren). \n– Each ticket includes a $5 book voucher to use at Lucky Rabbit Books. \n– Maximum 3 tickets per order. There must be one adult present for every 3 children. \n– All adults must stay with their child(ren) for the duration of story hour and may not leave the site. \n– All purchases are final. Museum admission not included.
URL:https://kcparent.com/event/lucky-rabbit-books-story-hour-ages-3-7-9/2025-12-05/
LOCATION:Rabbit hOle\, 919 E. 14th Ave.\, North Kansas City\, Missouri\, United States
CATEGORIES:Indoor
ATTACH;FMTTYPE=image/jpeg:https://kcparent.com/wp-content/uploads/2025/07/images-1.jpeg
END:VEVENT
BEGIN:VEVENT
DTSTART;TZID=America/Denver:20251205T103000
DTEND;TZID=America/Denver:20251205T111500
DTSTAMP:20260420T014636
CREATED:20250825T141216Z
LAST-MODIFIED:20250827T145111Z
UID:10014106-1764930600-1764933300@kcparent.com
SUMMARY:Story Hour
DESCRIPTION:Books will be read aloud followed by a craft inspired by the week’s featured title. Story hour tickets are $5 per child RabbitHoleKC.org \n 
URL:https://kcparent.com/event/story-hour/2025-12-05/
LOCATION:Rabbit hOle\, 919 E. 14th Ave.\, North Kansas City\, Missouri\, United States
ATTACH;FMTTYPE=image/jpeg:https://kcparent.com/wp-content/uploads/2025/08/rabbithOle.jpg
END:VEVENT
BEGIN:VEVENT
DTSTART;TZID=America/Denver:20251204T101500
DTEND;TZID=America/Denver:20251204T111500
DTSTAMP:20260420T014636
CREATED:20250730T212730Z
LAST-MODIFIED:20250803T234215Z
UID:10006637-1764843300-1764846900@kcparent.com
SUMMARY:Babies and Books
DESCRIPTION:Come listen to a story with your little one\, connect with other parents and guardians\, and learn how you can make books accessible to your bitty babies. Check-in begins at 10:00 and the program begins at 10:15 a.m. \nThis program takes place in the Goodnight Moon Room and participants will be asked to leave the following items outside the room: shoes\, food\, beverages of any kind\, non-medical strollers\, and carseats. \nRecommended for ages 0-3. \nPlease note: \n– Babies and Books tickets are $5 per child. Adults do not need tickets to accompany their child(ren). \n– Each ticket includes a $5 book voucher to use at Lucky Rabbit Books. \n– Maximum 2 tickets per order. There must be one adult present for every 2 children. \n– All adults must stay with their child(ren) for the duration of the programming and may not leave the site. \n– All purchases are final. Museum admission not included.
URL:https://kcparent.com/event/babies-and-books-9/2025-12-04/
LOCATION:Rabbit hOle\, 919 E. 14th Ave.\, North Kansas City\, Missouri\, United States
CATEGORIES:Indoor
ATTACH;FMTTYPE=image/avif:https://kcparent.com/wp-content/uploads/2025/07/BooksBabies.png.avif
END:VEVENT
BEGIN:VEVENT
DTSTART;TZID=America/Denver:20251203T101500
DTEND;TZID=America/Denver:20251203T113000
DTSTAMP:20260420T014636
CREATED:20250825T135036Z
LAST-MODIFIED:20250827T145622Z
UID:10013365-1764756900-1764761400@kcparent.com
SUMMARY:Babies and Books
DESCRIPTION:Come listen to a story with your little one\, connect with other parents and guardians\, and learn how you can make books accessible to your bitty babies. $5 per child. TheRabbithOle.org
URL:https://kcparent.com/event/babies-and-books-2/2025-12-03/
LOCATION:Rabbit hOle\, 919 E. 14th Ave.\, North Kansas City\, Missouri\, United States
ATTACH;FMTTYPE=image/webp:https://kcparent.com/wp-content/uploads/2025/08/babies-and-books.webp
END:VEVENT
BEGIN:VEVENT
DTSTART;TZID=America/Denver:20251128T103000
DTEND;TZID=America/Denver:20251128T113000
DTSTAMP:20260420T014636
CREATED:20250730T212518Z
LAST-MODIFIED:20250829T143305Z
UID:10014188-1764325800-1764329400@kcparent.com
SUMMARY:Lucky Rabbit Books Story Hour (Ages 3-7)
DESCRIPTION:Join us for several stories in the Great Green Room followed by a themed craft in the Tons of Fun Room. \nPlease note: \n– Story hour tickets are $5 per child. Adults do not need tickets to accompany their child(ren). \n– Each ticket includes a $5 book voucher to use at Lucky Rabbit Books. \n– Maximum 3 tickets per order. There must be one adult present for every 3 children. \n– All adults must stay with their child(ren) for the duration of story hour and may not leave the site. \n– All purchases are final. Museum admission not included.
URL:https://kcparent.com/event/lucky-rabbit-books-story-hour-ages-3-7-9/2025-11-28/
LOCATION:Rabbit hOle\, 919 E. 14th Ave.\, North Kansas City\, Missouri\, United States
CATEGORIES:Indoor
ATTACH;FMTTYPE=image/jpeg:https://kcparent.com/wp-content/uploads/2025/07/images-1.jpeg
END:VEVENT
BEGIN:VEVENT
DTSTART;TZID=America/Denver:20251128T103000
DTEND;TZID=America/Denver:20251128T111500
DTSTAMP:20260420T014636
CREATED:20250825T141216Z
LAST-MODIFIED:20250827T145111Z
UID:10014105-1764325800-1764328500@kcparent.com
SUMMARY:Story Hour
DESCRIPTION:Books will be read aloud followed by a craft inspired by the week’s featured title. Story hour tickets are $5 per child RabbitHoleKC.org \n 
URL:https://kcparent.com/event/story-hour/2025-11-28/
LOCATION:Rabbit hOle\, 919 E. 14th Ave.\, North Kansas City\, Missouri\, United States
ATTACH;FMTTYPE=image/jpeg:https://kcparent.com/wp-content/uploads/2025/08/rabbithOle.jpg
END:VEVENT
BEGIN:VEVENT
DTSTART;TZID=America/Denver:20251127T101500
DTEND;TZID=America/Denver:20251127T111500
DTSTAMP:20260420T014636
CREATED:20250730T212730Z
LAST-MODIFIED:20250803T234215Z
UID:10006636-1764238500-1764242100@kcparent.com
SUMMARY:Babies and Books
DESCRIPTION:Come listen to a story with your little one\, connect with other parents and guardians\, and learn how you can make books accessible to your bitty babies. Check-in begins at 10:00 and the program begins at 10:15 a.m. \nThis program takes place in the Goodnight Moon Room and participants will be asked to leave the following items outside the room: shoes\, food\, beverages of any kind\, non-medical strollers\, and carseats. \nRecommended for ages 0-3. \nPlease note: \n– Babies and Books tickets are $5 per child. Adults do not need tickets to accompany their child(ren). \n– Each ticket includes a $5 book voucher to use at Lucky Rabbit Books. \n– Maximum 2 tickets per order. There must be one adult present for every 2 children. \n– All adults must stay with their child(ren) for the duration of the programming and may not leave the site. \n– All purchases are final. Museum admission not included.
URL:https://kcparent.com/event/babies-and-books-9/2025-11-27/
LOCATION:Rabbit hOle\, 919 E. 14th Ave.\, North Kansas City\, Missouri\, United States
CATEGORIES:Indoor
ATTACH;FMTTYPE=image/avif:https://kcparent.com/wp-content/uploads/2025/07/BooksBabies.png.avif
END:VEVENT
BEGIN:VEVENT
DTSTART;TZID=America/Denver:20251126T101500
DTEND;TZID=America/Denver:20251126T113000
DTSTAMP:20260420T014636
CREATED:20250825T135036Z
LAST-MODIFIED:20250827T145622Z
UID:10013364-1764152100-1764156600@kcparent.com
SUMMARY:Babies and Books
DESCRIPTION:Come listen to a story with your little one\, connect with other parents and guardians\, and learn how you can make books accessible to your bitty babies. $5 per child. TheRabbithOle.org
URL:https://kcparent.com/event/babies-and-books-2/2025-11-26/
LOCATION:Rabbit hOle\, 919 E. 14th Ave.\, North Kansas City\, Missouri\, United States
ATTACH;FMTTYPE=image/webp:https://kcparent.com/wp-content/uploads/2025/08/babies-and-books.webp
END:VEVENT
BEGIN:VEVENT
DTSTART;TZID=America/Denver:20251121T103000
DTEND;TZID=America/Denver:20251121T113000
DTSTAMP:20260420T014636
CREATED:20250730T212518Z
LAST-MODIFIED:20250829T143305Z
UID:10014187-1763721000-1763724600@kcparent.com
SUMMARY:Lucky Rabbit Books Story Hour (Ages 3-7)
DESCRIPTION:Join us for several stories in the Great Green Room followed by a themed craft in the Tons of Fun Room. \nPlease note: \n– Story hour tickets are $5 per child. Adults do not need tickets to accompany their child(ren). \n– Each ticket includes a $5 book voucher to use at Lucky Rabbit Books. \n– Maximum 3 tickets per order. There must be one adult present for every 3 children. \n– All adults must stay with their child(ren) for the duration of story hour and may not leave the site. \n– All purchases are final. Museum admission not included.
URL:https://kcparent.com/event/lucky-rabbit-books-story-hour-ages-3-7-9/2025-11-21/
LOCATION:Rabbit hOle\, 919 E. 14th Ave.\, North Kansas City\, Missouri\, United States
CATEGORIES:Indoor
ATTACH;FMTTYPE=image/jpeg:https://kcparent.com/wp-content/uploads/2025/07/images-1.jpeg
END:VEVENT
BEGIN:VEVENT
DTSTART;TZID=America/Denver:20251121T103000
DTEND;TZID=America/Denver:20251121T111500
DTSTAMP:20260420T014636
CREATED:20250825T141216Z
LAST-MODIFIED:20250827T145111Z
UID:10014104-1763721000-1763723700@kcparent.com
SUMMARY:Story Hour
DESCRIPTION:Books will be read aloud followed by a craft inspired by the week’s featured title. Story hour tickets are $5 per child RabbitHoleKC.org \n 
URL:https://kcparent.com/event/story-hour/2025-11-21/
LOCATION:Rabbit hOle\, 919 E. 14th Ave.\, North Kansas City\, Missouri\, United States
ATTACH;FMTTYPE=image/jpeg:https://kcparent.com/wp-content/uploads/2025/08/rabbithOle.jpg
END:VEVENT
BEGIN:VEVENT
DTSTART;TZID=America/Denver:20251120T101500
DTEND;TZID=America/Denver:20251120T111500
DTSTAMP:20260420T014636
CREATED:20250730T212730Z
LAST-MODIFIED:20250803T234215Z
UID:10006635-1763633700-1763637300@kcparent.com
SUMMARY:Babies and Books
DESCRIPTION:Come listen to a story with your little one\, connect with other parents and guardians\, and learn how you can make books accessible to your bitty babies. Check-in begins at 10:00 and the program begins at 10:15 a.m. \nThis program takes place in the Goodnight Moon Room and participants will be asked to leave the following items outside the room: shoes\, food\, beverages of any kind\, non-medical strollers\, and carseats. \nRecommended for ages 0-3. \nPlease note: \n– Babies and Books tickets are $5 per child. Adults do not need tickets to accompany their child(ren). \n– Each ticket includes a $5 book voucher to use at Lucky Rabbit Books. \n– Maximum 2 tickets per order. There must be one adult present for every 2 children. \n– All adults must stay with their child(ren) for the duration of the programming and may not leave the site. \n– All purchases are final. Museum admission not included.
URL:https://kcparent.com/event/babies-and-books-9/2025-11-20/
LOCATION:Rabbit hOle\, 919 E. 14th Ave.\, North Kansas City\, Missouri\, United States
CATEGORIES:Indoor
ATTACH;FMTTYPE=image/avif:https://kcparent.com/wp-content/uploads/2025/07/BooksBabies.png.avif
END:VEVENT
BEGIN:VEVENT
DTSTART;TZID=America/Denver:20251119T101500
DTEND;TZID=America/Denver:20251119T113000
DTSTAMP:20260420T014636
CREATED:20250825T135036Z
LAST-MODIFIED:20250827T145622Z
UID:10013363-1763547300-1763551800@kcparent.com
SUMMARY:Babies and Books
DESCRIPTION:Come listen to a story with your little one\, connect with other parents and guardians\, and learn how you can make books accessible to your bitty babies. $5 per child. TheRabbithOle.org
URL:https://kcparent.com/event/babies-and-books-2/2025-11-19/
LOCATION:Rabbit hOle\, 919 E. 14th Ave.\, North Kansas City\, Missouri\, United States
ATTACH;FMTTYPE=image/webp:https://kcparent.com/wp-content/uploads/2025/08/babies-and-books.webp
END:VEVENT
BEGIN:VEVENT
DTSTART;TZID=America/Denver:20251114T103000
DTEND;TZID=America/Denver:20251114T113000
DTSTAMP:20260420T014636
CREATED:20250730T212518Z
LAST-MODIFIED:20250829T143305Z
UID:10014186-1763116200-1763119800@kcparent.com
SUMMARY:Lucky Rabbit Books Story Hour (Ages 3-7)
DESCRIPTION:Join us for several stories in the Great Green Room followed by a themed craft in the Tons of Fun Room. \nPlease note: \n– Story hour tickets are $5 per child. Adults do not need tickets to accompany their child(ren). \n– Each ticket includes a $5 book voucher to use at Lucky Rabbit Books. \n– Maximum 3 tickets per order. There must be one adult present for every 3 children. \n– All adults must stay with their child(ren) for the duration of story hour and may not leave the site. \n– All purchases are final. Museum admission not included.
URL:https://kcparent.com/event/lucky-rabbit-books-story-hour-ages-3-7-9/2025-11-14/
LOCATION:Rabbit hOle\, 919 E. 14th Ave.\, North Kansas City\, Missouri\, United States
CATEGORIES:Indoor
ATTACH;FMTTYPE=image/jpeg:https://kcparent.com/wp-content/uploads/2025/07/images-1.jpeg
END:VEVENT
BEGIN:VEVENT
DTSTART;TZID=America/Denver:20251114T103000
DTEND;TZID=America/Denver:20251114T111500
DTSTAMP:20260420T014636
CREATED:20250825T141216Z
LAST-MODIFIED:20250827T145111Z
UID:10014103-1763116200-1763118900@kcparent.com
SUMMARY:Story Hour
DESCRIPTION:Books will be read aloud followed by a craft inspired by the week’s featured title. Story hour tickets are $5 per child RabbitHoleKC.org \n 
URL:https://kcparent.com/event/story-hour/2025-11-14/
LOCATION:Rabbit hOle\, 919 E. 14th Ave.\, North Kansas City\, Missouri\, United States
ATTACH;FMTTYPE=image/jpeg:https://kcparent.com/wp-content/uploads/2025/08/rabbithOle.jpg
END:VEVENT
BEGIN:VEVENT
DTSTART;TZID=America/Denver:20251113T101500
DTEND;TZID=America/Denver:20251113T111500
DTSTAMP:20260420T014636
CREATED:20250730T212730Z
LAST-MODIFIED:20250803T234215Z
UID:10006634-1763028900-1763032500@kcparent.com
SUMMARY:Babies and Books
DESCRIPTION:Come listen to a story with your little one\, connect with other parents and guardians\, and learn how you can make books accessible to your bitty babies. Check-in begins at 10:00 and the program begins at 10:15 a.m. \nThis program takes place in the Goodnight Moon Room and participants will be asked to leave the following items outside the room: shoes\, food\, beverages of any kind\, non-medical strollers\, and carseats. \nRecommended for ages 0-3. \nPlease note: \n– Babies and Books tickets are $5 per child. Adults do not need tickets to accompany their child(ren). \n– Each ticket includes a $5 book voucher to use at Lucky Rabbit Books. \n– Maximum 2 tickets per order. There must be one adult present for every 2 children. \n– All adults must stay with their child(ren) for the duration of the programming and may not leave the site. \n– All purchases are final. Museum admission not included.
URL:https://kcparent.com/event/babies-and-books-9/2025-11-13/
LOCATION:Rabbit hOle\, 919 E. 14th Ave.\, North Kansas City\, Missouri\, United States
CATEGORIES:Indoor
ATTACH;FMTTYPE=image/avif:https://kcparent.com/wp-content/uploads/2025/07/BooksBabies.png.avif
END:VEVENT
BEGIN:VEVENT
DTSTART;TZID=America/Denver:20251112T101500
DTEND;TZID=America/Denver:20251112T113000
DTSTAMP:20260420T014636
CREATED:20250825T135036Z
LAST-MODIFIED:20250827T145622Z
UID:10013362-1762942500-1762947000@kcparent.com
SUMMARY:Babies and Books
DESCRIPTION:Come listen to a story with your little one\, connect with other parents and guardians\, and learn how you can make books accessible to your bitty babies. $5 per child. TheRabbithOle.org
URL:https://kcparent.com/event/babies-and-books-2/2025-11-12/
LOCATION:Rabbit hOle\, 919 E. 14th Ave.\, North Kansas City\, Missouri\, United States
ATTACH;FMTTYPE=image/webp:https://kcparent.com/wp-content/uploads/2025/08/babies-and-books.webp
END:VEVENT
BEGIN:VEVENT
DTSTART;TZID=America/Denver:20251107T103000
DTEND;TZID=America/Denver:20251107T113000
DTSTAMP:20260420T014636
CREATED:20250730T212518Z
LAST-MODIFIED:20250829T143305Z
UID:10014185-1762511400-1762515000@kcparent.com
SUMMARY:Lucky Rabbit Books Story Hour (Ages 3-7)
DESCRIPTION:Join us for several stories in the Great Green Room followed by a themed craft in the Tons of Fun Room. \nPlease note: \n– Story hour tickets are $5 per child. Adults do not need tickets to accompany their child(ren). \n– Each ticket includes a $5 book voucher to use at Lucky Rabbit Books. \n– Maximum 3 tickets per order. There must be one adult present for every 3 children. \n– All adults must stay with their child(ren) for the duration of story hour and may not leave the site. \n– All purchases are final. Museum admission not included.
URL:https://kcparent.com/event/lucky-rabbit-books-story-hour-ages-3-7-9/2025-11-07/
LOCATION:Rabbit hOle\, 919 E. 14th Ave.\, North Kansas City\, Missouri\, United States
CATEGORIES:Indoor
ATTACH;FMTTYPE=image/jpeg:https://kcparent.com/wp-content/uploads/2025/07/images-1.jpeg
END:VEVENT
BEGIN:VEVENT
DTSTART;TZID=America/Denver:20251107T103000
DTEND;TZID=America/Denver:20251107T111500
DTSTAMP:20260420T014636
CREATED:20250825T141216Z
LAST-MODIFIED:20250827T145111Z
UID:10014102-1762511400-1762514100@kcparent.com
SUMMARY:Story Hour
DESCRIPTION:Books will be read aloud followed by a craft inspired by the week’s featured title. Story hour tickets are $5 per child RabbitHoleKC.org \n 
URL:https://kcparent.com/event/story-hour/2025-11-07/
LOCATION:Rabbit hOle\, 919 E. 14th Ave.\, North Kansas City\, Missouri\, United States
ATTACH;FMTTYPE=image/jpeg:https://kcparent.com/wp-content/uploads/2025/08/rabbithOle.jpg
END:VEVENT
BEGIN:VEVENT
DTSTART;TZID=America/Denver:20251106T101500
DTEND;TZID=America/Denver:20251106T111500
DTSTAMP:20260420T014636
CREATED:20250730T212730Z
LAST-MODIFIED:20250803T234215Z
UID:10006633-1762424100-1762427700@kcparent.com
SUMMARY:Babies and Books
DESCRIPTION:Come listen to a story with your little one\, connect with other parents and guardians\, and learn how you can make books accessible to your bitty babies. Check-in begins at 10:00 and the program begins at 10:15 a.m. \nThis program takes place in the Goodnight Moon Room and participants will be asked to leave the following items outside the room: shoes\, food\, beverages of any kind\, non-medical strollers\, and carseats. \nRecommended for ages 0-3. \nPlease note: \n– Babies and Books tickets are $5 per child. Adults do not need tickets to accompany their child(ren). \n– Each ticket includes a $5 book voucher to use at Lucky Rabbit Books. \n– Maximum 2 tickets per order. There must be one adult present for every 2 children. \n– All adults must stay with their child(ren) for the duration of the programming and may not leave the site. \n– All purchases are final. Museum admission not included.
URL:https://kcparent.com/event/babies-and-books-9/2025-11-06/
LOCATION:Rabbit hOle\, 919 E. 14th Ave.\, North Kansas City\, Missouri\, United States
CATEGORIES:Indoor
ATTACH;FMTTYPE=image/avif:https://kcparent.com/wp-content/uploads/2025/07/BooksBabies.png.avif
END:VEVENT
BEGIN:VEVENT
DTSTART;TZID=America/Denver:20251105T101500
DTEND;TZID=America/Denver:20251105T113000
DTSTAMP:20260420T014636
CREATED:20250825T135036Z
LAST-MODIFIED:20250827T145622Z
UID:10013361-1762337700-1762342200@kcparent.com
SUMMARY:Babies and Books
DESCRIPTION:Come listen to a story with your little one\, connect with other parents and guardians\, and learn how you can make books accessible to your bitty babies. $5 per child. TheRabbithOle.org
URL:https://kcparent.com/event/babies-and-books-2/2025-11-05/
LOCATION:Rabbit hOle\, 919 E. 14th Ave.\, North Kansas City\, Missouri\, United States
ATTACH;FMTTYPE=image/webp:https://kcparent.com/wp-content/uploads/2025/08/babies-and-books.webp
END:VEVENT
BEGIN:VEVENT
DTSTART;TZID=America/Denver:20251031T160000
DTEND;TZID=America/Denver:20251031T180000
DTSTAMP:20260420T014636
CREATED:20250921T235951Z
LAST-MODIFIED:20250921T235951Z
UID:10014921-1761926400-1761933600@kcparent.com
SUMMARY:In a Dark\, Dark\, Grotto- Hare Raising Halloween Fun
DESCRIPTION:A slightly spooky\, extra sweet\, trick-or-treat advenure through the museum! \nFamily fun for ages 3-12. \nStory time\, treats and crafts!
URL:https://kcparent.com/event/in-a-dark-dark-grotto-hare-raising-halloween-fun/
LOCATION:Rabbit hOle\, 919 E. 14th Ave.\, North Kansas City\, Missouri\, United States
ATTACH;FMTTYPE=image/png:https://kcparent.com/wp-content/uploads/2025/09/Screenshot-2025-09-21-at-6.53.24-PM.png
END:VEVENT
BEGIN:VEVENT
DTSTART;TZID=America/Denver:20251031T103000
DTEND;TZID=America/Denver:20251031T113000
DTSTAMP:20260420T014636
CREATED:20250730T212518Z
LAST-MODIFIED:20250829T143305Z
UID:10014184-1761906600-1761910200@kcparent.com
SUMMARY:Lucky Rabbit Books Story Hour (Ages 3-7)
DESCRIPTION:Join us for several stories in the Great Green Room followed by a themed craft in the Tons of Fun Room. \nPlease note: \n– Story hour tickets are $5 per child. Adults do not need tickets to accompany their child(ren). \n– Each ticket includes a $5 book voucher to use at Lucky Rabbit Books. \n– Maximum 3 tickets per order. There must be one adult present for every 3 children. \n– All adults must stay with their child(ren) for the duration of story hour and may not leave the site. \n– All purchases are final. Museum admission not included.
URL:https://kcparent.com/event/lucky-rabbit-books-story-hour-ages-3-7-9/2025-10-31/
LOCATION:Rabbit hOle\, 919 E. 14th Ave.\, North Kansas City\, Missouri\, United States
CATEGORIES:Indoor
ATTACH;FMTTYPE=image/jpeg:https://kcparent.com/wp-content/uploads/2025/07/images-1.jpeg
END:VEVENT
BEGIN:VEVENT
DTSTART;TZID=America/Denver:20251031T103000
DTEND;TZID=America/Denver:20251031T111500
DTSTAMP:20260420T014636
CREATED:20250825T141216Z
LAST-MODIFIED:20250827T145111Z
UID:10014101-1761906600-1761909300@kcparent.com
SUMMARY:Story Hour
DESCRIPTION:Books will be read aloud followed by a craft inspired by the week’s featured title. Story hour tickets are $5 per child RabbitHoleKC.org \n 
URL:https://kcparent.com/event/story-hour/2025-10-31/
LOCATION:Rabbit hOle\, 919 E. 14th Ave.\, North Kansas City\, Missouri\, United States
ATTACH;FMTTYPE=image/jpeg:https://kcparent.com/wp-content/uploads/2025/08/rabbithOle.jpg
END:VEVENT
BEGIN:VEVENT
DTSTART;TZID=America/Denver:20251031T080000
DTEND;TZID=America/Denver:20251031T170000
DTSTAMP:20260420T014636
CREATED:20251015T135539Z
LAST-MODIFIED:20251015T135539Z
UID:10015285-1761897600-1761930000@kcparent.com
SUMMARY:Halloween Story Hour With Mr. Stinky Feet @ Rabbit Hole
DESCRIPTION:Friday\, October 31 join us for a special story hour for ages 3-7 featuring a read-aloud of Jim “Mr. Stinky Feet” Cosgrove’s newest book\, The Hiccup Pickup’s Happy Halloween\, followed by a musical performance and Halloween craft. \nTickets and more info at rabbitholeckc.org/programs
URL:https://kcparent.com/event/halloween-story-hour-with-mr-stinky-feet-rabbit-hole/
LOCATION:Rabbit hOle\, 919 E. 14th Ave.\, North Kansas City\, Missouri\, United States
ATTACH;FMTTYPE=image/png:https://kcparent.com/wp-content/uploads/2025/10/Screenshot-2025-10-15-at-8.53.29-AM.png
END:VEVENT
BEGIN:VEVENT
DTSTART;TZID=America/Denver:20251030T101500
DTEND;TZID=America/Denver:20251030T111500
DTSTAMP:20260420T014636
CREATED:20250730T212730Z
LAST-MODIFIED:20250803T234215Z
UID:10006632-1761819300-1761822900@kcparent.com
SUMMARY:Babies and Books
DESCRIPTION:Come listen to a story with your little one\, connect with other parents and guardians\, and learn how you can make books accessible to your bitty babies. Check-in begins at 10:00 and the program begins at 10:15 a.m. \nThis program takes place in the Goodnight Moon Room and participants will be asked to leave the following items outside the room: shoes\, food\, beverages of any kind\, non-medical strollers\, and carseats. \nRecommended for ages 0-3. \nPlease note: \n– Babies and Books tickets are $5 per child. Adults do not need tickets to accompany their child(ren). \n– Each ticket includes a $5 book voucher to use at Lucky Rabbit Books. \n– Maximum 2 tickets per order. There must be one adult present for every 2 children. \n– All adults must stay with their child(ren) for the duration of the programming and may not leave the site. \n– All purchases are final. Museum admission not included.
URL:https://kcparent.com/event/babies-and-books-9/2025-10-30/
LOCATION:Rabbit hOle\, 919 E. 14th Ave.\, North Kansas City\, Missouri\, United States
CATEGORIES:Indoor
ATTACH;FMTTYPE=image/avif:https://kcparent.com/wp-content/uploads/2025/07/BooksBabies.png.avif
END:VEVENT
BEGIN:VEVENT
DTSTART;TZID=America/Denver:20251029T101500
DTEND;TZID=America/Denver:20251029T113000
DTSTAMP:20260420T014636
CREATED:20250825T135036Z
LAST-MODIFIED:20250827T145622Z
UID:10013360-1761732900-1761737400@kcparent.com
SUMMARY:Babies and Books
DESCRIPTION:Come listen to a story with your little one\, connect with other parents and guardians\, and learn how you can make books accessible to your bitty babies. $5 per child. TheRabbithOle.org
URL:https://kcparent.com/event/babies-and-books-2/2025-10-29/
LOCATION:Rabbit hOle\, 919 E. 14th Ave.\, North Kansas City\, Missouri\, United States
ATTACH;FMTTYPE=image/webp:https://kcparent.com/wp-content/uploads/2025/08/babies-and-books.webp
END:VEVENT
BEGIN:VEVENT
DTSTART;TZID=America/Denver:20251024T103000
DTEND;TZID=America/Denver:20251024T113000
DTSTAMP:20260420T014636
CREATED:20250730T212518Z
LAST-MODIFIED:20250829T143305Z
UID:10014183-1761301800-1761305400@kcparent.com
SUMMARY:Lucky Rabbit Books Story Hour (Ages 3-7)
DESCRIPTION:Join us for several stories in the Great Green Room followed by a themed craft in the Tons of Fun Room. \nPlease note: \n– Story hour tickets are $5 per child. Adults do not need tickets to accompany their child(ren). \n– Each ticket includes a $5 book voucher to use at Lucky Rabbit Books. \n– Maximum 3 tickets per order. There must be one adult present for every 3 children. \n– All adults must stay with their child(ren) for the duration of story hour and may not leave the site. \n– All purchases are final. Museum admission not included.
URL:https://kcparent.com/event/lucky-rabbit-books-story-hour-ages-3-7-9/2025-10-24/
LOCATION:Rabbit hOle\, 919 E. 14th Ave.\, North Kansas City\, Missouri\, United States
CATEGORIES:Indoor
ATTACH;FMTTYPE=image/jpeg:https://kcparent.com/wp-content/uploads/2025/07/images-1.jpeg
END:VEVENT
BEGIN:VEVENT
DTSTART;TZID=America/Denver:20251024T103000
DTEND;TZID=America/Denver:20251024T111500
DTSTAMP:20260420T014636
CREATED:20250825T141216Z
LAST-MODIFIED:20250827T145111Z
UID:10014100-1761301800-1761304500@kcparent.com
SUMMARY:Story Hour
DESCRIPTION:Books will be read aloud followed by a craft inspired by the week’s featured title. Story hour tickets are $5 per child RabbitHoleKC.org \n 
URL:https://kcparent.com/event/story-hour/2025-10-24/
LOCATION:Rabbit hOle\, 919 E. 14th Ave.\, North Kansas City\, Missouri\, United States
ATTACH;FMTTYPE=image/jpeg:https://kcparent.com/wp-content/uploads/2025/08/rabbithOle.jpg
END:VEVENT
END:VCALENDAR