BEGIN:VCALENDAR
VERSION:2.0
PRODID:-//KC Parent - ECPv6.15.18//NONSGML v1.0//EN
CALSCALE:GREGORIAN
METHOD:PUBLISH
X-WR-CALNAME:KC Parent
X-ORIGINAL-URL:https://kcparent.com
X-WR-CALDESC:Events for KC Parent
REFRESH-INTERVAL;VALUE=DURATION:PT1H
X-Robots-Tag:noindex
X-PUBLISHED-TTL:PT1H
BEGIN:VTIMEZONE
TZID:America/Denver
BEGIN:DAYLIGHT
TZOFFSETFROM:-0700
TZOFFSETTO:-0600
TZNAME:MDT
DTSTART:20250309T090000
END:DAYLIGHT
BEGIN:STANDARD
TZOFFSETFROM:-0600
TZOFFSETTO:-0700
TZNAME:MST
DTSTART:20251102T080000
END:STANDARD
BEGIN:DAYLIGHT
TZOFFSETFROM:-0700
TZOFFSETTO:-0600
TZNAME:MDT
DTSTART:20260308T090000
END:DAYLIGHT
BEGIN:STANDARD
TZOFFSETFROM:-0600
TZOFFSETTO:-0700
TZNAME:MST
DTSTART:20261101T080000
END:STANDARD
BEGIN:DAYLIGHT
TZOFFSETFROM:-0700
TZOFFSETTO:-0600
TZNAME:MDT
DTSTART:20270314T090000
END:DAYLIGHT
BEGIN:STANDARD
TZOFFSETFROM:-0600
TZOFFSETTO:-0700
TZNAME:MST
DTSTART:20271107T080000
END:STANDARD
END:VTIMEZONE
BEGIN:VEVENT
DTSTART;TZID=America/Denver:20260424T180000
DTEND;TZID=America/Denver:20260424T210000
DTSTAMP:20260423T025035
CREATED:20260417T182415Z
LAST-MODIFIED:20260417T182415Z
UID:10025197-1777053600-1777064400@kcparent.com
SUMMARY:Kids Night Out
DESCRIPTION:Discover Kids Night Out on April 24\, 6:00pm to 9:00pm\, at the Shawnee Civic Centre! Pizza\, games\, and a movie await kids aged 5-12. Lock in the fun for $15 per person (price increases to $25 on April 22). This event fills up\, secure your spot online or over the phone at 913.631.5200. \nOnline Registration: https://ksshawneeweb.myvscloud.com/webtrac/web/search.html?Module=ar&primarycode=289101
URL:https://kcparent.com/event/kids-night-out/
LOCATION:Shawnee Civic Centre\, 13817 Johnson Drive\, City of Shawnee\, Kansas\, United States
ATTACH;FMTTYPE=image/png:https://kcparent.com/wp-content/uploads/2026/04/Screenshot-2026-04-17-at-1.23.52-PM.png
END:VEVENT
END:VCALENDAR